Workbook
Name Aromatik_bitkiler: 'Crop List'!$C$139:$C$311
Name Çay: 'Crop List'!$C$319
Name Çiçek: 'Crop List'!$C$6:$C$13
Name Farm: 'Hidden Lists'!$P$3:$P$4
Name Kabuklu_yemiş: 'Crop List'!$C$312:$C$318
Name Kahve: 'Crop List'!$C$4:$C$5
Name Kakao: 'Crop List'!$C$3
Name Meyve: 'Crop List'!$C$14:$C$138
Name Sebze: 'Crop List'!$C$320:$C$371
Name SupplyChain: 'Hidden Lists'!$P$6:$P$7

Sheet Kapak sayfası
A1: Resmi Şablon
A2: Sertifikasyon Başvuru Formu (CAF) - Tedarik Zinciri Sertifikasyonu
A3: Versiyon | B3: =L14 -> 1.1
F4: Çeviri Konusunda Sorumluluk Reddi
F5: Çeviride yer alan bilgilerin tam anlamlarına ilişkin herhangi bir sorunuz olduğunda netleştirmek için lütfen resmi İngilizce versiyona başvurun. Çeviriden kaynaklanan uyuşmazlıklar veya anlam farkları bağlayıcı değildir ve denetim veya sertifikasyon açısından herhangi bir etkisi yoktur.
F9: Daha fazla bilgi edinmek mi istiyorsunuz?
F10: Rainforest Alliance hakkında daha fazla bilgi edinmek için, www.rainforest-alliance.org sitesine bakın veya info@ra.org adresiyle iletişime geçin
F13: Döküman Adı: | J13: Döküman Kodu: | L13: Versiyon:
F14: =A2 -> Sertifikasyon Başvuru Formu (CAF) - Tedarik Zinciri Sertifikasyonu | J14: SA-F-GA-5-V1.1-TR | L14: 1.1
F15: İlk yayın tarihi: | H15: Revizyon tarihi: | J15: Dökümanın geçerliliğinin başladığı tarih: | L15: Dökümanın geçerliliğinin sona erdiği tarih:
F16: 7 Haziran 2021 | H16: 21 Temmuz 2021 | J16: 1 Temmuz 2021 | L16: Bildirilinceye kadar
F17: Geliştiren: | J17: Onaylayan:
F18: Rainforest Alliance Standartlar ve Güvence Departmanı | J18: Kıdemli Müdür, Standartlar ve Güvence
F19: Bağlantılı olduğu dökümanlar:
F20: SA-S-SD-2-V1.1 Rainforest Alliance 2020 Sürdürülebilir Tarım Standardı, Tedarik Zinciri Gereklilikleri SA-R-GA-1-V1.1 Rainforest Alliance 2020 Sertifikasyon ve Denetim Kuralları
F22: Yerini aldığı dökümanlar:
F23: Geçerli değil
F24: Aşağıdakilere uygulanır:
F25: Tedarik Zinciri Sertifika Sahipleri ve Sertifikasyon Kuruluşları
F26: Ülke/Bölge:
F27: Hepsi
F28: Ürün: | J28: Sertifikasyon Türü:
A29: © 2021 Rainforest Alliance. Bütün hakları saklıdır. | F29: Rainforest Alliance sertifikasyon sistemi kapsamındaki bütün ürünler; bkz. Sertifikasyon Kuralları. | J29: Bireysel ve Çoklu İşletme sertifikasyon seçenekleri
A31: =J14 -> SA-F-GA-5-V1.1-TR
F32: Bu içeriğin, Rainforest Alliance'ın önceden yazılı izni alınmadan çoğaltılması, değiştirilmesi, dağıtılması veya yeniden yayınlanması dahil herhangi bir şekilde kullanılması kesinlikle yasaktır.

Sheet Kılavuz
A1: Kılavuz
A2: Bu şablonun kullanımı | F2: Sertifikasyon Başvuru Formu (CAF), bütün sertifikasyon süreçlerinin tutarlılık, güvenilirlik ve şeffaflık seviyesini arttırmak için Rainforest Alliance tarafından sağlanan resmi bir şablondur. Bu şablon bütün CH'ler ve CB'ler için zorunludur ve Sertifikasyon ve Denetim Kurallarının bütün ilgili ve bağlayıcı gerekliliklerine dayanmaktadır. Belirli bir ülke/kapsam için geçerliyse, ilgili sekmelerdeki bilgilerin tamamı zorunludur. Bu dökümandaki bütün sekmeler zorunludur ve ayrıca, iç RA süreçlerini tamamlamak ve/veya yapılandırmak için referansa ihtiyaç duyduğu durumlarda Rainforest Alliance, CB'lerin takdir yetkisine bağlı olarak kullanılacak bir dizi kılavuz döküman şablonu sağlar.
F5: Tedarik Zinciri Sertifika Sahipleri, yalnızca kırmızı sekmede (1) istenen bilgileri doldurmalı ve bu bilgileri kendileriyle ilgili Sertifikasyon Kuruluşuna göndermelidir. Başvuru formunu doldurduktan sonra, bilgi toplamak ve sağlamak için tekrardan uğraşmadan uygun gördükleri kadar çok sayıda Sertifikasyon Kuruluşundan fiyat teklifi talep edebilirler. | M5: Adım 1: Başvuru Formunu Doldurun
F7: Sertifikasyon Kuruluşları, bu dökümanı Sertifika Sahibinden (başvuru sahiplerinden de) alır ve aynı dosyada denetim planlama ve yürütme faaliyetlerini yürütür. Bu, Kalite Denetçileri (teknik inceleme) ve Rainforest Alliance için bilgilerin merkezileştirilmesine yardımcı olur. Yeşil sekmeler (2, 2a ve 2b) denetimin planlama aşamasıyla, mavi sekmeler (3) ise denetimin raporlama aşamasıyla ilgilidir. Lütfen denetim bulguları kontrol listesinin doğrudan Rainforest Alliance Sertifikasyon Platformunda sağlandığını unutmayın. | M7: Adım 1: Planlama aşamanızı 2, 2a ve 2b sekmelerinde hazırlayın
M8: Adım 2: Denetim özeti bilgilerini sekme 3'te bildirin.

Sheet 1.Başvuru Formu
A1: Sertifikasyon Kuralları Madde 1.4.25 | K1: =CONCATENATE('Hidden Lists'!C21," ",'Hidden Lists'!C22) -> Versiyon 1.1, Temmuz 2021
A2: Sertifikasyon Başvuru Formu (CAF)
A3: Tedarik Zinciri Sertifika Sahipleri ve Başvuru Sahipleri için Tekli işletme ve çoklu işletme sertifikasyonu
A4: Sürdürülebilir Tarım Standardı 2020 v1.1
A5: Aşağıdaki form, Başvuru Sahibi/Sertifika Sahibi tarafından Rainforest Alliance Sertifikasyon Platformu'na kayıt işlemleri sırasında verilen önemli bilgilerin bir özetidir. Denetim kapsamını, planlamasını, süresini ve raporlamayı belirlemek için kritik öneme sahip bilgileri özetler. Sertifika Sahibi, Hüküm ve Şartları kabul ederek, forma girdiği verilerin doğru olduğunu onaylar ve denetimde tespit edilen verilerdeki tutarsızlıkların, örneklerin ve denetim süresinin ve/veya kapsamının potansiyel olarak artmasına yol açacağını onaylar. Sertifikasyon Kuruluşu, aşağıdaki bilgileri yılda bir kez verilen Sertifika ve Rainforest Alliance Sertifikasyon Platformu ile eşleştirmekten sorumludur.
A7: A. Genel Bilgiler
A8: Rainforest Alliance sertifikasyonuna başvurmak istiyorsanız, lütfen operasyonunuz ve irtibat kişileriniz hakkında genel bilgileri vermeye başlayın.
A9: Kuruluşun Resmi Unvanı | G9: Kuruluşun Ulusal Kimlik Numarası:
A10: İşletmenin Tescilli İsmi/Ticaret Unvanı | G10: Sertifikadaki Adı:
A11: Ana Kuruluş (varsa): | G11: Ana Kurul. Ulusal Kimlik Numarası: (varsa)
A13: Ziyaret Adresi: | F13: Şehir: | H13: Bölge/İl:
F14: Posta Kodu: | H14: Ülke:
A16: Fatura Adresi: | F16: Şehir: | H16: Bölge/İl:
F17: Posta Kodu: | H17: Ülke:
A19: Yasal Anlaşmaları İmzalayan Arazi Sahibi veya Yasal Temsilcisi | G19: Sertifikasyon Uygulayıcısı
A20: Adı: | C20: Soyadı: | G20: Adı: | I20: Soyadı:
A21: Ulusal Kimlik Numarası: | G21: Ulusal Kimlik Numarası:
A22: Telefon: | C22: Cep Telefonu: | G22: Telefon: | I22: Cep Telefonu:
A23: İş Unvanı: | C23: E-posta: | G23: İş Unvanı: | I23: E-posta:
A25: İzlenebilirlik Platformu Sorumlusu | G25: Faturalama İrtibat Kişisi
A26: Adı: | C26: Soyadı: | G26: Adı: | I26: Soyadı:
A27: Ulusal Kimlik Numarası: | G27: Ulusal Kimlik Numarası:
A28: Telefon: | C28: Cep Telefonu: | G28: Telefon: | I28: Cep Telefonu:
A29: İş Unvanı: | C29: E-posta: | G29: İş Unvanı: | I29: E-posta:
A32: B. Sertifikasyon Kapsamı Bilgileri
A33: Lütfen sertifikalandırmak istediğiniz ürünler de dahil olmak üzere sertifikasyonunuzun kapsamıyla ilgili bilgileri aşağıya girin. Lütfen ana ürünün teslim edilme zamanının denetimin gerçekleşeceği zaman aralığını belirleyeceğini unutmayın.
A35: Başvuru Tarihi: | C35: Döngüdeki Yıl Sayısı
A36: Özel Kimlik Numarası: | C36: Denetim Türü | H36: Kategori | I36: Ürün Adı | J36: İzlenebilirlik Seviyesi:
A37: Kapsam | B37: Tedarik Zinciri | C37: Seçenek | G37: Ana Ürün
A38: =IFERROR(VLOOKUP(D37,'Hidden Lists'!P3:Q7,2,FALSE)," ") | G38: İkinci Ürün
G39: Üçüncü Ürün
G40: Dördüncü Ürün
A41: En Yüksek Doğrulama Seviyesi
I42: Sayı
G43: Sert. Ürünlerdeki Alt Yüklenicilerin Sayısı
A44: Önceki UTZ Kimlik Numarası/RA Sertifika Kodu (sadece geçiş dönemi denetimi yapılması durumunda): Hücre başına bir tane olmak üzere gerektiği kadar doldurun | G44: Sert. Ürünlerdeki Aracıların Sayısı
G45: Sert.Ürünlerdeki Hizmet Sağlayıcıların Sayısı
G46: Sert. Ürünlerdeki Tarım İş Aracılarının Sayısı
G47: Satın Alma/Satış Merkezlerinin Sayısı
A49: Lütfen sahip olduğunuz diğer sertifikasyon programlarını burada sıralayın. Lütfen hücre başına bir tane olmak üzere belirtin | G49: Sertifikalı ürünün fiilen teslim alındığı ilk tarih | J49: Denetiminiz aşağıdaki tarihler arasında gerçekleşmelidir:
J50: =I49-90 -> -90 | K50: =I49+90 -> 90
A53: C. İşletmenin Tanımlanması
A54: Sertifikasyon kapsamına dahil etmek istediğiniz her işletme için gerekli bilgileri aşağıda belirtin. Sertifikada gösterilmek üzere bütün işletmelerin de İzlenebilirlik Platformu'na eklenmesi gerektiğini unutmayın. Mavi hücreler tesisleri gösterir. Lütfen işletmedeki makine sayısından ziyade "yapıları ve/veya binaları" dahil edin.
A55: İşletme Adı | B55: İşletmenin Ulusal Kimlik Numarası | C55: Şehir/Bölge | D55: İşletmenin Doğrulama Seviyesi (A'dan E'ye kadar) | E55: İşletmenin İzlenebilirlik Seviyesi | F55: Kurutma Tesislerinin Sayısı | G55: Depolama tesislerinin sayısı | H55: Öğütme/Yıkama İstasyonu tesislerinin sayısı | I55: Ambalajlama/veya bitmiş ürünler için paketleme tesisi sayısı + diğer işleme tesisleri
A73: =SUBTOTAL(103,FarmIDApp[İşletme Adı]) -> 0 | F73: =SUBTOTAL(109,FarmIDApp[[Kurutma Tesislerinin Sayısı ]]) -> 0 | G73: =SUBTOTAL(109,FarmIDApp[Depolama tesislerinin sayısı]) -> 0 | H73: =SUBTOTAL(109,FarmIDApp[Öğütme/Yıkama İstasyonu tesislerinin sayısı]) -> 0 | I73: =SUBTOTAL(109,FarmIDApp[Ambalajlama/veya bitmiş ürünler için paketleme tesisi sayısı + diğer işleme tesisleri]) -> 0
A76: D. İşgücü Yapısıyla İlgili Ayrıntılar
A77: Önemli: Bu bölüm yalnızca sosyal gerekliliklerin kuruluşunuz için geçerli olması durumunda geçerlidir. Sertifikasyon kapsamına dahil etmek istediğiniz her işletme için gerekli bilgileri aşağıda belirtin. Sertifikada gösterilmek üzere bütün işletmelerin de İzlenebilirlik Platformu'na eklenmesi gerektiğini unutmayın.
A78: İşletme Adı | B78: Daimi Erkek İşçiler | C78: Daimi Kadın İşçiler | D78: Geçici Erkek İşçiler | E78: Geçici Kadın İşçiler | F78: Göçmen Erkek İşçiler | G78: Göçmen Kadın İşçiler | H78: 18 Yaşın Altındaki İşçiler | I78: Sendikalı İşçiler | J78: Sendikaların Adları | K78: İşçilere sağlanan evlerin sayısı | L78: İşletmede yaşayan işçiler
A79: =A56 -> 0
A80: =A57 -> 0
A81: =A58 -> 0
A82: =A59 -> 0
A83: =A60 -> 0
A84: =A61 -> 0
A85: =A62 -> 0
A86: =A63 -> 0
A87: =A64 -> 0
A88: =A65 -> 0
A89: =A66 -> 0
A90: =A67 -> 0
... A95: =A72 -> 0
B96: =SUM(B79:B95) -> 0 | C96: =SUM(C79:C95) -> 0 | D96: =SUM(D79:D95) -> 0 | E96: =SUM(E79:E95) -> 0 | F96: =SUM(F79:F95) -> 0 | G96: =SUM(G79:G95) -> 0 | H96: =SUM(H79:H95) -> 0 | I96: =SUM(I79:I95) -> 0 | ... L96: =SUM(L79:L95) -> 0
A99: E. Komisyonların Yapısına ilişkin Detaylar
A100: Önemli: Bu bölüm yalnızca sosyal gerekliliklerin kuruluşunuz için geçerli olması durumunda geçerlidir. Lütfen Şikayet mekanizması, Toplumsal Cinsiyet ve Değerlendirme ve Yönlendirme komisyonlarından sorumlu kişileri veya komisyon üyelerini aşağıda belirtin.
A102: Şikayet Mekanizması Komisyonu/Yetkilisi
A103: Toplumsal Cinsiyet Komisyonu/Yetkilisi
A104: Değerlendirme ve Yönlendirme Komisyonu/Yetkilisi
A106: F. Bilgi Özeti
A107: Bu bölümün doldurulması amaçlanmamıştır. Bölüm, yalnızca yukarıda verilen önemli verilerin bir özetidir. Sertifikasyon başvurunuzun temel bilgilerini aşağıda onaylayın. Bilgilerin doğru olmaması durumunda, lütfen girilen verileri gözden geçirin.
B109: RACP'de Kapsam onayı tarihi | G109: Başvuru yoluyla CB'ye iletilecek dökümanlar
B110: Merkezi İşleme İşletmesi | D110: =A56 -> 0 | G110: Döküman | I110: Nerede | J110: Gereklilik | K110: Kontrol
B111: Toplam İşleme İşletmeleri | D111: =FarmIDApp[[#Totals],[İşletme Adı]] -> 0 | G111: a. Onaylanmış Sertifikasyon Kapsamı | I111: RACP ve CAF'ta | J111: Geçerli değil
G112: b. Öz değerlendirme | I112: RACP ve posta | J112: 1.4.2
A113: Sosyal Konular | B113: Toplam Daimi İşçi | D113: =SUM(B96:C96) -> 0 | G113: c. İlgili gereklilikler kontrol listesi | I113: E-posta | J113: Geçerli değil
B114: Toplam Geçici İşçi | D114: =SUM(D96:E96) -> 0 | E114: =SUM(D113:D115)+D115 -> 0 | G114: d. En son denetim raporu ve işlem kayıtları | I114: E-posta | J114: Varsa
B115: Toplam Göçmen İşçi | D115: =SUM(F96:G96) -> 0
B116: Daimi işçilerde e/k oranı | D116: =IFERROR(FarmIDWorkers[[#Totals],[Daimi Erkek İşçiler]]/FarmIDWorkers[[#Totals],[Daimi Kadın İşçiler]],0) -> 0
B117: Geçici işçilerde e/k oranı | D117: =IFERROR(FarmIDWorkers[[#Totals],[Geçici Erkek İşçiler]]/FarmIDWorkers[[#Totals],[Geçici Kadın İşçiler]],0) -> 0 | G117: Diğer bütün dökümanlar, doğrulama için denetim sırasında sunulabilir.
B118: Çalışan/yaşayan çocuklar | D118: =L96 -> 0 | I118: =IFERROR(VLOOKUP(G118,'Hidden Lists'!#REF!,4,FALSE),"") | J118: =IFERROR(VLOOKUP(G118,'Hidden Lists'!#REF!,5,FALSE),"")
B119: Bir ev tahsis edilmiş işçilerin yüzdesi | D119: =IFERROR(FarmIDWorkers[[#Totals],[İşletmede yaşayan işçiler]]/FarmIDWorkers[[#Totals],[Daimi Kadın İşçiler]],0) -> 0 | I119: =IFERROR(VLOOKUP(G119,'Hidden Lists'!#REF!,4,FALSE),"") | J119: =IFERROR(VLOOKUP(G119,'Hidden Lists'!#REF!,5,FALSE),"")
I120: =IFERROR(VLOOKUP(G120,'Hidden Lists'!#REF!,4,FALSE),"") | J120: =IFERROR(VLOOKUP(G120,'Hidden Lists'!#REF!,5,FALSE),"")
A122: H. Onay
A123: Sertifika Sahibi, bilgilerin güvenilir ve eksiksiz olduğunu, Standart hakkında bilgi sahibi olduğunu ve Standarda uyacağını beyan eder. Bu döküman, CB ve CH arasındaki Sertifikasyon Anlaşması/Sözleşmesi yerine geçmez ve aşağıdaki bölüm Kayıt/Hazırlık aşaması için RA programının temel maddelerini vurgulamayı amaçlar. Döküman, Sertifika Sahibi'nin yasal sorumlusu tarafından imzalanmalıdır. Dijital imzalar kabul edilmektedir.
A124: H1. SERTİFİKA SAHİBİ, bu başvuruda verilen bilgilerin bilgisi dahilinde, doğru ve eksiksiz olduğunu onaylar. H2. SERTİFİKA SAHİBİ, sertifika verildiği takdirde, bu başvuruda yer alan verilerin Rainforest Alliance tarafından bildirilmesine izin verir. H3. SERTİFİKA SAHİBİ, Rainforest Alliance sertifikasyon programının geçerli kapsamlarının bağlayıcı dökümanlarının mevcut versiyonunu okuyup anlamıştır. H4. SERTİFİKA SAHİBİ sertifikasyon gerekliliklerini okuyup anlamıştır ve SERTİFİKA SAHİBİ bunlara uymayı taahhüt etmiştir. H5. SERTİFİKA SAHİBİ, verilen fiyat tekliflerinin veya sözleşmelerin düzeltilmesine yönelik sağlanan bilgilerdeki herhangi bir değişikliği SERTİFİKASYON KURULUŞUNA bildirmeyi taahhüt eder. H6. SERTİFİKA SAHİBİ, SERTİFİKASYON KURULUŞU ve/veya RAINFOREST ALLIANCE tarafından oluşturulan Rainforest Alliance Sertifikasyonu ile ilgili bütün geçerli ücretleri ödemeyi taahhüt eder. H7. SERTİFİKA SAHİBİ, herhangi bir sınırlama olmaksızın, SERTİFİKASYON KURULUŞU'NUN bu başvurunun işleme konmasına ilişkin kararını kabul eder. H8. SERTİFİKA SAHİBİ, hakkında, konusu Sürdürülebilir Tarım Standardı kapsamına giren hukuki davalar bulunmadığını beyan eder. SERTİFİKA SAHİBİ hakkında bu gibi davalar görülmekteyse, SERTİFİKA SAHİBİ, bu gibi davalara ilişkin bilgileri bu form uyarınca bu başvuru kapsamında SERTİFİKASYON KURULUŞU'NA beyan etmeyi kabul eder.
D129: ______________________________________
D130: Sertifika Sahibi
D131: =CONCATENATE(B20," ",D20)
E132: Başvuru Tarihi: | F132: =B35 -> 0
A134: I. Yalnızca CB tarafından kullanılmak için
A135: Başvurunun durumunu (onaylandı/reddedildi), onay tarihini (onaylanmışsa) ve Sözleşme Anlaşmasının imza tarihini belirtin. Döküman, Sertifika Sahibi'nin yasal sorumlusu tarafından imzalanmalıdır. Dijital imzalar kabul edilmektedir.
E136: Verilen bilgiler başvuruyu kabul etmek için yeterli mi?
E137: CB'nin sertifikasyon hizmetlerini yürütmeye dair kapasitesi var mı?
D138: Durum
D139: CB'nin başvuruyu onaylama tarihi
E140: Sözleşme İmza Tarihi:

Sheet 2.Denetim Planı
E1: ='1.Başvuru Formu'!K1 -> Versiyon 1.1, Temmuz 2021
A2: Denetim Planı
A3: ='1.Başvuru Formu'!A3:K3 -> Tedarik Zinciri Sertifika Sahipleri ve Başvuru Sahipleri için Tekli işletme ve çoklu işletme sertifikasyonu
A4: ='1.Başvuru Formu'!A4:K4 -> Sürdürülebilir Tarım Standardı 2020 v1.1
A6: A. CH ve İrtibat Kişisinin Belirlenmesi
A7: Lütfen denetlenecek Sertifika Sahibi hakkında aşağıdaki hızlı erişim bilgilerine bakın.
A8: Sertifika Sahibinin Adı (sertifikada belirtildiği gibi): | C8: ='1.Başvuru Formu'!H10 -> 0
A9: Sertifika Sahibinin yasal adı: | C9: ='1.Başvuru Formu'!C9 -> 0
A11: İşletmenin adresi | B11: ='1.Başvuru Formu'!C13 -> 0
A12: Bölge/İl: | B12: ='1.Başvuru Formu'!I13 -> 0 | C12: Şehir: | D12: ='1.Başvuru Formu'!G13 -> 0
A13: Ülke: | B13: ='1.Başvuru Formu'!I14 -> 0
A15: İrtibat kişisinin adı: | B15: ='1.Başvuru Formu'!H20 -> 0
A16: Telefon: | B16: ='1.Başvuru Formu'!H22 -> 0 | C16: E-posta: | D16: ='1.Başvuru Formu'!J23 -> 0
A18: Bu başvurunun Baş Denetçi ile paylaşıldığı tarih
A20: B. Denetim Kapsamının Belirlenmesi
A21: Denetimin kapsamına ilişkin olarak istenen bilgileri aşağıda belirtin. Sertifikasyon Kuralları maddeleri 1.1.9 ve 1.1.0'a göre, bölüm 1'deki geçerli standart gerekliliklerinin kapsamı, CH'nin sertifikasyon kapsamına dahil olan bütün oluşumların (işletmeler, alt yükleniciler vb.) bütün operasyonları ve alanlarını kapsayacaktır. Ayrıca 5. ve 6. bölümler için bu durum ancak yalnızca CH'nin faaliyetleri kapsamında olmaları durumunda geçerli olacaktır. Bölüm 2 ve 3'teki geçerli standart gerekliliklerin kapsamı, ürüne ve Rainforest Alliance sertifikalı beyanıyla satılacak ürünle ilgili faaliyetlere odaklanacaktır.
A23: Denetim planının tarihi | D23: Standart Versiyon: | E23: v.1.1 2020
A24: Denetim Kapsamı: | B24: ='1.Başvuru Formu'!B37 -> Tedarik Zinciri | D24: Geçerli Gereklilikler
A25: Denetim Türü | D25: ='Hidden Lists'!C3 -> Temel Gereklilikler
D26: ='Hidden Lists'!C4 -> Zorunlu Geliştirmeler
A27: Ürünler: | D27: ='Hidden Lists'!C5 -> Seçmeli Geliştirmeler
A28: ='1.Başvuru Formu'!I37 -> 0 | D28: ='Hidden Lists'!C6 -> Zorunlu Akıllı Ölçümler
A29: ='1.Başvuru Formu'!I38 -> 0 | D29: ='Hidden Lists'!C7 -> Seçmeli Akıllı Ölçümler
A30: ='1.Başvuru Formu'!I39 -> 0
A31: ='1.Başvuru Formu'!I40 -> 0 | D31: Kullanılması planlanan yöntem
D32: Bu, birleşik bir denetim mi?
D33: Hangi programlarla?
A35: Denetim Amaçları
A37: C. Denetim Ekibinin Belirlenmesi
A38: Lütfen denetim ekibinin yapısını aşağıda belirtin. Denetim ekibini belirlemek için denetim ekibinin yapısına ilişkin Denetim Kuralları'nı dikkate alın.
A39: Adı: | D39: Rolü:
A40: Cinsiyet | D40: =IFERROR(VLOOKUP(E39,'Hidden Lists'!$P$11:$Q$17,2,FALSE)," ")
A41: İletişim Bilgileri:
A43: Adı: | D43: Rolü:
A44: Cinsiyet | D44: =IFERROR(VLOOKUP(E43,'Hidden Lists'!$P$11:$Q$17,2,FALSE)," ")
A45: İletişim Bilgileri:
A47: Adı: | D47: Rolü:
A48: Cinsiyet | D48: =IFERROR(VLOOKUP(E47,'Hidden Lists'!$P$11:$Q$17,2,FALSE)," ")
A49: İletişim Bilgileri:
A51: Adı: | D51: Rolü:
A52: Cinsiyet | D52: =IFERROR(VLOOKUP(E51,'Hidden Lists'!$P$11:$Q$17,2,FALSE)," ")
A53: İletişim Bilgileri:
A55: Adı: | D55: Rolü:
A56: Cinsiyet | D56: =IFERROR(VLOOKUP(E55,'Hidden Lists'!$P$11:$Q$17,2,FALSE)," ")
A57: İletişim Bilgileri:
A59: Adı: | D59: Rolü:
A60: Cinsiyet | D60: =IFERROR(VLOOKUP(E59,'Hidden Lists'!$P$11:$Q$17,2,FALSE)," ")
A61: İletişim Bilgileri:
A63: D. Denetim Planlaması
A64: Gerçekleştirilen denetimin ayrıntılarını aşağıda belirtin: Açılış ve kapanış toplantısı, işletmenin doğrulanması, tesis turu, işleme işletmelerinin doğrulanması, görüşmeler, Standardın hangi bölümü olduğu dahil dökümante edildiğinin kontrolü, işçi tesislerinin yerinde ziyaret edilmesi, alt yapı değerlendirmesi, paydaş toplantıları, taşeron ziyaretleri, izlenebilirlik kontrolü gibi faaliyetler, bunları gerçekleştirmek için gereken sorumlular ve kaynaklar.
A66: CB Anlaşma İmzası: | B66: ='1.Başvuru Formu'!F140 -> 0 | C66: Sertifikasyon Kurallarının 1.1.18 numaralı maddesine göre, bu tarihten itibaren CH uygunluğu kontrol edilmelidir.
A68: Önerilen 1. Denetim Başlangıç ​​Tarihi
A69: Önerilen 1. Denetim Bitiş Tarihi | D69: Öngörülen Süre (denetim/gün olarak): | E69: =IFERROR('2b.Süre'!G9,0) -> 1
A71: Onaylanan Denetim Başlangıç ​​Tarihi | D71: =IF(B72=0,"",IF(Factors!Q15<Factors!Q16,'Hidden Lists'!S3,""))
A72: Onaylanan Denetim Bitiş Tarihi
A73: Denetçi sayısı | B73: =(COUNTIFS(E39:E61,'Hidden Lists'!P11))+(COUNTIFS(E39:E61,'Hidden Lists'!P12)+(COUNTIFS(E39:E61,'Hidden Lists'!P13))) -> 0
A74: CH Yönetiminin Çalışma Dili
A75: İşçilerin Çalışma Dili
A77: Örnek Tanımlaması
A78: Minimum İşleme İşletmesi Sayısı | B78: =Factors!C4 -> 0 | C78: Bu, denetime dahil edilecek arazilerin/işletmelerin sayısıdır. Baş denetçi, Denetim Kuralları'na dayanarak ziyaret edilecek arazilerin/işletmelerin sayısını belirlemelidir.
A79: Minimum Alt Yüklenici Sayısı | B79: =Factors!C5 -> 0 | C79: Bu, denetime dahil edilecek dış aktörlerin sayısıdır. Baş denetçi, Denetim Kuralları'na dayanarak ziyaret edilecek aktörlerin sayısını belirlemelidir.
A80: Minimum Aracı Sayısı | B80: =Factors!C6 -> 0
A81: Minimum Hizmet Sağlayıcı Sayısı | B81: =Factors!C7 -> 0
A82: Minimum Tarım İş Aracısı Sayısı | B82: =Factors!C8 -> 0
A83: Minimum Satın Alma Merkezi Sayısı | B83: =Factors!C9 -> 0
A85: Görüşülecek min. işçi sayısı | B85: =IFERROR(VLOOKUP(C85,Factors!Q2:V11,2,TRUE),0) -> 0 | C85: =SUM('1.Başvuru Formu'!D113:D114) -> 0
A87: Daimi | B87: =IFERROR(CONCATENATE(Factors!U42," ",'Hidden Lists'!$S$6," ",Factors!V42," ",'Hidden Lists'!G20," ",'Hidden Lists'!$S$7," ",Factors!W42," ",'Hidden Lists'!G21)," ")
A88: Geçici | B88: =IFERROR(CONCATENATE(Factors!U43," ",'Hidden Lists'!$S$6," ",Factors!V43," ",'Hidden Lists'!G20," ",'Hidden Lists'!$S$7," ",Factors!W43," ",'Hidden Lists'!G21)," ")
A89: Ziyaret edilecek yaşanabilir alanlar | B89: =Factors!C10 -> 0
A90: Dosyalarının kontrol edilmesi gereken işçi sayısı | B90: =IFERROR(VLOOKUP(C85,Factors!P3:U11,6,TRUE),0) -> 0
A91: Göçmen (Denetçi Takdir Yetkisi) | C91: ='Hidden Lists'!Q18 -> Sendikalı ve Göçmen işçi kategorileri hariç tutulmaz, bu da geçici ve daimi işçilerin de göçmen ve sendikalı olabileceği anlamına gelir. Bu alanlara dair göstergeler, baş denetçinin, geçici/daimi kategorilerinde örneklenen işçilerin bir kısmının burada belirtilen sendikalı/göçmen işçi sayısını da kapsadığından emin olması gerektiği bilgisiyle sınırlıdır.
A92: Sendikalı (Denetçi Takdir Yetkisi)
A93: Yapılacak minimum görüşme ve ziyaret edilecek İşleme İşletmesi sayısı CH tarafından sağlanan bilgilere dayanmaktadır. Baş denetçi, daha fazla kanıt toplamak veya riskleri değerlendirmek için bunların sayısını arttırmaya karar verebilir.
A95: Denetim Ajandası
A96: Tarih | B96: Saat (Başlangıç saati - Bitiş saati) | C96: Sorumlu kişi (denetimin yürütülmesinden sorumlu kişi) | D96: Faaliyet (Yapılacak denetim faaliyetlerinin ayrıntılarını bölüm, doğrulama türü ve sorumlulara göre ayırarak açıklayın.) | E96: Açıklamalar
A123: CH tarafından Denetim ekibine sunulacak Döküman Listesi:
A124: Örneğin: yönetim sistemi, işçi kayıtları, coğrafi veriler, fabrika kayıtları, izlenebilirlik, satın alma/satış prosedürleri ve satın alma/satış kayıtları, İYS, onaylar ve yaptırımlar. Denetim ekibi, CB ve CH'yi göz önünde bulundurarak, denetimin aşağıda listelenen dökümanlarla sınırlı olmadığına ilişkin olarak aşağıdaki dökümanları mümkün olduğunca ayrıntılarıyla belirlemelidir.
A127: Denetim sırasında hazır bulunacak kişilerin/uzmanların listesi
A128: Örneğin: yönetim temsilcisi; İK/bordro personeli; işleme tesislerinin yönetimi; varsa İş Sağlığı ve Güvenliği Komisyonu temsilcisi; varsa sendikanın/sendikaların temsilcisi/temsilcileri de dahil olmak üzere işçi temsilcileri; değerlendirme ve yönlendirme komisyonu temsilcisi; toplumsal cinsiyet komisyonu temsilcisi; şikayet komisyonu temsilcisi; diğer komisyonlar.
A131: E. Lojistik
A132: Lütfen aşağıda CH'nin karşılayacağı/kendi bütçesinden ödeyeceği konuları belirtin.
A133: Yemekler
A134: Konaklama
A135: Kara Ulaşımı
A136: Uçak Biletleri
A138: F. Onay
A139: Lütfen aşağıdaki maddeleri dikkatlice okuyun ve denetim gerçekleşmeden önce denetim planını kabul ettiğinizi imzalayarak onaylayın. Bu döküman, CB ve CH arasındaki Sertifikasyon Anlaşması/Sözleşmesi yerine geçmez ve aşağıdaki bölüm Planlama/Hazırlık aşaması için RA programının temel maddelerini vurgulamayı amaçlar. Döküman, Sertifika Sahibi'nin yasal sorumlusu tarafından imzalanmalıdır. Dijital imzalar kabul edilmektedir.
A140: F1. SERTİFİKA SAHİBİ, SERTİFİKASYON KURULUŞU'NUN, talep edilen hizmeti yerine getirmek için denetçilerle taşeron sözleşmesi yapabileceğini kabul eder. F2. SERTİFİKA SAHİBİ, araziyi ve sertifika kapsamındaki bütün tesisleri ve faaliyetleri değerlendirmek için denetçilere gerekli bütün bilgileri verecektir. F3. SERTİFİKA SAHİBİ, ürünün ilgili standartlara uygunluğuyla ilgili olarak kuruluşuma sunulan bütün beyanların kaydını tutacak ve bu kayıtları SERTİFİKASYON KURULUŞU'NA sunacaktır. SERTİFİKA SAHİBİ, bu gibi beyanların yanı sıra sertifikasyon gerekliliklerine uygunluğu etkileyebilecek ürün veya hizmetlere ilişkin herhangi bir eksiklikle ilgili olarak gereken uygun önlemleri alacaktır. SERTİFİKA SAHİBİ, alınan önlemleri dökümante etmelidir. F4. SERTİFİKA SAHİBİ, yalnızca sertifikasyon kapsamı ile ilgili olarak sertifikasyon beyanlarında bulunacaktır. F5. SERTİFİKA SAHİBİ, sertifikalı ürünü, SERTİFİKASYON KURULUŞU'NUN imajının zedelenmesine neden olacak şekilde kullanmayacak ve SERTİFİKASYON KURULUŞU tarafından hatalı veya izinsiz olarak değerlendirilebilecek herhangi bir sertifikalı ürün beyanı yapmayacaktır. F6. Sertifikasyonun askıya alınması veya iptali üzerine, SERTİFİKA SAHİBİ, sertifikasyona dair herhangi bir referans içeren bütün kamu işlerini yürütmeyi bırakacak ve SERTİFİKASYON KURULUŞU'NUN talep edebileceği bütün sertifikasyon dökümanlarını iade edecektir. F7. SERTİFİKA SAHİBİ, sertifikasyonu yalnızca sertifikalı ürünlerin belirli standartlara uygun olduğunu belirtmek için kullanacaktır. F8. SERTİFİKA SAHİBİ, ne sertifikanın ne raporun ne de bunların herhangi bir kısmının yanıltıcı bir şekilde kullanılmamasını güvence altına almak adına çaba gösterecektir. F9. SERTİFİKA SAHİBİ, dökümanlar, broşürler veya tanıtım gibi yollarla medyada ürün sertifikasyonundan bahsederken SERTİFİKASYON KURULUŞU'NUN gerekliliklerine uygun hareket edecektir. F10. SERTİFİKASYON KURULUŞU, bütün denetçilerinin, gözlemcilerinin, destek personelinin, yöneticilerinin ve diğer ilgili personelinin herhangi bir finansal, ticari, ilişki veya prosedüre ilişkin çıkar çatışmasından uzak durduğunu ve CB ve Rainforest Alliance tarafından oluşturulmuş rüşvetle mücadele prensiplerine bağlı olduğunu onaylar.
B144: ______________________________________ | D144: ______________________________________
B145: Sertifikasyon Kuruluşu | D145: Sertifika Sahibi
B146: Temsilcinin Adı | D146: ='1.Başvuru Formu'!C9 -> 0

Sheet 2a.Risk Değerlendirmesi
F1: ='2.Denetim Planı'!E1 -> Versiyon 1.1, Temmuz 2021
A2: Denetim Risk Değerlendirmesi
A3: ='1.Başvuru Formu'!A3:K3 -> Tedarik Zinciri Sertifika Sahipleri ve Başvuru Sahipleri için Tekli işletme ve çoklu işletme sertifikasyonu
A4: ='1.Başvuru Formu'!A4:K4 -> Sürdürülebilir Tarım Standardı 2020 v1.1
A6: C. Dava Soruşturması (bir sektör ve/veya ülke için geçerliyse zorunludur)
A7: Denetim Kuralları'nın Ek AR4 bölümünde yer alan madde 2.3.19.u; Sürdürülebilir Tarım Standardı'nın sosyal bölümü ile ilgili konularda Sertifika Sahibi ve/veya yasal temsilcisi aleyhine açılan davalara ilişkin CB tarafından ön inceleme yapılması gerektiğini belirtmektedir. Ormanların yok edilmesinin yüksek risk olarak görüldüğü ülkelerde, CB'nin bu soruşturmayı mümkün olduğunda çevre konularını kapsayacak şekilde genişletmesi tavsiye edilir. CB, bu araştırmayı kamu mahkemesi sistemlerinde ve/veya Sertifika Sahibi'nin kendi beyannamelerini elde ederek yürütebilir. Her ikisi de aşağıda listelenmelidir. CB, soruşturmanın düzgün bir şekilde yürütüldüğünü onaylar ve bu gibi görüşmelerin kanıtlarını KYS'sinde tutar.
A8: Sertifika Sahibi | B8: ='2.Denetim Planı'!C8 -> 0
A10: Konum (Forum) | B10: Dava/Mahkeme Kararı Sayısı | C10: Durum | D10: Davanın Konusu | E10: Ciddiyet Derecesi | F10: Açılış tarihi

Sheet 2b.Süre
G1: ='1.Başvuru Formu'!K1 -> Versiyon 1.1, Temmuz 2021
A2: Denetim Süresinin Hesaplanması
A3: ='1.Başvuru Formu'!A3:K3 -> Tedarik Zinciri Sertifika Sahipleri ve Başvuru Sahipleri için Tekli işletme ve çoklu işletme sertifikasyonu
A4: ='1.Başvuru Formu'!A4:K4 -> Sürdürülebilir Tarım Standardı 2020 v1.1
A5: Aşağıdaki hesaplama, Rainforest Alliance Denetim ve Sertifikasyon Kuralları'na uygun olarak yapılmıştır, bu nedenle zorunludur. Bu hesaplama, sekiz saatlik bir iş günü dikkate alınarak denetçi/gün baz alınarak yapılır. Ayrıca, denetimin ve denetçinin çalışmasının kalitesini en üst düzeyde tutmak için, denetçilere, yolculuk süresi dahil olmak üzere, denetim Kurallarının 2.1.4 ve 2.1.5 numaralı maddelerinde belirtildiği gibi, denetim günü başına yalnızca sekiz saat çalışma hakkı tanınmış olduğunu bilmek de önemlidir. CB yalnızca Arazi Yakınlık Faktörünü doldurmalı ve seyahat süresini ve (varsa) ek süreyi belirtmelidir. Diğer bütün değerler otomatik olarak hesaplanır.
C7: Değer (denetim/gün) | G7: =(C8*C12)*((SUM(C9:C11)*C15)+C14) -> 0
A8: Faktör 1 | B8: Risk Faktörü | C8: =IFERROR(VLOOKUP('1.Başvuru Formu'!C41,Factors!AO9:AQ13,2,FALSE),0) -> 0 | D8: RACP'de belirtilen Risk Seviyesi üzerinden hesaplanmıştır | F8: Min. Denetim Günü Sayısı (denetim/gün) | G8: =CEILING(G7,0.5) -> 0
A9: Faktör 3 | B9: Yönetim Sistemi | C9: 0.25 | D9: Madde 2.5.8'e göre | F9: Fiili Denetim Günleri /Denetçi Sayısı | G9: =IFERROR(CEILING(G8/'2.Denetim Planı'!B73,0.5),1) -> 1
A10: Faktör 4 | B10: İşleme işletmeleri | C10: ='2.Denetim Planı'!B78*0.25 -> 0 | D10: Her tesis için 0,25 denetim/gün (2 saat) katsayısına göre hesaplanmıştır. | F10: Gerçek Denetim Günleri + Lojistik | G10: =G9+C13 -> 1
A11: Faktör 5 | B11: Görüşme Süresi | C11: ='2.Denetim Planı'!B85*0.03 -> 0 | D11: Planlanan görüşme sayısına göre denetim/gün olarak | F11: Fazladan süre atadıysanız lütfen aşağıda gerekçelendirin:
A12: Faktör 9 | B12: Tesis Yakınlık Faktörü | D12: =IFERROR(VLOOKUP(C12,Factors!AP3:AQ6,2,FALSE)," ")
A13: Faktör 10 | B13: Seyahat Süresi | D13: CB, denetçilerin çıkış noktalarından denetlenecek işletmelere tahmini seyahat süresini belirtmelidir.
A14: Faktör 11 | B14: CB tarafından atanan Ek Süre | D14: CB, örneğin işletme dışındaki soruşturmalar için Denetim Kurallarının Ek AR4 bölümüne ve denetim risk analizine ve uygulanabilir bulduğu diğer faktörlere dayalı olarak ekstra denetim süresi atayabilir.
A15: Faktör 12 | B15: Denetim Birleşik/Entegre mi? | D15: Lütfen Ek AR10'a göre seçin: Birleşik denetim yok - 1,00 2 programa sahip birleşik denetim - 1,50 3'ten fazla programa sahip birleşik denetim - 1,75 Hücre kırmızı olarak gösteriliyorsa lütfen bilgileri gözden geçirin.

Sheet 3.Denetim Özeti
E1: ='2.Denetim Planı'!E1 -> Versiyon 1.1, Temmuz 2021
A2: Denetim Özeti
A3: ='1.Başvuru Formu'!A3:K3 -> Tedarik Zinciri Sertifika Sahipleri ve Başvuru Sahipleri için Tekli işletme ve çoklu işletme sertifikasyonu
A4: ='1.Başvuru Formu'!A4:K4 -> Sürdürülebilir Tarım Standardı 2020 v1.1
A6: A. Denetim Bilgilerinin Onaylanması
A7: Lütfen aşağıdaki bilgileri sonuçlanan denetim ve diğer prosedürlerle ilgili olarak belirtiniz.
A9: Standart Versiyon | B9: v.1.1 2020
A10: Yürütülen Denetim Başlangıç ​​Tarihi | D10: Denetim sonlandırılmış mıydı?
A11: Yürütülen Denetim Bitiş Tarihi | D11: Sona Erme Tarihi
A12: Yürütülen Denetim Süresi | D12: Sertifikasyon kararına veya denetimin sonlandırılmasına dair gerekçe
A14: Bu, diğer programlarla birleştirilmiş bir denetim miydi?
A15: Bu denetimde hangi yöntem kullanıldı?
A17: NC'ler (uygunsuzluklar) nedeniyle bir takip denetimi yapıldı mı?
A18: Yapıldıysa, ne tür bir takip denetimi yapıldı?
A19: Kaç NC bulundu?
A20: Yürütülen Takip Denetimi Süresi (denetim/gün olarak)
A21: Takip denetimi başlangıç ​​tarihi
A22: Takip denetimi bitiş tarihi
A24: Atanan Teknik İnceleme Görevlisinin Adı
A25: Teknik İnceleme tamamlanma tarihi
A26: Atanan Sertifikerin Adı
A27: Sertifikasyon kararı:
A28: Sertifikasyon Kararı tarihi
B30: Uygulanan Örnek | C30: Planlanan Örnek | D30: Yürütülen örnek, planlanan örnekten daha azsa, lütfen açıklama girin
A31: Görüşülen İşçiler | C31: ='2.Denetim Planı'!B85 -> 0
A32: İşleme İşletmesi | B32: =COUNTIF(($C$41:C1023),'Hidden Lists'!I14) -> 0 | C32: ='2.Denetim Planı'!B78 -> 0
A33: Taşeron | B33: =COUNTIF(($C$41:C1024),'Hidden Lists'!I15) -> 0 | C33: ='2.Denetim Planı'!B79 -> 0
A34: Hizmet sağlayıcı | B34: =COUNTIF(($C$41:C1025),'Hidden Lists'!I16) -> 0 | C34: ='2.Denetim Planı'!B81 -> 0
A35: Tarım iş aracısı | B35: =COUNTIF(($C$41:C1026),'Hidden Lists'!I17) -> 0 | C35: ='2.Denetim Planı'!B82 -> 0
A36: Diğer | B36: =COUNTIF(($C$41:C1027),'Hidden Lists'!I18) -> 0 | C36: 0
A38: B. Örneğin Kamuya Açıklanması
A39: Lütfen bu denetim için denetim örneğinin birer parçası olan araziler, işletmeler ve hizmet sağlayıcıların hangileri olduğunu aşağıda belirtin. Örnek artışlarının gerekçelendirilmesi gerektiğini unutmayın.
A40: İsim | B40: Arazinin İşletme Kimlik Numarası | C40: Türü | D40: Örnek Türü | E40: Artış varsa gerekçesini belirtin

Sheet 4.İzleme
G1: ='2.Denetim Planı'!E1 -> Versiyon 1.1, Temmuz 2021
A2: Sürecin İzlenmesi
A3: ='1.Başvuru Formu'!A3:K3 -> Tedarik Zinciri Sertifika Sahipleri ve Başvuru Sahipleri için Tekli işletme ve çoklu işletme sertifikasyonu
A4: ='1.Başvuru Formu'!A4:K4 -> Sürdürülebilir Tarım Standardı 2020 v1.1
A6: A. Denetlenen Örnek | E6: B. Takvimler
A7: Lütfen aşağıda uygulanan denetim örneğine ve planlanan denetime ilişkin bir genel bakışa göz atın. Uygulanan örneğin planlanandan daha küçük olması durumunda hücreler kırmızı renkte gösterilecektir ve CB bu duruma dair gerekçe sunmalıdır. | E7: Aşağıda, ilk denetim tarihinden önce ve son denetim tarihinden sonra başlatılan sertifikasyon sürecindeki zamana bağlı bütün faaliyetler için son tarihi görebilirsiniz. Kalite Denetimi (Teknik İnceleme), takvimlere uyulduğundan emin olmak adına bunu kullanabilir.
B8: Uygulanan | C8: Planlanan | F8: Uygulanan | G8: Son Tarih | I8: Günler
A9: ='3.Denetim Özeti'!A31 -> Görüşülen İşçiler | B9: ='3.Denetim Özeti'!B31 -> 0 | C9: ='3.Denetim Özeti'!C31 -> 0 | E9: Başvuru Onayı | F9: ='1.Başvuru Formu'!F139 -> 0 | G9: 0 | I9: 0
A10: ='Hidden Lists'!I14 -> İşleme İşletmesi | B10: =COUNTIF(SampleDisc[#All],'Hidden Lists'!I14) -> 0 | C10: ='2.Denetim Planı'!B78 -> 0 | E10: CB Sözleşme Anlaşması | F10: ='1.Başvuru Formu'!F140 -> 0 | G10: =G13-I10 -> 48 | I10: =6*7 -> 42
A11: ='Hidden Lists'!I15 -> Taşeron | B11: =COUNTIF(SampleDisc[#All],'Hidden Lists'!I15) -> 0 | C11: ='2.Denetim Planı'!B79 -> 0 | E11: Denetim Ekibiyle paylaşılan başvuru | F11: ='2.Denetim Planı'!B18 -> 0 | G11: =G13-I11 -> 76 | I11: =2*7 -> 14
A12: ='Hidden Lists'!I16 -> Hizmet Sağlayıcı | B12: =COUNTIF(SampleDisc[#All],'Hidden Lists'!I16) -> 0 | C12: ='2.Denetim Planı'!B81 -> 0 | E12: CH'ye gönderilen Denetim Planı | F12: ='2.Denetim Planı'!B23 -> 0 | G12: =G13-I12 -> 76 | I12: =2*7 -> 14
A13: ='Hidden Lists'!I17 -> Tarım İş Aracısı | B13: =COUNTIF(SampleDisc[#All],'Hidden Lists'!I17) -> 0 | C13: ='2.Denetim Planı'!B82 -> 0 | E13: İlk Denetim Tarihi | F13: ='3.Denetim Özeti'!B10 -> 0 | G13: ='1.Başvuru Formu'!K50-'2b.Süre'!G8 -> 90 | I13: 0
E14: Son Denetim Tarihi | F14: ='3.Denetim Özeti'!B11 -> 0 | G14: ='1.Başvuru Formu'!K50 -> 90 | I14: 0
A15: Denetimde tespit edilen NC'ler | B15: ='3.Denetim Özeti'!B19 -> 0 | E15: NC Çözümleme Zaman Aralığı | F15: =G14 -> 90 | G15: =G14+I15 -> 90 | I15: =IF($B$15=0,0,10*7) -> 0
E16: RACP'deki (QR) Nihai Denetim Raporu | G16: =G17 -> 118 | I16: 0
E17: Sertifikasyon Kararı | F17: ='3.Denetim Özeti'!B28 -> 0 | G17: =I17+G15 -> 118 | I17: =IF($B$15=0,4*7,2*7) -> 28
E18: Risk Değerlendirmesi | G18: =I18+G17 -> 125 | I18: =7*1 -> 7
E21: CB için not:
E22: Aşağıda yeşil ile belirtilen faaliyetlerle ilgili hücreleri doldurun. RACP'de (F16) Nihai Denetim Raporuna ilişkin tarihi ve Lisans Talep Tarihini (F18) belirtin.

Sheet Hidden Lists
A2: Ülke Listesi | C2: Gereklilik Türleri | F2: E/H Listesi | I2: Dava | K2: Denetçi Listesi | M2: Görüşme Türü | P2: Sert. Seçenekler | Q2: Açıklama | S2: Mesajlar | U2: GPF
A3: Afganistan | C3: Temel Gereklilikler | F3: Evet | I3: C | K3: ='2.Denetim Planı'!B39 -> 0 | M3: Bireysel | P3: Tekli Arazi | Q3: Merkezi yönetimin ve bütün faaliyetlerin tek bir fiziksel konumdan gerçekleştirildiği, bağımsız bir organizasyon yapısına sahip bir arazisi olan veya böyle bir araziyi yöneten tekli arazi. | R3: x | S3: Lütfen denetimin başlangıç ve bitiş tarihlerini gözden geçirin. Eklenen tarihlere ve denetçi sayısına göre süre yeterli olmayabilir. | T3: x | U3: Grup tesisleri çok yakındadır ve seçilen herhangi bir 2 alt grup/köyde 6 tesis arasında seyahat etme süresi dahil olmak üzere 8 saat içinde her denetçi için 6'dan fazla araziyi ziyaret etmek kolaydır
A4: Arnavutluk | C4: Zorunlu Geliştirmeler | F4: Hayır | I4: NC | K4: ='2.Denetim Planı'!B43 -> 0 | M4: Grup | P4: Çoklu Arazi | Q4: Sertifikasyondan bağımsız olarak, faaliyetleri ve arazi işletme uygulamaları merkezi olarak yönetilen bir oluşuma ait olan veya bu oluşum tarafından kiralanan iki veya daha fazla arazi. | R4: x | U4: Grup tesisleri ulaşılabilir mesafededir ve seçilen 2 alt grup/köyde 5 tesis arasında seyahat etme süresi de dahil olmak üzere 8 saat içinde 5 araziye kadar ziyaret makuldür.
A5: Cezayir | C5: Seçmeli Geliştirmeler | I5: NA | K5: ='2.Denetim Planı'!B47 -> 0 | P5: Arazi Grubu | Q5: Organize arazilerde oluşan bir grup (grup üreticileri), bir birlik veya kooperatif olarak örgütlenebilir veya bir arazi ya da örneğin bir ihracatçı gibi başka bir tedarik zinciri aktörü veya başka bir oluşum tarafından yönetilebilir. | R5: x | S5: İşçi Concar | U5: Grup tesisleri birbirinden uzaktadır ve seçilen 2 alt grup/köyde 4 tesis arasında seyahat etme süresi de dahil olmak üzere 8 saat içinde 4 araziye kadar ziyaret makuldür.
A6: Andora | C6: Zorunlu Akıllı Ölçümler | F6: Kapsamlar | K6: ='2.Denetim Planı'!B51 -> 0 | P6: Tekli İşletme | Q6: Rainforest Alliance sertifikasyonu kapsamında arazi işletmenin bulunmadığı, merkezi yönetimin ve bütün faaliyetlerin tek bir fiziksel konumda gerçekleştiği bireysel bir kuruluş. | R6: x | S6: olarak | U6: Grup tesisleri birbirinden oldukça uzaktadır ve seçilen 2 alt grup/köyde 3 tesis arasında seyahat etme süresi de dahil olmak üzere 8 saat içinde 3 araziye kadar ziyaret makuldür.
A7: Angola | C7: Seçmeli Akıllı Ölçümler | F7: Arazi | I7: Kontrol listesi | K7: ='2.Denetim Planı'!B55 -> 0 | P7: Çoklu İşletme | Q7: Rainforest Alliance sertifikasının kapsamında arazi işletmenin bulunmadığı ve altında iki veya daha çok işletmenin çalışmakta olduğu, merkezi bir konum belirtmiş olan bir kuruluş. | R7: x | S7: ve
A8: Antigua ve Barbuda | F8: Tedarik Zinciri | I8: Uygun | K8: ='2.Denetim Planı'!B59 -> 0 | S8: işçi(ler)
A9: Arjantin | C9: Denetim Türleri | I9: Uygunsuzluk | S9: işçiler
A10: Ermenistan | C10: Geçiş | F10: Gönderilenler Listesi | I10: Geçerli Değil | K10: Risk Seviyeleri | P10: Denetçi Türleri | Q10: Açıklama | R10: x
A11: Avustralya | C11: Sertifikasyon | F11: Gönderildi | K11: Yüksek | P11: Baş Denetçi | Q11: Denetim ekibini yönetmekten ve organize etmekten sorumludur; denetimin eksiksiz ve uygun şekilde yürütülmesini sağlar; müşteriyle iletişim kurulduğunda denetim planını düzenler; denetim raporunu hazırlar. | R11: x
A12: Avusturya | C12: Gözetim | F12: Gönderilemedi | I12: Örnek Türleri | K12: Orta | P12: Sosyal Konular Baş Denetçisi | Q12: Denetimler sırasında sosyal gerekliliklere yönelik araştırmasını yönetmekten ve düzenlemekten ve RA sosyal Risk Haritalarına göre orta/yüksek riskli bağlamlar için ek denetim gerekliliklerinin uygulanmasından sorumludur. | R12: x
A13: Azerbaycan | C13: Takip | I13: Arazi | K13: Düşük | P13: Yardımcı Denetçi | Q13: Denetimin eksiksiz ve uygun şekilde yürütülmesini sağlamak için baş denetçiye belirli görevlerde destek olur. Denetim raporuna özel girdiler hazırlar. | R13: x
A14: Bahamalar | C14: Habersiz | F14: Dava | I14: İşleme İşletmesi | K14: Geçerli Değil | P14: Stajyer Denetçi | Q14: Her zaman bir denetçinin veya baş denetçinin gözetiminde doğrulamayla ilgili işlemler yapar. | R14: x
A15: Bahreyn | C15: Araştırma | F15: Açık | I15: Taşeron | P15: Teknik Uzman | Q15: Denetim bağlamı için yüksek/orta risk olarak tanımlanan belirli bir konuda kanıt toplamak için belirli denetim yöntemlerinin kullanılmasını destekler. | R15: x
A16: Bangladeş | C16: Genişletme | F16: Kapalı | I16: Hizmet Sağlayıcı | K16: Paydaş Görüşmesi | P16: Tercüman | Q16: Görüşülen kişilerin beyanlarının birebir çevrilmesi suretiyle denetim ekibini destekler ve uygunluk (uygunsuzluk) değerlendirmesini etkilemez. | R16: x
A17: Barbados | C17: Gölge | F17: Gizlilik | I17: Tarım İş Aracısı | K17: Zorla Çalıştırma | P17: Gözetmen | Q17: Denetim sürecini, öğrenme veya kurumsal nedenler üzerinde etkisi olmaksızın, denetçilerin izlenmesi ve değerlendirilmesi amacıyla gözlemler. | R17: x
A18: Beyaz Rusya | C18: İnceleme | I18: Diğer | K18: Çocuk İşçiliği | P18: İşçi Türleri Kılavuzu | Q18: Sendikalı ve Göçmen işçi kategorileri hariç tutulmaz, bu da geçici ve daimi işçilerin de göçmen ve sendikalı olabileceği anlamına gelir. Bu alanlara dair göstergeler, baş denetçinin, geçici/daimi kategorilerinde örneklenen işçilerin bir kısmının burada belirtilen sendikalı/göçmen işçi sayısını da kapsadığından emin olması gerektiği bilgisiyle sınırlıdır. | R18: x
A19: Belçika | F19: Cinsiyet | G19: Cinsiyet | K19: Örgütlenme Özgürlüğü
A20: Belize | C20: Concat Fonksiyonu Versiyonu | F20: (E) | G20: Erkek
A21: Benin | C21: Versiyon | F21: (K) | G21: Kadın | I21: Örnek Büyüklüğü
A22: Butan | C22: 1.1, Temmuz 2021 | I22: İlk Başta Planlanan
A23: Bolivya | F23: İşletme Türleri | I23: Artan
A24: Bosna-Hersek | F24: Arazi | K24: Denetim zaman aralığının doğrulanması
A25: Botswana | C25: Birleşik Denetimin Doğrulanması | F25: İşleme İşletmesi | I25: İzlenebilirlik Seviyesi: | K25: Bu bilgilere dayanarak, denetiminiz şu tarihler arasında gerçekleşmelidir:
A26: Brezilya | C26: =IF('2.Denetim Planı'!E32='Hidden Lists'!F3,1,0) -> 0 | I26: Korunmuş Kimlik | K26: =TEXT(K30,"Geral") -> -120
A27: Brunei | C27: ='2b.Süre'!C15 -> 0 | F27: Durum | I27: Ayrım | K27: ve
A28: Bulgaristan | C28: Yanlış | F28: Onaylandı | I28: Kütle Denkliği
A29: Burkina Faso | C29: Doğru | F29: Reddedildi
A30: Burundi | C30: =IF(AND(C26=1,C27<1.1),C28,C29) -> Doğru | I30: Dış Aktörler | K30: ='1.Başvuru Formu'!I49-120 -> -120
A31: Kamboçya | F31: Sert. Karar | I31: Taşeron | K31: ='1.Başvuru Formu'!I49+120 -> 120
A32: Kamerun | C32: Takip Denetiminin Doğrulanması | F32: Sertifikasyon | I32: Aracı
A33: Kanada | C33: Arazi içinde | F33: Sertifikasyon reddi | I33: Hizmet Sağlayıcı
A34: Yeşil Burun | C34: Kısmen uzaktan | F34: Askıya alma | I34: Tarım İş Aracısı
A35: Orta Afrika Cumhuriyeti | C35: Uzaktan | F35: İptal
A36: Çad | C36: =IF('3.Denetim Özeti'!B17='Hidden Lists'!F3,1,0) -> 0
A37: Şili | C37: =COUNTA('3.Denetim Özeti'!B21:B22) -> 0
A38: Çin | C38: =IF(AND(C36=1,C37<2),C28,C29) -> Doğru
A39: Kolombiya
A40: Komorlar | C40: Sonlandırmanın Doğrulanması
A41: Kongo Cumhuriyeti, | C41: =IF('3.Denetim Özeti'!E10='Hidden Lists'!F3,1,0) -> 0
A42: Demokratik Kongo Cumhuriyeti | C42: =COUNTA('3.Denetim Özeti'!E11) -> 0
A43: Kosta Rika | C43: =IF(AND(C41=1,C42<1),C28,C29) -> Doğru
A44: Fildişi Sahili
A45: Hırvatistan
A46: Küba
A47: Kıbrıs
A48: Çekya
A49: Danimarka
A50: Cibuti
A51: Dominika
A52: Dominik Cumhuriyeti
A53: Doğu Timor (Timor-Leste)
A54: Ekvador
A55: Mısır
... A198: Zimbabve

Sheet Crop List
A2: Sertifikasyon kapsamı | B2: Kategori | C2: Ürün adı (nihai) | E2: Kategori Listesi | G2: Önemli talimatlar!
A3: RA | B3: Kakao | C3: Kakao | E3: Kakao | G3: Çevirilerden/güncellemelerden sonra aşağıdakileri işlemleri yaptığınızdan emin olun:
A4: RA | B4: Kahve | C4: Kahve Arabica | E4: Kahve | G4: 1) Ürün listesini kategoriye göre (B2) A'dan Z'ye sıralayın.
A5: RA | B5: Kahve | C5: Kahve Robusta | E5: Çiçek | G5: 2) Ad Yöneticisini açın Ad olarak kategori listesi (E2) ile aynı girişleri göreceksiniz.
A6: RA | B6: Çiçek | C6: Eğrelti otu | E6: Meyve | G6: 3) Her adı açarak çevrisi yapılan/güncellenen listeyle hizalayın. Bu, bütün ürün adlarını (C sütunu) yeniden seçmeniz ve ilgili kategoriye bağlamanız gerektiği anlamına gelir.
A7: RA | B7: Çiçek | C7: Deri eğrelti otu | E7: Aromatik_bitkiler | G7: Başka bir değişikliğe gerek bulunmuyor!
A8: RA | B8: Çiçek | C8: Diğer süs bitkileri | E8: Kabuklu_yemiş
A9: RA | B9: Çiçek | C9: Palm yaprağı | E9: Çay
A10: RA | B10: Çiçek | C10: Psyllium | E10: Sebze
A11: RA | B11: Çiçek | C11: Gül
A12: RA | B12: Çiçek | C12: Ayçiçeği
A13: RA | B13: Çiçek | C13: Çeşitli yeşillikler
A14: RA | B14: Meyve | C14: Acai
A15: UEBT/RA | B15: Meyve | C15: Elma çiçeği
A16: RA | B16: Meyve | C16: Elma
A17: UEBT/RA | B17: Meyve | C17: Elma yaprağı
A18: UEBT/RA | B18: Meyve | C18: Kayısı çiçeği
A19: RA | B19: Meyve | C19: Kayısı
A20: UEBT/RA | B20: Meyve | C20: Kayısı yaprağı
A21: RA | B21: Meyve | C21: Avokado
A22: RA | B22: Meyve | C22: Muz
... A371: RA | B371: Sebze | C371: Yam

Sheet Factors
Z1: Combined audit | AE1: Interviews
B2: Sample factors | O2: Number of workers involved in the CH | P2: Lower border of category (min workers) | Q2: Minimum number of interviews | R2: Minimum number of individual interviews | S2: Maximum number of group interviews - Description | T2: Maximum number of group interviews (Group/Components) | U2: Minimum number of worker files to be checked | AA2: 1 | AE2: Individual Interview | AF2: 0.25 | AG2: h | AP2: GPF
B3: Item | C3: Sample for Audit Calculation | D3: Formula for Audit Sample | E3: Totals from Application Form | F3: Min. Sample | G3: Sample for SC | H3: Note | I3: Clause | O3: 1 to 5 | P3: 1 | Q3: ='1.Başvuru Formu'!D113+'1.Başvuru Formu'!D114 -> 0 | R3: =Q3 -> 0 | S3: 0 | T3: 0 | U3: =R3 -> 0 | AA3: 1.5 | AE3: Group Interview | AF3: 0.5 | AG3: h | AP3: 1 | AQ3: ='Hidden Lists'!U3 -> Grup tesisleri çok yakındadır ve seçilen herhangi bir 2 alt grup/köyde 6 tesis arasında seyahat etme süresi dahil olmak üzere 8 saat içinde her denetçi için 6'dan fazla araziyi ziyaret etmek kolaydır
B4: Processing Sites | C4: =IF(D4<F4,SMALL(E4:F4,1),ROUNDUP(D4,0)) -> 0 | D4: =SQRT(E4) -> 0 | E4: =FarmIDApp[[#Totals],[İşletme Adı]] -> 0 | F4: 1 | G4: √ | H4: Square root of total | I4: 2.4.16.b | O4: 6 to 10 | P4: 6 | Q4: 6 | R4: 6 | S4: 0 | T4: 0 | U4: 6 | AA4: 1.75 | AP4: 1.1 | AQ4: ='Hidden Lists'!U4 -> Grup tesisleri ulaşılabilir mesafededir ve seçilen 2 alt grup/köyde 5 tesis arasında seyahat etme süresi de dahil olmak üzere 8 saat içinde 5 araziye kadar ziyaret makuldür.
B5: Subcontractors | C5: =IF(D5<F5,SMALL(E5:F5,1),ROUNDUP(D5,0)) -> 0 | D5: =E5*G5 -> 0 | E5: ='1.Başvuru Formu'!I43 -> 0 | F5: 3 | G5: 0.33 | H5: Subcontractors, intermediaries and service providers shall all be audited within 3-years time (0,33). | I5: 2.4.9.b | O5: 11 to 50 | P5: 11 | Q5: 9 | R5: 6 | S5: 1 group of 3 | T5: 1 | U5: 9 | AP5: 1.2 | AQ5: ='Hidden Lists'!U5 -> Grup tesisleri birbirinden uzaktadır ve seçilen 2 alt grup/köyde 4 tesis arasında seyahat etme süresi de dahil olmak üzere 8 saat içinde 4 araziye kadar ziyaret makuldür.
B6: Intermediaries | C6: =IF(D6<F6,SMALL(E6:F6,1),ROUNDUP(D6,0)) -> 0 | D6: =E6*G6 -> 0 | E6: ='1.Başvuru Formu'!I44 -> 0 | F6: 3 | G6: 0.33 | H6: Subcontractors, intermediaries and service providers shall all be audited within 3-years time (0,33). | I6: 2.4.9.b | O6: 51 to 100 | P6: 51 | Q6: 15 | R6: 7 | S6: 1 group of 3 1 group of 5 | T6: 2 | U6: 12 | AP6: 1.3 | AQ6: ='Hidden Lists'!U6 -> Grup tesisleri birbirinden oldukça uzaktadır ve seçilen 2 alt grup/köyde 3 tesis arasında seyahat etme süresi de dahil olmak üzere 8 saat içinde 3 araziye kadar ziyaret makuldür.
B7: Service Providers | C7: =IF(D7<F7,SMALL(E7:F7,1),ROUNDUP(D7,0)) -> 0 | D7: =E7*G7 -> 0 | E7: ='1.Başvuru Formu'!I45 -> 0 | F7: 3 | G7: 0.33 | H7: Subcontractors, intermediaries and service providers shall all be audited within 3-years time (0,33). | I7: 2.4.9.b | O7: 101 to 250 | P7: 101 | Q7: 20 | R7: 10 | S7: 2 groups of 5 | T7: 2 | U7: 15
B8: Labor Providers | C8: =IF(D8<F8,SMALL(E8:F8,1),ROUNDUP(D8,0)) -> 0 | D8: =E8*G8 -> 0 | E8: ='1.Başvuru Formu'!I46 -> 0 | F8: 3 | G8: 1 | H8: All Labor Providers hall be audited | I8: AR4.42.a | O8: 251 to 500 | P8: 251 | Q8: 32 | R8: 12 | S8: 2 groups of 3 1 group of 4 2 groups of 5 | T8: 5 | U8: 18 | AO8: Risk
B9: Purchase centers | C9: =IF(D9<F9,SMALL(E9:F9,1),ROUNDUP(D9,0)) -> 0 | D9: =(SQRT(E9)*0.5) -> 0 | E9: ='1.Başvuru Formu'!I47 -> 0 | F9: 3 | G9: √/2 | H9: It should be 50% the sqr. | I9: 2.4.13.a | O9: 501 to 1500 | P9: 501 | Q9: 40 | R9: 15 | S9: 2 group of 3 1 group of 4 3 groups of 5 | T9: 6 | U9: 20 | AO9: A | AP9: 0.9 | AQ9: Very Low-Risk Category (A)
B10: Houses | C10: =IF(D10<F10,SMALL(E10:F10,1),ROUNDUP(D10,0)) -> 0 | D10: =SQRT(E10) -> 0 | E10: ='1.Başvuru Formu'!K96 -> 0 | F10: 3 | G10: √ | H10: It should be sqr | I10: AR4.9 47.a | O10: 1501 to 4000 | P10: 1501 | Q10: 50 | R10: 18 | S10: 1 group of 3 1 group of 4 5 groups of 5 | T10: 7 | U10: 25 | AO10: B | AP10: 1 | AQ10: Low Risk Category (B)
F11: Values in Red, Modfied due to the Provisional Policy | O11: > 4001 | P11: 4001 | Q11: 65 | R11: 25 | S11: 8 groups of 5 | T11: 8 | U11: 30 | AO11: C | AP11: 1.1 | AQ11: Medium Risk Category (C)
AO12: D | AP12: 1.15 | AQ12: High Risk Category (D)
AO13: E | AP13: 1.2 | AQ13: Very High-Risk Category (E)
O14: Audit Date Trigger Factor | S14: Worker Calculation Concat | V14: Min. Number Interviews | X14: ='2.Denetim Planı'!B85 -> 0
O15: Initial Date | Q15: =('2.Denetim Planı'!B72-'2.Denetim Planı'!B71)+1 -> 1 | T15: Male | U15: Female | V15: Total | W15: General | X15: % Male | Y15: %Female
O16: Audit Date | Q16: =ROUNDUP('2.Denetim Planı'!E69,0) -> 1 | S16: Permanent | T16: ='1.Başvuru Formu'!B96 -> 0 | U16: ='1.Başvuru Formu'!C96 -> 0 | V16: =SUM(T16:U16) -> 0 | W16: =(SUM(T16:U16)/(SUM($T$19:$U$19))) -> #DIV/0! | X16: =T16/(T16+U16) -> #DIV/0! | Y16: =U16/(T16+U16) -> #DIV/0!
Q17: x | S17: Temporary | T17: ='1.Başvuru Formu'!D96 -> 0 | U17: ='1.Başvuru Formu'!E96 -> 0 | V17: =SUM(T17:U17) -> 0 | W17: =(SUM(T17:U17)/(SUM($T$19:$U$19))) -> #DIV/0! | X17: =T17/(T17+U17) -> #DIV/0! | Y17: =U17/(T17+U17) -> #DIV/0!
S19: Totals | T19: =SUM(T16:T18) -> 0 | U19: =SUM(U16:U18) -> 0 | V19: =SUM(T19:U19) -> 0
O20: Transition Audit Trigger
O21: Audit Type | Q21: =IF('1.Başvuru Formu'!D36='Hidden Lists'!C10,1,0) -> 0 | S21: Calculation on proportion of interviews
O22: Filling in | Q22: =IF('1.Başvuru Formu'!D47>0,0,1) -> 1 | T22: Total | U22: Male | V22: Female
O23: total | Q23: =Q21+Q22 -> 1 | S23: Permanent proportion | T23: =($X$14*W16) -> #DIV/0! | U23: =T23*X16 -> #DIV/0! | V23: =T23*Y16 -> #DIV/0!
S24: Temporary proportion | T24: =($X$14*W17) -> #DIV/0! | U24: =T24*X17 -> #DIV/0! | V24: =T24*Y17 -> #DIV/0!
S25: Totals
S28: Calculation on proportion of interviews - Rounding
T29: Total | U29: Male | V29: Female
S30: Permanent proportion | T30: =_xlfn.FLOOR.MATH(T23,1) -> #DIV/0! | U30: =_xlfn.FLOOR.MATH(U23,1) -> #DIV/0! | V30: =_xlfn.FLOOR.MATH(V23,1) -> #DIV/0!
S31: Temporary proportion | T31: =_xlfn.FLOOR.MATH(T24,1) -> #DIV/0! | U31: =_xlfn.FLOOR.MATH(U24,1) -> #DIV/0! | V31: =_xlfn.FLOOR.MATH(V24,1) -> #DIV/0!
S32: Totals
S34: Calculation on proportion of interviews - Corrections
T35: Total | U35: Male | V35: Female
S36: Permanent proportion | T36: =T23-T30 -> #DIV/0! | U36: =U23-U30 -> #DIV/0! | V36: =V23-V30 -> #DIV/0!
S37: Temporary proportion | T37: =T24-T31 -> #DIV/0! | U37: =U24-U31 -> #DIV/0! | V37: =V24-V31 -> #DIV/0!
S38: Totals | T38: =T25-T32 -> 0 | U38: =U25-U32 -> 0 | V38: =V25-V32 -> 0
S40: Calculation on proportion of interviews - Formulas
T41: Total | U41: Male | V41: Female
S42: Permanent proportion | T42: =IF(T36<0.49,ROUNDDOWN(T23,0),ROUNDUP(T23,0)) -> #DIV/0! | U42: =IF(U36<0.49,ROUNDDOWN(U23,0),ROUNDUP(U23,0)) -> #DIV/0! | V42: =IF(V36<0.49,ROUNDDOWN(V23,0),ROUNDUP(V23,0)) -> #DIV/0!
S43: Temporary proportion | T43: =IF(T37<0.49,ROUNDDOWN(T24,0),ROUNDUP(T24,0)) -> #DIV/0! | U43: =IF(U37<0.49,ROUNDDOWN(U24,0),ROUNDUP(U24,0)) -> #DIV/0! | V43: =IF(V37<0.49,ROUNDDOWN(V24,0),ROUNDUP(V24,0)) -> #DIV/0!
S44: Totals
