Workbook
Name Cocoa: 'Crop List'!$C$3
Name Coffee: 'Crop List'!$C$4:$C$5
Name Farm: 'Hidden Lists'!$P$3:$P$5
Name Flower: 'Crop List'!$C$6:$C$13
Name Fruit: 'Crop List'!$C$14:$C$138
Name Herbs: 'Crop List'!$C$139:$C$311
Name Name_CB: '[1]Drop Down Lists'!$C$3:$C$46
Name Nuts: 'Crop List'!$C$312:$C$318
Name PalmOil: 'Crop List'!#REF!
Name SupplyChain: 'Hidden Lists'!$P$6:$P$7
Name Tea: 'Crop List'!$C$319
Name Vegetable: 'Crop List'!$C$320:$C$371

Sheet Coverpage
A1: Official Template
A2: Certification Application Form (CAF) - Group certification
A3: Version | B3: =L14 -> 1.1
F4: Translation Disclaimer
F5: For any question related to the precise meaning of the information contained in the translation, please refer to the official English version for clarification. Any discrepancies or differences in meaning due to translation are not binding and have no effect for auditing or certification purposes.
F9: More information?
F10: For more information about the Rainforest Alliance, visit www.rainforest-alliance.org or contact info@ra.org
F13: Document Name: | J13: Document Code: | L13: Version:
F14: =A2 -> Certification Application Form (CAF) - Group certification | J14: SA-F-GA-4-V1.1 | L14: 1.1
F15: Date of first publication: | H15: Date of revision: | J15: Valid From: | L15: Expires by:
F16: 7th of June 2021 | H16: 21st of July 2021 | J16: 1st of July 2021 | L16: Until further notice
F17: Developed by: | J17: Approved by:
F18: Rainforest Alliance Department Standards and Assurance | J18: Senior Director, Standards and Assurance
F19: Linked to:
F20: SA-S-SD-1-V1.1 Rainforest Alliance 2020 Sustainable Agriculture Standard, Farm requirements SA-R-GA-1-V1.1 Rainforest Alliance 2020 Certification and Auditing Rules
F22: Replaces:
F23: N/A
F24: Applicable to:
F25: Farm Certificate Holders and Certification Bodies
F26: Country/Region:
F27: All
F28: Crop: | J28: Type of Certification:
A29: © 2021 Rainforest Alliance. All rights reserved. | F29: All crops in the scope of the Rainforest Alliance certification system; please see Certification Rules. | J29: Group certification option.
A31: =J14 -> SA-F-GA-4-V1.1
F32: Any use of this content including reproduction, modification, distribution or republication, without the prior written consent of Rainforest Alliance is strictly prohibited.

Sheet Guidance
A1: Guidance
A2: How to use this template | F2: The Certification Application Form (CAF) is an official template provided by Rainforest Alliance for its certification processes to increase the level of consistency, credibility and transparency. This template is mandatory for all Certificate Holders (CHs) and Certification Bodies (CBs) and it is based on all related and biding requirements of the Certification and Auditing Rules. All information the applicable tabs is mandatory, if applicable to a given country/scope. All tabs in this document are mandatory, and Rainforest Alliance also provides a series of guidance templates to be used at the discretion of CBs, if they need references to complement or structure their internal processes related to the Rainforest Alliance.
F5: Farm Certificate Holders should only fill in the information required in the red tab (1). They should send this information to their relevant Certification Body. This will allow Farm Certificate Holders to request quotations ffrom as many Certification Bodies as they see fit, without duplicating efforts to collect and provide information. Fill in tab 1. Application form and send this to your Certification Body of choice. | M5: Step 1:Fill in the Application Form
F7: Certification Bodies receive this document from a Certificate Holder or an applicant. They conduct the audit planning and execution activities in the same file. This helps to centralize information for review by Quality Reviewers and the Rainforest Alliance. The green tabs (2, 2a and 2b) are related to the planning stage of the audit, while the one in blue (3) is related to the reporting stage of the audit. Please know that the audit findings checklist is provided directly in the Rainforest Alliace Certification Platform. | M7: Step 1: Prepare your planning stage on tabs 2, 2a and 2b.
M8: Step 2: Report audit summary information in tab 3.

Sheet 1.Application Form
A1: Certification Rules Clause 1.4.25 | K1: =CONCATENATE('Hidden Lists'!C21," ",'Hidden Lists'!C22) -> Version 1.1 July 2021
A2: Certification Application Form (CAF)
A3: For Farm Certificate Holders & Applicants Group certification
A4: Sustainable Agriculture Standard 2020 v1.1.
A5: The following form is an extract of key information provided during the Registration Processes in the Rainforest Alliance Certification Platform. It clarifies the certification scope to define the audit scope, planning, duration and reporting. By agreeing with the Terms & Conditions at the bottom of this form the applicant confirms that the data entered in the form is accurate and acknowledges that discrepancies in data identified during the audit may lead to potential changes in audit scope including increase in sample size and audit duration. The Certification Body is responsible for ensuring that any differences between the final certification scope and the one based on the information supplied by the applicant are reflected in the Certificate issued.
A7: A. General Information
A8: Please provide the following information about your operation and relevant contact persons, to apply for an audit to achieve Rainforest Alliance certification. The information you fill in here should be the same as what you provided during registration in the Rainforest Alliance Certification Platform (RACP). You can copy this information from your account in the RACP.
A9: Legal Name of the Organization: | G9: National Organization ID:
A10: Trade/Commercial Name: | G10: Name in Certificate:
A11: Parent Organization (if applicable): | G11: Parent Org. National ID: (if applicable)
A13: Visiting Address: | F13: City: | H13: State/Province:
F14: Zip/Post Code: | H14: Country:
A16: Billing Address: | F16: City: | H16: State/Province:
F17: Zip/Post Code: | H17: Country:
A19: Owner or Legal Representative Signing Agreements | G19: Group Administrator
A20: First Name: | C20: Last Name: | G20: First Name: | I20: Last Name:
A21: National ID: | G21: National ID:
A22: Phone: | C22: Mobile: | G22: Phone: | I22: Mobile:
A23: Job Title: | C23: Email: | G23: Job Title: | I23: Email:
A25: Traceability Platform Responsible Person | G25: Billing Contact
A26: First Name: | C26: Last Name: | G26: First Name: | I26: Last Name:
A27: National ID: | G27: National ID:
A28: Phone: | C28: Mobile: | G28: Phone: | I28: Mobile:
A29: Job Title: | C29: Email: | G29: Job Title: | I29: Email:
A32: B. Certification Scope Information
A33: Below, please provide the information related to the scope of your certification, including the crops you wish to certify. This should be the same information that you provided during registration in the Rainforest Alliance Certification Platform (RACP). You can copy this information from your account in the RACP. Please bear in mind that the harvest time of the main crop will determine the window for the audit to be conducted. In this form, you have space for 4 crops. Please add the 4 main crops, those crops with the largest volumes. The main crop is defined as the crop with the largest volume within the certification cycle (3 years). The timing of your audit will be calculated based on the audit window for the main crop. Also, have in mind that the volumes and area should be provided for one year harvest season or production period (in case of continuous production). If you produce more than 4 crops, the remaining ones should be added to the Rainforest Alliance Certification Platform only.
A35: Application Date: | C35: Year in Cycle
A36: Unique ID: | C36: Audit Type: | H36: Main Crop | I36: 2nd Crop | J36: 3rd Crop | K36: 4th Crop
A37: Scope | B37: Farm | C37: Option | D37: ='Hidden Lists'!P3 -> Group of Farms | G37: Category
A38: =IFERROR(VLOOKUP(D37,'Hidden Lists'!P3:Q7,2,FALSE)," ") -> A group of organized farms (group members) that implements a common management system, organized as an association or cooperative or managed by a farm or other supply chain actor such as an exporter or another entity. | G38: Crop
G39: Variety, if Applicable
G40: Other (if not in list):
A41: Verification Level | B41: E | G41: Volume (Kg/stems)
G42: Crop Production Area (ha)
G43: Main Harvest Start date
G44: Main Harvest End date
A45: Previous UTZ ID/RA Certificate Code (in case of transition audit only): Fill as many as needed, one per cell | G45: Minor Harvest Start date
G46: Minor Harvest End date
G47: Traceability Level
F48: 4
...

Sheet 2.Audit Plan
E1: ='1.Application Form'!K1 -> Version 1.1 July 2021
A2: Audit Plan
A3: ='1.Application Form'!A3:K3 -> For Farm Certificate Holders & Applicants Group certification
A4: ='1.Application Form'!A4:K4 -> Sustainable Agriculture Standard 2020 v1.1.
A6: A. Identification of the CH and Contact Person
A7: Please see below quick-access information about the Certificate Holder to be audited.
A8: Name of the Certificate Holder (as in certificate): | C8: ='1.Application Form'!H10 -> 0
A9: Legal name of the Certificate Holder: | C9: ='1.Application Form'!C9 -> 0
A11: Address of the operation: | B11: ='1.Application Form'!C13 -> 0
A12: State/Province: | B12: ='1.Application Form'!I13 -> 0 | C12: City: | D12: ='1.Application Form'!G13 -> 0
A13: Country: | B13: ='1.Application Form'!I14 -> 0
A15: Contact Person Name: | B15: ='1.Application Form'!H20 -> 0
A16: Phone: | B16: ='1.Application Form'!H22 -> 0 | C16: Email: | D16: ='1.Application Form'!J23 -> 0
A18: Date this application was shared with the Lead Auditor
A20: B. Audit Scope Identification
A21: Indicate below the information requested on the scope of the audit. As per Certification Rules clauses 1.1.9 and 1.1.0, the scope of the applicable standard requirements from chapters 1, 4.5, 4.6, 5 and 6 shall cover all operations and areas of all entities (farms, sites, subcontractors etc.) included in the certification scope of the CH. The scope of the applicable standard requirements from chapters 2, 3 and 4 (except 4.5, 4.6) shall focus on the crop and activities related to the crop to be sold with a Rainforest Alliance Certified claim.
A23: Date of the audit plan | D23: Standard Version: | E23: v.1.1 2020.
A24: Audit Scope: | B24: ='1.Application Form'!B37 -> Farm | D24: Applicable Requirements
A25: Audit Type: | D25: ='Hidden Lists'!C3 -> Core Requirements
D26: ='Hidden Lists'!C4 -> Mandatory Improvements
D27: ='Hidden Lists'!C5 -> Self-selected Improvements
A28: Crops: | B28: Area | D28: ='Hidden Lists'!C6 -> Mandatory Smart Meters
A29: ='1.Application Form'!H38 -> 0 | B29: ='1.Application Form'!H42 -> 0 | D29: ='Hidden Lists'!C7 -> Self-Selected Smart Meters
A30: ='1.Application Form'!I38 -> 0 | B30: ='1.Application Form'!I42 -> 0
A31: ='1.Application Form'!J38 -> 0 | B31: ='1.Application Form'!J42 -> 0 | D31: Method to be used
A32: ='1.Application Form'!K38 -> 0 | B32: ='1.Application Form'!K42 -> 0 | D32: Is this a combined audit?
D33: With which schemes?
A35: Audit Objectives
A37: C. Audit Team Identification
A38: Please indicate below the composition of the audit team. Use the Auditing Rules related to audit team composition to determine the audit team.
A39: Name: | D39: Role:
A40: Gender: | D40: =IFERROR(VLOOKUP(E39,'Hidden Lists'!$P$11:$Q$17,2,FALSE)," ")
A41: Contact Info:
A43: Name: | D43: Role:
A44: Gender: | D44: =IFERROR(VLOOKUP(E43,'Hidden Lists'!$P$11:$Q$17,2,FALSE)," ")
A45: Contact Info:
A47: Name: | D47: Role:
A48: Gender: | D48: =IFERROR(VLOOKUP(E47,'Hidden Lists'!$P$11:$Q$17,2,FALSE)," ")
A49: Contact Info:
A51: Name: | D51: Role:
...

Sheet 2a.Risk Assessment
E1: ='1.Application Form'!K1 -> Version 1.1 July 2021
A2: Audit Risk Assessment
A3: ='1.Application Form'!A3:K3 -> For Farm Certificate Holders & Applicants Group certification
A4: ='1.Application Form'!A4:K4 -> Sustainable Agriculture Standard 2020 v1.1.
A6: A. Identification of the Assessment
A7: Please indicate the date and the person who has conducted (responsible) the risk assessment within your audit team.
A8: Certificate Holder: | B8: ='2.Audit Plan'!C8 -> 0
A9: Date:
A10: Responsible
A12: B. Audit Risk Assessment
A13: Please fill in the cells in white below. Based on the answers and the data provided by the applicant in tab "1.Application Form", a risk category will be generated for the applicant. This risk assessment is based on rule 2.3.19 of the Certification and Auditing rules, version 1.1 - using this risk assessment is therefore mandatory for every audit.
A14: Risk factor | C14: Data | D14: Comment | E14: Score (Hidden)
A15: 1) History of applicant - new applicant or applicant certified in the last 2 years against the UTZ and/or Rainforest Alliance 2017 program? | E15: =IF(C15='Hidden Lists'!F39,1,0) -> 0
A16: 2) If previously certified applicant, how many non-conformities were raised in latest audit, based on the last audit report (UTZ or RA 2017)? | E16: =IF(C16>2,_xlfn.IFS(C16<=14,1,C16>=15,2),0) -> 0
A17: 3) If applicant certified in the last 2 years, were there any non-certification, cancellation, or suspension in the last 2 years? | E17: =IF(C17='Hidden Lists'!F41,1,0) -> 0
A18: 4) Are there complaints, open lawsuits or inclusion in relevant databases against the CH? If so, elaborate in comment section. | E18: =IF(C18='Hidden Lists'!F3,2,0) -> 0
A19: 5) Result of Rainforest Alliance Country Risk Map for Child Labor | D19: Map available here | E19: =_xlfn.IFS(C19='Hidden Lists'!K11,2,C19='Hidden Lists'!K12,1,C19='Hidden Lists'!K13,0,C19=0,0) -> 0
A20: 6) Result of Rainforest Alliance Country Risk Map for Forced Labor | D20: Map available here | E20: =_xlfn.IFS(C20='Hidden Lists'!K11,2,C20='Hidden Lists'!K12,1,C20='Hidden Lists'!K13,0,C20=0,0) -> 0
A21: 7) Deforestation Risk Assessment (Based on risk maps provided by Rainforest Alliance) | E21: =_xlfn.IFS(C21='Hidden Lists'!$M$9,2,C21='Hidden Lists'!$M$8,1,C21='Hidden Lists'!$M$7,0,C21=0,0) -> 0
A22: 8) Encroachment Risk Assessment (Based on risk maps provided by Rainfoest Alliance) | E22: =_xlfn.IFS(C22='Hidden Lists'!$M$9,2,C22='Hidden Lists'!$M$8,1,C22='Hidden Lists'!$M$7,0,C22=0,0) -> 0
A23: 9) Average estimated yield of main crop of applicant | C23: =IFERROR('1.Application Form'!H41/'1.Application Form'!H42,"") | E23: =IFERROR(IF(C23>1.5*IF('1.Application Form'!H41='Yield Benchmark'!A18,VLOOKUP('1.Application Form'!I14,'Yield Benchmark'!B$18:C$35,2,0),IF('1.Application Form'!H38='Yield Benchmark'!A36,VLOOKUP('1.Application Form'!I14,'Yield Benchmark'!B$36:C$63,2,0),IF('1.Application Form'!H38='Yield Benchmark'!A70,VLOOKUP('1.Application Form'!I14,'Yield Benchmark'!B$69:C$72,2,0),IF('1.Application Form'!H38='Yield Benchmark'!A12,VLOOKUP('1.Application Form'!I14,'Yield Benchmark'!B$4:C$17,2,0),IF('1.Application Form'!H38='Yield Benchmark'!A78,VLOOKUP('1.Application Form'!I14,'Yield Benchmark'!B$73:C$90,2,0),'Hidden Lists'!#REF!))))),1,0),"")
A24: 10) Total area (ha) of main certified crop per group member | C24: =IF(ISERROR('1.Application Form'!H42/SUM('1.Application Form'!D94,'1.Application Form'!D95))=TRUE,"",IF('1.Application Form'!H42/SUM('1.Application Form'!D94,'1.Application Form'!D95)=0,"",'1.Application Form'!H42/SUM('1.Application Form'!D94,'1.Application Form'!D95))) | E24: =IF(C24<=5,0,IF(C24<=50,1,2)) -> 2
A25: 13 )Proportion from male to female permanent workers. How many male workers are there for each female worker. | C25: =IFERROR(SUM('1.Application Form'!H60+'1.Application Form'!H62)/SUM('1.Application Form'!I60+'1.Application Form'!I62),0) -> 0 | E25: =IF(C25<0.5,0,IF(C25<=1,1,2)) -> 0
A26: 14) Proportion from male to female temporary workers. How many male workers are there for each female worker. | C26: =IFERROR(SUM('1.Application Form'!H61+'1.Application Form'!H63)/SUM('1.Application Form'!I61+'1.Application Form'!I63),0) -> 0 | E26: =IF(C26<0.5,0,IF(C26<=1,1,2)) -> 0
A27: 15) Total number of workers below 18 years of age | C27: =IF(AND(ISBLANK('1.Application Form'!J60:J63)=TRUE,ISBLANK('1.Application Form'!J67)=TRUE),"",'1.Application Form'!D91) -> 0 | E27: =IF(C27<1,0,IF(C27<=2,1,2)) -> 0
A28: 16) Total number of labor providers used | C28: =IF(ISBLANK('1.Application Form'!C68)=TRUE,"",'1.Application Form'!C68) | E28: =IF(C28=0,0,1) -> 1
A29: 17) Total number of migrant workers | C29: ='1.Application Form'!K68 -> 0 | E29: =IF(C29<=10,1,2) -> 1
A30: 18) Number of other certification scheme(s) | C30: =COUNTA('1.Application Form'!C49:E51) -> 0 | E30: =IF(C30>0,1,0) -> 0
A31: 19) Total number of group member (small farms and large farms) | C31: =IF(SUM('1.Application Form'!D94:D95)=0,"",SUM('1.Application Form'!D94:D95)) | E31: =IF(C31<=1000,0,IF(C31<=10000,1,2)) -> 2
A32: 20) Total number of female group members | C32: ='1.Application Form'!I57 -> 0 | E32: =IF(C32<=1000,0,IF(C32<=10000,1,2)) -> 0
A33: 21) Average number of temporary workers per group member | C33: =IF(ISERROR('1.Application Form'!D92)=TRUE,"",IF('1.Application Form'!D92=0,"",'1.Application Form'!D92)) | E33: =IF(C33<=50,0,IF(C33<=150,1,2)) -> 2
A34: 22) Percentage of large farm group members | C34: =IF(ISERROR('1.Application Form'!D93/SUM('1.Application Form'!D94:D95))=TRUE,"",'1.Application Form'!D95/SUM('1.Application Form'!D94:D95)) | E34: =IF(C34<=5%,0,IF(C34<=10%,1,2)) -> 2
A35: Risk Category | C35: =VLOOKUP(E35,'Risk factors'!$B$63:$D$67,3,TRUE) -> 4. High risk | E35: =SUM(E15:E34) -> 10
A37: C. Lawsuit Investigation
A38: Clause 2.3.19.u of Annex AR4 of the Auditing Rules establishes that CBs should conduct a preliminary investigation on lawsuits that are opened against the Certificate Holder and/or its legal responsible on topics related to the social chapter of the Sustainable Agriculture Standard. It is recommended that for countries where deforestation is considered a high risk, the CB should extend this investigation to environmental topics as much as possible. The CB can carry out this investigation in public court systems and/or by obtaining self-declarations from the Certificate Holder. Both types should be listed below. The CB acknowledges that the investigation was properly conducted and keeps evidence of such consultations in its QMS.
A39: Location (Forum) | B39: Nº of Lawsuit/ Resolution | C39: Status | D39: Topic of the Lawsuit | E39: Severity | F39: Date of opening

Sheet 2b.Duration
G1: ='1.Application Form'!K1 -> Version 1.1 July 2021
A2: Audit Duration Calculation
A3: ='1.Application Form'!A3:K3 -> For Farm Certificate Holders & Applicants Group certification
A4: ='1.Application Form'!A4:K4 -> Sustainable Agriculture Standard 2020 v1.1.
A5: The calculation represented below is in line with the Auditing and Certification Rules of Rainforest Alliance, and therefore mandatory. Such calculation is delivered in auditor days considering a working day as an eight-hour work day. Also, to keep the audit and the auditor job at the highest levels, auditors are only allowed to work eight hours per audit day including traveling time, as per clauses 2.1.4 and 2.1.5 of the Auditing Rules. Bear in mind that an auditor can audit a maximum of 6 small farms per day and 3 large farms per day. The CB should only select the Farm Proximity Factor, and indicate the traveling time and extra time (if any). All other values are calculated automatically.
C7: Value (aud/d) | G7: =(C8*C9*C16)+(SUM(C10:C15)*C19)+C18 -> 0
A8: Factor 1 | B8: Risk Factor | C8: =IFERROR(VLOOKUP('2a.Risk Assessment'!C35,Factors!AN15:AO19,2,FALSE),0) -> 1.15 | D8: Calculated based on the General Risk Assessment, as per Rule 2.5.4. | F8: Min. Audit Days (aud/d) | G8: =CEILING(G7,0.5) -> 0 | I8: 11
A9: Factor 2 | B9: Farm Area | C9: =VLOOKUP('2.Audit Plan'!F78,Factors!AA3:AB14,2,TRUE) -> 0.5 | D9: Calculated based on Rainforest Alliance methodology | F9: Actual audit days/ nº of auditors | G9: =IFERROR(CEILING(G8/'2.Audit Plan'!B73,0.5),1) -> 1
A10: Factor 3 | B10: Management System | C10: 1 | D10: As per clause 2.5.7 | F10: Actual audit days + Logistics | G10: =G9+C17 -> 1
A11: Factor 4 | B11: Processing Sites | C11: ='2.Audit Plan'!B80*0.25 -> 0 | D11: Each facility is factored as 0.25 aud/d (2h). | F11: In case you assigned extra time, please justify below:
A12: Factor 5 | B12: Interview Duration | C12: ='2.Audit Plan'!B87*0.03 -> 0 | D12: In aud/d based on individual interviews as 0.03 aud/d (15 min).
A13: Factor 6 | B13: Worker Houses | C13: ='2.Audit Plan'!B91*0.03 -> 0 | D13: Each habitable area is factored as 0.03 aud/d (15 min).
A14: Factor 7 | B14: External Actors | C14: =SUM('2.Audit Plan'!B81:B84)*0.25 -> 0 | D14: Each External Actor is factored as 0.25 aud/d (2h).
A15: Factor 8 | B15: Purchase Centers | C15: ='1.Application Form'!C66*0.18 -> 0 | D15: Each Purchase Center is factored as 0.18 aud/d (1.5h).
A16: Factor 9 | B16: Farm Proximity Factor | D16: =IFERROR(VLOOKUP(C16,Factors!AO3:AP7,2,FALSE)," ")
A17: Factor 10 | B17: Traveling Time | D17: The CB should indicate estimated traveling time from the base of the auditors to the auditing sites.
A18: Factor 11 | B18: CB assigned Extra Time | D18: The CB can assign extra audit time based on the audit risk analysis and other factors they may find applicable, based on Annex AR4 of the Auditing Rules, for example, for off-site investigations.
A19: Factor 12 | B19: Combined/Integrated audit? | D19: Please choose as per Annex AR10: No combined audit - 1,00 Combined audit with 2 schemes - 1,50 Combined audits with 3+ schemes - 1,75 If the cell is shown in red, please review the information.

Sheet 3.Audit Summary
E1: ='1.Application Form'!K1 -> Version 1.1 July 2021
A2: Audit Summary
A3: ='1.Application Form'!A3:K3 -> For Farm Certificate Holders & Applicants Group certification
A4: ='1.Application Form'!A4:K4 -> Sustainable Agriculture Standard 2020 v1.1.
A6: A. Audit Information Confirmation
A7: Please indicate below the following information as related to the finalized audit and further procedures.
A9: Standard Version | B9: v.1.1 2020.
A10: Executed Audit Start Date | D10: Was the audit terminated?
A11: Executed Audit End Date | D11: Termination Date
A12: Executed Audit Duration (in aud/d) | D12: Justification for certification decision or audit termination
A14: Was it an audit combined with other schemes?
A15: What method was used in this audit?
A17: Was there a follow up audit due to NCs?
A18: What type of follow up audit, if any?
A19: How many NCs found?
A20: Executed Follow up Audit Duration (in aud/d)
A21: Follow Up Audit Start Date
A22: Follow Up Audit End Date
A24: Name of assigned Quality Reviewer
A25: Quality Review Completion Date
A26: Name of assigned Certifier
A27: Certification Decision
A28: Certification Decision date
B30: Executed Sample | C30: Planned Sample | D30: If executed sample is less than planned, provide explanation
A31: Workers Interviewed | C31: ='2.Audit Plan'!B87 -> 0
A32: Large Farms | B32: =COUNTIF(($C$43:C915),'Hidden Lists'!I13) -> 0 | C32: ='2.Audit Plan'!B78 -> 0
A33: Small Farms | B33: =COUNTIF(($C$43:C916),'Hidden Lists'!I14) -> 0 | C33: ='2.Audit Plan'!B79 -> 0
A34: Processing Site | B34: =COUNTIF(($C$43:C917),'Hidden Lists'!I15) -> 0 | C34: ='2.Audit Plan'!B80 -> 0
A35: Subcontractor | B35: =COUNTIF(($C$43:C918),'Hidden Lists'!I16) -> 0 | C35: ='2.Audit Plan'!B81 -> 0
A36: Service provider | B36: =COUNTIF(($C$43:C919),'Hidden Lists'!I17) -> 0 | C36: ='2.Audit Plan'!B83 -> 0
A37: Labor provider | B37: =COUNTIF(($C$43:C920),'Hidden Lists'!I18) -> 0 | C37: ='2.Audit Plan'!B84 -> 0
A38: Other | B38: =COUNTIF(($C$43:C921),'Hidden Lists'!I19) -> 0 | C38: 0
A40: A. Sample Disclosure
A41: Please indicate below which were the farms, sites, and service providers that were part of the audit sample for this audit. Do not forget that sample increases need to be justified.
A42: Name | B42: Internal ID Number | C42: Type | D42: Sampling Type | E42: If increase, indicate justification

Sheet 4.Monitoring
G1: ='1.Application Form'!K1 -> Version 1.1 July 2021
A2: Process Monitoring
A3: ='1.Application Form'!A3:K3 -> For Farm Certificate Holders & Applicants Group certification
A4: ='1.Application Form'!A4:K4 -> Sustainable Agriculture Standard 2020 v1.1.
A6: A. Audited Sample | E6: B. Timelines
A7: Please see below an overview of the executed audit sample versus the planned one. In case the executed sample is smaller than planned it will be colored in red and the CB should provide justification. | E7: Below you can see the deadline of all time-bound activities in the certification process triggered before the first audit data and after the last audit date. The Quality Review can use this to ensure timelines were complied with.
B8: Executed | C8: Planned | F8: Executed | G8: Deadline | I8: Days
A9: ='3.Audit Summary'!A31 -> Workers Interviewed | B9: ='3.Audit Summary'!B31 -> 0 | C9: ='3.Audit Summary'!C31 -> 0 | E9: Application Approval | F9: ='1.Application Form'!F117 -> 0 | G9: 0 | I9: 0
A10: ='Hidden Lists'!I13 -> Large Farm | B10: =COUNTIF(SampleDiscl[#All],'Hidden Lists'!I13) -> 0 | C10: ='2.Audit Plan'!B78 -> 0 | E10: CB Contract Agreement | F10: ='1.Application Form'!F118 -> 0 | G10: =G13-I10 -> 47 | I10: =6*7 -> 42
A11: ='Hidden Lists'!I14 -> Small Farm | B11: =COUNTIF(SampleDiscl[#All],'Hidden Lists'!I14) -> 0 | C11: ='2.Audit Plan'!B79 -> 0 | E11: App. Shared with Audit Team | F11: ='2.Audit Plan'!B18 -> 0 | G11: =G13-I11 -> 75 | I11: =2*7 -> 14
A12: ='Hidden Lists'!I15 -> Processing Site | B12: =COUNTIF(SampleDiscl[#All],'Hidden Lists'!I15) -> 0 | C12: ='2.Audit Plan'!B80 -> 0 | E12: Audit Plan sent to CH | F12: ='2.Audit Plan'!B23 -> 0 | G12: =G13-I12 -> 75 | I12: =2*7 -> 14
A13: ='Hidden Lists'!I16 -> Subcontractor | B13: =COUNTIF(SampleDiscl[#All],'Hidden Lists'!I16) -> 0 | C13: ='2.Audit Plan'!B81 -> 0 | E13: First Audit Date | F13: ='3.Audit Summary'!B10 -> 0 | G13: ='1.Application Form'!J51-'2b.Duration'!G9 -> 89 | I13: 0
A14: ='Hidden Lists'!I17 -> Service Provider | B14: =COUNTIF(SampleDiscl[#All],'Hidden Lists'!I17) -> 0 | C14: ='2.Audit Plan'!B83 -> 0 | E14: Last Audit Date | F14: ='3.Audit Summary'!B11 -> 0 | G14: ='1.Application Form'!J51 -> 90 | I14: 0
A15: ='Hidden Lists'!I18 -> Labor Provider | B15: =COUNTIF(SampleDiscl[#All],'Hidden Lists'!I18) -> 0 | C15: ='2.Audit Plan'!B84 -> 0 | E15: NC Resolution Window | F15: =G14 -> 90 | G15: =G14+I15 -> 90 | I15: =IF(B17=0,0,10*7) -> 0
E16: Final Audit Report in RACP (QR) | G16: =G17 -> 118 | I16: 0
A17: NCs Found in Audit | B17: ='3.Audit Summary'!B19 -> 0 | E17: Certification Decision | F17: ='3.Audit Summary'!B28 -> 0 | G17: =I17+G15 -> 118 | I17: =IF(B17=0,4*7,2*7) -> 28
E18: License Request | G18: =I18+G17 -> 125 | I18: =7*1 -> 7
E22: Note for the CB:
E23: Fill in the cells related to the activities indicated in green below. Indicate the date regarding the Final Audit Report in the RACP (F16) and the License Request Date (F18).

Sheet Hidden Lists
A1: Note for translator: This tab should be translated, otherwise the dropdown menus will not work
A2: Country List | C2: Types of Requirements | F2: Y/N List | I2: Lawsuit | K2: Auditor list | M2: Interview Type | P2: Cert. Options | Q2: Description | S2: Messages | U2: GPF
A3: Afghanistan | C3: Core Requirements | F3: Yes | I3: C | K3: ='2.Audit Plan'!B39 -> 0 | M3: Individual | P3: Group of Farms | Q3: A group of organized farms (group members) that implements a common management system, organized as an association or cooperative or managed by a farm or other supply chain actor such as an exporter or another entity. | R3: x | S3: Please review the start and end dates of the audit. Based on the inserted dates and number of the auditors, the interval may not be enough. | T3: x | U3: Group farms are in very close proximity and it is easy to visit more than 6 farms per auditor within 8 hours, including time for traveling between 6 farms in any 2 selected sub-groups/villages
A4: Albania | C4: Mandatory Improvements | F4: No | I4: NC | K4: ='2.Audit Plan'!B43 -> 0 | M4: Group | P4: Single Farm | Q4: A single farm that owns or manages one farm with an independent organizational structure, whereby central management and all activities take place at a single physical location. | R4: x | U4: Group farms are in reachable distances and it is reasonable to visit up to 5 farms within 8 hours, including time for traveling between 5 farms in any 2 selected sub-groups/villages
A5: Algeria | C5: Self-selected Improvements | I5: NA | K5: ='2.Audit Plan'!B47 -> 0 | P5: Multi Farm | Q5: Two or more farms owned or rented by one entity whose operations and farming practices are managed centrally, regardless of certification. | R5: x | S5: Worker Concat | U5: Group farms are distant from each other and it is reasonable to visit up to 4 farms within 8 hours, including time for traveling between 4 farms in any 2 selected sub-groups/villages
A6: Andorra | C6: Mandatory Smart Meters | F6: Scopes | K6: ='2.Audit Plan'!B51 -> 0 | M6: Deforestation/ Encroachment risk parameters | P6: Single Site | Q6: An individual organization that does not have farming in the scope of its Rainforest Alliance certification, whereby central management and all activities take place at a single physical location | R6: x | S6: being | U6: Group farms are quite distant from each other and it is reasonable to visit up to 3 farms within 8 hours, including time for traveling between 3 farms in any 2 selected sub-groups/villages
A7: Angola | C7: Self-Selected Smart Meters | F7: Farm | I7: Checklist | K7: ='2.Audit Plan'!B55 -> 0 | M7: All green - Low | P7: Multi Site | Q7: An organization that does not have farming in the scope of its Rainforest Alliance certification and has an identified central location under which two or more sites are operating. | R7: x | S7: and
A8: Antigua and Barbuda | F8: SupplyChain | I8: Comply | K8: ='2.Audit Plan'!B59 -> 0 | M8: Any Orange but no Red - Medium | N8: x | S8: worker(s) | U8: Risk category
A9: Argentina | C9: Types of Audits | I9: Non-conformity | M9: Any Red - High | S9: workers | U9: 1. Very low risk
A10: Armenia | C10: Transition | F10: Sent List | I10: Not Applicable | K10: Risk Levels | P10: Types of Auditors | Q10: Description | R10: x | S10: in | U10: 2. Low risk
A11: Australia | C11: Certification | F11: Sent | K11: High | P11: Lead Auditor | Q11: Responsible for leading and organizing the audit team; ensures the complete and proper execution of the audit; adjusts the audit plan upon communication to the client; prepares the audit report. | R11: x | U11: 3. Medium risk
A12: Austria | C12: Surveillance | F12: Not sent | I12: Sample Types | K12: Medium | P12: Lead Auditor for Social Topics | Q12: Responsible for leading and organizing the social requirements investigation during audits and to apply the extra audit requirements for medium/high risk contexts as per RA social Risk Maps. | R12: x | U12: 4. High risk
A13: Azerbaijan | C13: Follow up | I13: Large Farm | K13: Low | P13: Support Auditor | Q13: Supports the lead auditor with specific tasks to ensure the complete and proper execution of the audit. Prepares specific input for the audit report. | R13: x | U13: 5. Highest risk
A14: The Bahamas | C14: Surprise | F14: Lawsuit | I14: Small Farm | K14: Not Applicable | P14: Trainee Auditor | Q14: Performs tasks on verification under the supervision of an auditor or the lead auditor at all times. | R14: x
A15: Bahrain | C15: Investigation | F15: Open | I15: Processing Site | P15: Technical Expert | Q15: Supports in employing specific audit methods for gathering evidence in a given topic identified as high/medium risk for the audit context. | R15: x
A16: Bangladesh | C16: Extension | F16: Closed | I16: Subcontractor | P16: Interpreter | Q16: Supports the audit team by literally translating statements of interviews and shall not influence on (non)conformity assessment. | R16: x
A17: Barbados | C17: Shadow | F17: Secrecy | I17: Service Provider | P17: Observer | Q17: Observes the audit process with no influence for learning or institutional reasons but also for monitoring and assessment of auditors. | R17: x
A18: Belarus | C18: Review | I18: Labor Provider | P18: Guidance on Worker Types | Q18: Unionized and Migrant workers are not exclusive categories, meaning that temporary and permanent workers can be migrant and unionized as well. The indication of these field is limited to the fact that the lead auditor needs to make sure that part of the sampled workers in the temporary/permanent categories also cover the number of unionized/migrant workers indicated here. | R18: x
A19: Belgium | F19: Gender | G19: Gender | I19: Other
A20: Belize | C20: Version Concat | F20: (M) | G20: Male
A21: Benin | C21: Version | F21: (F) | G21: Female | I21: Sample Size
A22: Bhutan | C22: 1.1 July 2021 | I22: Originally Planned
A23: Bolivia | F23: Site Types | I23: Increased
A24: Bosnia and Herzegovina | F24: Farm
A25: Botswana | C25: Validation Combined Audit | F25: Processing Site | I25: Traceability Level
A26: Brazil | C26: =IF('2.Audit Plan'!E32='Hidden Lists'!F3,1,0) -> 0 | I26: Identity Preserved
A27: Brunei | C27: ='2b.Duration'!C19 -> 0 | F27: Status | I27: Segregation
A28: Bulgaria | C28: Wrong | F28: Approved | I28: Mass Balance
A29: Burkina Faso | C29: Correct | F29: Rejected
A30: Burundi | C30: =IF(AND(C26=1,C27<1.1),C28,C29) -> Correct | I30: External Actors
A31: Cambodia | F31: Cert. Decision | I31: Subcontractor
A32: Cameroon | C32: Follow up audit validation | F32: Certification | I32: Intermediary
A33: Canada | C33: On site | F33: Non-certification | I33: Service Provider
A34: Cape Verde | C34: Partially remote | F34: Suspension | I34: Labor Provider
A35: Central African Republic | C35: Remote | F35: Cancelation
A36: Chad | C36: =IF('3.Audit Summary'!B17='Hidden Lists'!F3,1,0) -> 0 | I36: Currencies
A37: Chile | C37: =COUNTA('3.Audit Summary'!B21:B22) -> 0 | I37: USD
A38: China | C38: =IF(AND(C36=1,C37<2),C28,C29) -> Correct | F38: CH Risk analysis | I38: EUR
A39: Colombia | F39: New Applicant | G39: x
A40: Comoros | C40: Termination Validation | F40: Existent Applicant | G40: x
...

Sheet Crop List
A1: ='Hidden Lists'!A1 -> Note for translator: This tab should be translated, otherwise the dropdown menus will not work
A2: Certification scope | B2: Category | C2: Crop name final | E2: Category List | G2: Important instructions!
A3: RA | B3: Cocoa | C3: Cocoa | E3: Cocoa | G3: After translations/updates ensure the following:
A4: RA | B4: Coffee | C4: Coffee Arabica | E4: Coffee | G4: 1) Sort the crop list per category (B2) from A to Z
A5: RA | B5: Coffee | C5: Coffee Robusta | E5: Flower | G5: 2) Open the Name Manager. You will see the same entries as the category list (E2) as names.
A6: RA | B6: Flower | C6: Ferns | E6: Fruit | G6: 3) Open each name and align it with the translated/updated list. This means that you need to reselect all crop names (column C) and link it to the corresponding category.
A7: RA | B7: Flower | C7: Leather leaf fern | E7: Herbs | G7: No other changes are needed!
A8: RA | B8: Flower | C8: Other ornamental plants | E8: Nuts
A9: RA | B9: Flower | C9: Palm leaves | E9: Tea
A10: RA | B10: Flower | C10: Psyllium | E10: Vegetable
A11: RA | B11: Flower | C11: Rose
A12: RA | B12: Flower | C12: Sunflower
A13: RA | B13: Flower | C13: Various Foliage
A14: RA | B14: Fruit | C14: Açaí
A15: UEBT/RA | B15: Fruit | C15: Apple blossoms
A16: RA | B16: Fruit | C16: Apple fruit
A17: UEBT/RA | B17: Fruit | C17: Apple leaves
A18: UEBT/RA | B18: Fruit | C18: Apricot blossoms
A19: RA | B19: Fruit | C19: Apricot fruit
A20: UEBT/RA | B20: Fruit | C20: Apricot leaves
A21: RA | B21: Fruit | C21: Avocado
A22: RA | B22: Fruit | C22: Banana
... A371: RA | B371: Vegetable | C371: Yam

Sheet Yield Benchmark
A1: ='Hidden Lists'!A1 -> Note for translator: This tab should be translated, otherwise the dropdown menus will not work
A3: Commodity | B3: Cert Holder Country | C3: Benchmark (Kg)
A4: Banana | B4: Belize | C4: 19017
A5: Banana | B5: Brazil | C5: 32237
A6: Banana | B6: Colombia | C6: 46441
A7: Banana | B7: Costa Rica | C7: 47146
A8: Banana | B8: Ecuador | C8: 43275
A9: Banana | B9: Guatemala | C9: 73245
A10: Banana | B10: Honduras | C10: 52598
A11: Banana | B11: Cote d'Ivoire | C11: 44448
A12: Banana | B12: Malawi | C12: 12353
A13: Banana | B13: Mexico | C13: 52200
A14: Banana | B14: Nicaragua | C14: 50036
A15: Banana | B15: Panama | C15: 38000
... A90: Tea | B90: Zimbabwe | C90: 798.80774

Sheet Factors
A1: Note for translator: No need to translate this tab | Z1: Area | AD1: Interviews | AH1: Samples
B2: Sample factors | L2: Number of workers involved in the CH | M2: Lower border of category (min workers) | N2: Minimum number of interviews | O2: Minimum number of individual interviews | P2: Maximum number of group interviews - Description | Q2: Maximum number of group interviews (Group/Components) | R2: Minimum number of worker files to be checked | Z2: Category | AA2: Lower limit | AB2: factor | AD2: Individual Interview | AE2: 0.25 | AF2: h | AH2: DLS | AI2: 0.4 | AO2: GPF
B3: Item | C3: Sample for Audit Calculation | D3: Formula for Audit Sample | E3: Totals from Application Form | F3: Min. Sample | G3: Sample for Groups | H3: Note | I3: Clause | L3: 1 to 5 | M3: 1 | N3: =SUM('1.Application Form'!D89:D90) -> 0 | O3: =N3 -> 0 | P3: 0 | Q3: 0 | R3: =N3 -> 0 | Z3: 0 to 50 | AA3: 0 | AB3: 0.5 | AD3: Group Interview | AE3: 0.5 | AF3: h | AO3: 1 | AP3: ='Hidden Lists'!U3 -> Group farms are in very close proximity and it is easy to visit more than 6 farms per auditor within 8 hours, including time for traveling between 6 farms in any 2 selected sub-groups/villages
B4: Small Farms | C4: =IF(D4<F4,SMALL(E4:F4,1),ROUNDUP(D4,0)) -> 0 | D4: =SQRT(E4) -> 0 | E4: ='1.Application Form'!C60 -> 0 | F4: 3 | G4: √ | H4: Square root of total | I4: 2.4.13.g | L4: 6 to 10 | M4: 6 | N4: 6 | O4: 6 | P4: 0 | Q4: 0 | R4: 6 | Z4: 51 to 100 | AA4: 50 | AB4: 1 | AH4: Combined Audits | AO4: 1.1 | AP4: ='Hidden Lists'!U4 -> Group farms are in reachable distances and it is reasonable to visit up to 5 farms within 8 hours, including time for traveling between 5 farms in any 2 selected sub-groups/villages
B5: Large Farms | C5: =IF(D5<F5,SMALL(E5:F5,1),ROUNDUP(D5,0)) -> 0 | D5: =E5*G5 -> 0 | E5: ='1.Application Form'!C61 -> 0 | F5: 3 | G5: 0.4 | H5: 0.4 | I5: 2.4.13.j | L5: 11 to 50 | M5: 11 | N5: 9 | O5: 6 | P5: 1 group of 3 | Q5: 1 | R5: 9 | Z5: 101 to 250 | AA5: 100 | AB5: 1.2 | AI5: 1 | AO5: 1.2 | AP5: ='Hidden Lists'!U5 -> Group farms are distant from each other and it is reasonable to visit up to 4 farms within 8 hours, including time for traveling between 4 farms in any 2 selected sub-groups/villages
B6: Processing Sites | C6: =IF(D6<F6,SMALL(E6:F6,1),ROUNDUP(D6,0)) -> 0 | D6: =SQRT(E6) -> 0 | E6: ='1.Application Form'!C62 -> 0 | F6: 3 | G6: √ | H6: Square root of total | I6: 2.4.13.b | L6: 51 to 100 | M6: 51 | N6: 15 | O6: 7 | P6: 1 group of 3 1 group of 5 | Q6: 2 | R6: 12 | Z6: 251 to 350 | AA6: 250 | AB6: 1.7 | AI6: 1.5 | AO6: 1.3 | AP6: ='Hidden Lists'!U6 -> Group farms are quite distant from each other and it is reasonable to visit up to 3 farms within 8 hours, including time for traveling between 3 farms in any 2 selected sub-groups/villages
B7: Subcontractors | C7: =IF(D7<F7,SMALL(E7:F7,1),ROUNDUP(D7,0)) -> 0 | D7: =E7*G7 -> 0 | E7: ='1.Application Form'!C65 -> 0 | F7: 3 | G7: 0.33 | H7: Subcontractors, intermediaries and service providers shall all be audited within 3-years time (0,33). | I7: 2.4.9.b | L7: 101 to 250 | M7: 101 | N7: 20 | O7: 10 | P7: 2 groups of 5 | Q7: 2 | R7: 15 | Z7: 351 to 450 | AA7: 350 | AB7: 2.2 | AI7: 1.75
B8: Intermediaries | C8: =IF(D8<F8,SMALL(E8:F8,1),ROUNDUP(D8,0)) -> 0 | D8: =E8*G8 -> 0 | E8: ='1.Application Form'!C66 -> 0 | F8: 3 | G8: 0.33 | H8: Subcontractors, intermediaries and service providers shall all be audited within 3-years time (0,33). | I8: 2.4.9.b | L8: 251 to 500 | M8: 251 | N8: 32 | O8: 12 | P8: 2 groups of 3 1 group of 4 2 groups of 5 | Q8: 5 | R8: 18 | Z8: 451 to 600 | AA8: 450 | AB8: 2.5 | AN8: Risk
B9: Service Providers | C9: =IF(D9<F9,SMALL(E9:F9,1),ROUNDUP(D9,0)) -> 0 | D9: =E9*G9 -> 0 | E9: ='1.Application Form'!C67 -> 0 | F9: 3 | G9: 0.33 | H9: Subcontractors, intermediaries and service providers shall all be audited within 3-years time (0,33). | I9: 2.4.9.b | L9: 501 to 1500 | M9: 501 | N9: 40 | O9: 15 | P9: 2 group of 3 1 group of 4 3 groups of 5 | Q9: 6 | R9: 20 | Z9: 601 to 800 | AA9: 600 | AB9: 2.8 | AN9: A | AO9: 0.9 | AP9: Very Low-Risk Category (A)
B10: Labor Providers | C10: =IF(D10<F10,SMALL(E10:F10,1),ROUNDUP(D10,0)) -> 0 | D10: =E10*G10 -> 0 | E10: ='1.Application Form'!C68 -> 0 | F10: 3 | G10: 1 | H10: All should be audited for each audit. | I10: AR 4.42.a | L10: 1501 to 4000 | M10: 1501 | N10: 50 | O10: 18 | P10: 1 group of 3 1 group of 4 5 groups of 5 | Q10: 7 | R10: 25 | Z10: 801 to 1200 | AA10: 800 | AB10: 3 | AN10: B | AO10: 1 | AP10: Low Risk Category (B)
B11: Purchase centers | C11: =IF(D11<F11,SMALL(E11:F11,1),ROUNDUP(D11,0)) -> 0 | D11: =(SQRT(E11)*0.5) -> 0 | E11: ='1.Application Form'!C69 -> 0 | F11: 3 | G11: √/2 | H11: It should be 50% the sqr. | I11: 2.4.13.a | L11: > 4001 | M11: 4001 | N11: 65 | O11: 25 | P11: 8 groups of 5 | Q11: 8 | R11: 30 | Z11: 1201 to 1800 | AA11: 1200 | AB11: 3.5 | AN11: C | AO11: 1.1 | AP11: Medium Risk Category (C)
B12: Houses | C12: =IF(D12<F12,SMALL(E12:F12,1),ROUNDUP(D12,0)) -> 0 | D12: =SQRT(E12) -> 0 | E12: ='1.Application Form'!H73 -> 0 | F12: 3 | G12: √ | H12: It should be sqr | I12: AR4.9 47.a | Z12: 1801 to 2500 | AA12: 1800 | AB12: 4 | AN12: D | AO12: 1.15 | AP12: High Risk Category (D)
F13: Values in Red, Modfied due to the Provisional Policy | Z13: 2501 to 3500 | AA13: 2500 | AB13: 5 | AN13: E | AO13: 1.2 | AP13: Very High-Risk Category (E)
L14: Audit Date Trigger Factor | P14: Worker Calculation Concat | R14: =SUM(R16:R17) -> 0 | U14: Min. Number Interviews | W14: ='2.Audit Plan'!B87 -> 0 | Z14: > 3500 | AA14: 3500 | AB14: 6
L15: Initial Date | N15: =('2.Audit Plan'!B72-'2.Audit Plan'!B71)+1 -> 1 | R15: Male | S15: Female | T15: <18 years | U15: Totals | V15: General | W15: % Male | X15: %Female | AN15: ='Risk factors'!D63 -> 1. Very low risk | AO15: 0.9
L16: Audit Date | N16: =ROUNDUP('2.Audit Plan'!E69,0) -> 1 | P16: Permanent | Q16: Small Farms | R16: ='1.Application Form'!H60 -> 0 | S16: ='1.Application Form'!I60 -> 0 | T16: ='1.Application Form'!J60 -> 0 | U16: =SUM(R16:S16) -> 0 | V16: =(SUM(R16:S16)/(SUM($R$22:$S$22))) -> #DIV/0! | W16: =R16/(R16+S16) -> #DIV/0! | X16: =S16/(R16+S16) -> #DIV/0! | AN16: ='Risk factors'!D64 -> 2. Low risk | AO16: 1
N17: x | P17: Permanent | Q17: Large Farms | R17: ='1.Application Form'!H62 -> 0 | S17: ='1.Application Form'!I62 -> 0 | T17: ='1.Application Form'!J62 -> 0 | U17: =SUM(R17:S17) -> 0 | AN17: ='Risk factors'!D65 -> 3. Medium risk | AO17: 1.1
P18: Temporary | Q18: Small Farms | R18: ='1.Application Form'!H61 -> 0 | S18: ='1.Application Form'!I61 -> 0 | T18: ='1.Application Form'!J61 -> 0 | U18: =SUM(R18:S18) -> 0 | V18: =(SUM(R18:S18)/(SUM($R$22:$S$22))) -> #DIV/0! | W18: =R18/(R18+S18) -> #DIV/0! | X18: =S18/(R18+S18) -> #DIV/0! | AN18: ='Risk factors'!D66 -> 4. High risk | AO18: 1.15
P19: Temporary | Q19: Large Farms | R19: ='1.Application Form'!H63 -> 0 | S19: ='1.Application Form'!I63 -> 0 | T19: ='1.Application Form'!J63 -> 0 | U19: =SUM(R19:S19) -> 0 | AN19: ='Risk factors'!D67 -> 5. Highest risk | AO19: 1.2
L20: Transition Audit Trigger | P20: Total Permanent | R20: =SUM(R16:R17) -> 0 | S20: =SUM(S16:S17) -> 0 | V20: =(SUM(R20:S20)/(SUM($R$22:$S$22))) -> #DIV/0! | W20: =R20/(R20+S20) -> #DIV/0! | X20: =S20/(R20+S20) -> #DIV/0!
L21: Audit Type | N21: =IF('1.Application Form'!D36='Hidden Lists'!C10,1,0) -> 0 | P21: Total Temporary | R21: =SUM(R18:R19) -> 0 | S21: =SUM(S18:S19) -> 0 | V21: =(SUM(R21:S21)/(SUM($R$22:$S$22))) -> #DIV/0! | W21: =R21/(R21+S21) -> #DIV/0! | X21: =S21/(R21+S21) -> #DIV/0!
L22: Filling in | N22: =IF('1.Application Form'!D46>0,0,1) -> 1 | P22: Totals | R22: =SUM(R16:R19) -> 0 | S22: =SUM(S16:S19) -> 0 | T22: =SUM(T16:T19) -> 0 | U22: =SUM(R22:T22) -> 0
L23: total | N23: =N21+N22 -> 1
P24: Calculation on proportion of interviews
R25: General/Total | S25: Male | T25: Female
P26: Permanent proportion | R26: =($W$14*V20) -> #DIV/0! | S26: =R26*W20 -> #DIV/0! | T26: =R26*X20 -> #DIV/0!
P27: Temporary proportion | R27: =($W$14*V21) -> #DIV/0! | S27: =R27*W21 -> #DIV/0! | T27: =R27*X21 -> #DIV/0!
P28: Totals
P31: Calculation on proportion of interviews - Rounding
R32: General/Total | S32: Male | T32: Female
P33: Permanent proportion | R33: =_xlfn.FLOOR.MATH(R26,1) -> #DIV/0! | S33: =_xlfn.FLOOR.MATH(S26,1) -> #DIV/0! | T33: =_xlfn.FLOOR.MATH(T26,1) -> #DIV/0!
P34: Temporary proportion | R34: =_xlfn.FLOOR.MATH(R27,1) -> #DIV/0! | S34: =_xlfn.FLOOR.MATH(S27,1) -> #DIV/0! | T34: =_xlfn.FLOOR.MATH(T27,1) -> #DIV/0!
P35: Totals
P37: Calculation on proportion of interviews - Corrections
R38: General/Total | S38: Male | T38: Female
P39: Permanent proportion | R39: =R26-R33 -> #DIV/0! | S39: =S26-S33 -> #DIV/0! | T39: =T26-T33 -> #DIV/0!
P40: Temporary proportion | R40: =R27-R34 -> #DIV/0! | S40: =S27-S34 -> #DIV/0! | T40: =T27-T34 -> #DIV/0!
P41: Totals | R41: =R28-R35 -> 0 | S41: =S28-S35 -> 0 | T41: =U28-T35 -> 0
P43: Calculation on proportion of interviews - Formulas
R44: General/Total | S44: Male | T44: Female
...

Sheet Risk factors
A1: Risk indicators for Farm:
A2: =Factors!A1 -> Note for translator: No need to translate this tab
A3: Risk factor | B3: Applicable to: | C3: Location of data | D3: Threshold | E3: Risk point | F3: Comments
A4: # of NC in latest audit | B4: Single & Multi Farm + Group of farms | C4: Previous report from CH | D4: > 2 - 15 | E4: 0 | F4: If 0 or 1 NC raised = risk, if more than 15 NC = risk. Threshold of 15 based on avg # of NC raised in audits that have led to a non-certification decision in West Africa in 2020
A5: # of NC in latest audit | B5: Single & Multi Farm + Group of farms | C5: Previous report from CH | D5: 1<= OR >15 | E5: 1
A6: History of CH | B6: Single & Multi Farm + Group of farms | C6: Registration RACP | D6: Existing CH | E6: 0
A7: History of CH | B7: Single & Multi Farm + Group of farms | C7: Registration RACP | D7: New CH | E7: 1 | F7: If CH has not indicated a previous UTZ / RA ID, completely new CH and thus riskier
A8: Non-certification, cancellation, suspension in the last 2 years | B8: Single & Multi Farm + Group of farms | C8: Previous report from CH | D8: No non-certification, suspension or cancellation in the last 2 years | E8: 0 | F8: Non-certification, suspension or cancellation for non-administrative reasons
A9: Non-certification, cancellation, suspension in the last 2 years | B9: Single & Multi Farm + Group of farms | C9: Previous report from CH | D9: Non-certification, suspension or cancellation in the last 2 years | E9: 1
A10: Average estimated yield of main crop of CH | B10: Single & Multi Farm + Group of farms | C10: Calculated on basis of CAF | D10: Up to 1.5*average estimated yield for this crop and this country (benchmark) | E10: 0 | F10: Data on average yield only available for some crops (coffee, tea, cocoa, banana, pineapple, HZ) in some countries - see tab "yield thresholds"
A11: Average estimated yield of main crop of CH | B11: Single & Multi Farm + Group of farms | C11: Calculated on basis of CAF | D11: More than 1.5* average estimated yield for this crop and this country | E11: 1
A12: Total area of main certified crop | B12: Single & Multi Farm | C12: CAF | D12: 0 - 250 | E12: 0 | F12: 53% of CH have between 0 and 250 ha of certified area
A13: Total area of main certified crop | B13: Single & Multi Farm | C13: CAF | D13: >250 - 2 500 | E13: 1 | F13: 96% of CH have between 0 and 2500 ha of certified area
A14: Total area of main certified crop | B14: Single & Multi Farm | C14: CAF | D14: > 2 500 | E14: 2
A15: Average area of main certified crop per group member | B15: Group of farms | C15: Calculated on basis of CAF | D15: 0 - 5 ha | E15: 0 | F15: 75% of CH have an average of between 0 and 5 ha of certified area per group member
A16: Average area of main certified crop per group member | B16: Group of farms | C16: Calculated on basis of CAF | D16: > 5 - 50 ha | E16: 1 | F16: 94% of CH have an average of between 0 and 50 ha of certified area per group member
A17: Average area of main certified crop per group member | B17: Group of farms | C17: Calculated on basis of CAF | D17: >50ha | E17: 2
A18: Total number of group member (small and large) | B18: Group of farms | C18: CAF | D18: 0 - 1000 | E18: 0 | F18: 67% of CH have up to 1000 group members
A19: Total number of group member (small and large) | B19: Group of farms | C19: CAF | D19: > 1000 - 10 000 | E19: 1 | F19: 97% of CH have between 0 and 10 000 group members
A20: Total number of group member (small and large) | B20: Group of farms | C20: CAF | D20: > 10 000 | E20: 2
A21: Average # of temporary workers per group member | B21: Group of farms | C21: Calculated on basis of CAF | D21: 0-50 | E21: 0
A22: Average # of temporary workers per group member | B22: Group of farms | C22: Calculated on basis of CAF | D22: >50-150 | E22: 1
A23: Average # of temporary workers per group member | B23: Group of farms | C23: Calculated on basis of CAF | D23: >150 | E23: 2
A24: Total # of workers below 18 years | B24: Single & Multi Farm + Group of farms | C24: CAF | D24: 0 | E24: 0 | F24: Including temporary, permanent and migrant workers
A25: Total # of workers below 18 years | B25: Single & Multi Farm + Group of farms | C25: CAF | D25: 1 - 2 | E25: 1
A26: Total # of workers below 18 years | B26: Single & Multi Farm + Group of farms | C26: CAF | D26: > 2 | E26: 2
A27: Percentage of large farm group members | B27: Group of farms | C27: Calculated on basis of CAF | D27: 0% of certified group members | E27: 0
A28: Percentage of large farm group members | B28: Group of farms | C28: Calculated on basis of CAF | D28: >0% - 10% of certified group members | E28: 1
A29: Percentage of large farm group members | B29: Group of farms | C29: Calculated on basis of CAF | D29: > 10% of certified group members | E29: 2
A30: Total # of labor providers used | B30: Single & Multi Farm + Group of farms | C30: Calculated on basis of CAF | D30: 0 | E30: 0 | F30: Assumption: the more labor providers, the more challenging to ensure they meet the requirements on worker related point in 5.3. and 5.5. and the risk that the CH is not meeting it either on the other points
A31: Total # of labor providers used | B31: Single & Multi Farm + Group of farms | C31: Calculated on basis of CAF | D31: > 0 | E31: 1
A32: # of houses provided to workers | B32: Single & Multi Farm | C32: CAF | D32: 0 | E32: 0
A33: # of houses provided to workers | B33: Single & Multi Farm | C33: CAF | D33: 1 - 10 | E33: 1
A34: # of houses provided to workers | B34: Single & Multi Farm | C34: CAF | D34: > 10 | E34: 2
A35: Total # of permanent workers | B35: Single & Multi Farm | C35: CAF | D35: 0 - 20 | E35: 0 | F35: 48% of individual / multisite CH have up to 20 permanent workers
A36: Total # of permanent workers | B36: Single & Multi Farm | C36: CAF | D36: > 20 - 50 | E36: 1 | F36: 74% of individual / multisite CH have between 0 and 50 permanent workers
A37: Total # of permanent workers | B37: Single & Multi Farm | C37: CAF | D37: > 50 | E37: 2
A38: Total # of temporary workers | B38: Single & Multi Farm | C38: CAF | D38: 0 - 20 | E38: 0 | F38: 47% of individual / multisite CH have up to 20 temporary workers
A39: Total # of temporary workers | B39: Single & Multi Farm | C39: CAF | D39: > 20 - 100 | E39: 1 | F39: 80% of individual / multisite CH have between 0 and 100 temporary workers
A40: Total # of temporary workers | B40: Single & Multi Farm | C40: CAF | D40: > 100 | E40: 2
...
