Workbook
Name Aromatik_Bitkiler: 'Crop List'!$C$139:$C$311
Name Çay: 'Crop List'!$C$319
Name Çiçek: 'Crop List'!$C$6:$C$13
Name Farm: 'Hidden Lists'!$P$3:$P$4
Name Kabuklu_yemiş: 'Crop List'!$C$312:$C$318
Name Kahve: 'Crop List'!$C$4:$C$5
Name Kakao: 'Crop List'!$C$3
Name Meyve: 'Crop List'!$C$14:$C$138
Name Sebze: 'Crop List'!$C$320:$C$371
Name SupplyChain: 'Hidden Lists'!$P$6:$P$7

Sheet Kapak sayfası
A1: Resmi Şablon
A2: Sertifikasyon Başvuru Formu (CAF) - Tekli arazi ve Çoklu arazi sertifikasyonu
A3: Versiyon | B3: =L14 -> 1.1
F4: Çeviri Konusunda Sorumluluk Reddi
F5: Çeviride yer alan bilgilerin tam anlamlarına ilişkin herhangi bir sorunuz olduğunda netleştirmek için lütfen resmi İngilizce versiyona başvurun. Çeviriden kaynaklanan uyuşmazlıklar veya anlam farkları bağlayıcı değildir ve denetim veya sertifikasyon açısından herhangi bir etkisi yoktur.
F9: Daha fazla bilgi edinmek mi istiyorsunuz?
F10: Rainforest Alliance hakkında daha fazla bilgi edinmek için, www.rainforest-alliance.org sitesine bakın veya info@ra.org adresiyle iletişime geçin
F13: Döküman Adı: | J13: Döküman Kodu: | L13: Versiyon:
F14: =A2 -> Sertifikasyon Başvuru Formu (CAF) - Tekli arazi ve Çoklu arazi sertifikasyonu | J14: SA-F-GA-3-V1.1-TR | L14: 1.1
F15: İlk yayın tarihi: | H15: Revizyon tarihi: | J15: Dökümanın geçerliliğinin başladığı tarih: | L15: Dökümanın geçerliliğinin sona erdiği tarih:
F16: 7 Haziran 2021 | H16: 21 Temmuz 2021 | J16: 1 Temmuz 2021 | L16: Bildirilinceye kadar
F17: Geliştiren: | J17: Onaylayan:
F18: Rainforest Alliance Standartlar ve Güvence Departmanı | J18: Kıdemli Müdür, Standartlar ve Güvence
F19: Bağlantılı olduğu dökümanlar:
F20: SA-S-SD-1-V1.1 Rainforest Alliance 2020 Sürdürülebilir Tarım Standardı, Arazi Gereklilikleri SA-R-GA-1-V1.1 Rainforest Alliance 2020 Sertifikasyon ve Denetim Kurallar
F22: Yerini aldığı dökümanlar:
F23: Geçerli değil
F24: Aşağıdakilere uygulanır:
F25: Arazi Sertifika Sahipleri ve Sertifikasyon Kuruluşları
F26: Ülke/Bölge:
F27: Hepsi
F28: Ürün: | J28: Sertifikasyon Türü:
A29: © 2021 Rainforest Alliance. Bütün hakları saklıdır. | F29: Rainforest Alliance sertifikasyon sistemi kapsamındaki bütün ürünler; bkz. Sertifikasyon Kuralları. | J29: Bireysel ve Çoklu Arazi sertifikasyon seçenekleri
A31: =J14 -> SA-F-GA-3-V1.1-TR
F32: Bu içeriğin, Rainforest Alliance'ın önceden yazılı izni alınmadan çoğaltılması, değiştirilmesi, dağıtılması veya yeniden yayınlanması dahil herhangi bir şekilde kullanılması kesinlikle yasaktır.

Sheet Kılavuz
A1: Kılavuz
A2: Bu şablonun kullanımı | F2: Sertifikasyon Başvuru Formu (CAF), bütün sertifikasyon süreçlerinin tutarlılık, güvenilirlik ve şeffaflık seviyesini arttırmak için Rainforest Alliance tarafından sağlanan resmi bir şablondur. Bu şablon bütün Sertifika Sahipleri (CH'ler) ve Sertifikasyon Kuruluşları (CB'ler) için zorunludur ve Sertifikasyon ve Denetim Kurallarının bütün ilgili ve bağlayıcı gerekliliklerine dayanmaktadır. Belirli bir ülke/kapsam için geçerliyse, ilgili sekmelerdeki bilgilerin tamamı zorunludur. Bu dökümandaki bütün sekmeler zorunludur ve ayrıca, Rainforest Alliance ile ilgili şirket içi süreçlerini tamamlamak veya yapılandırmak için referansa ihtiyaç duyduğu durumlarda Rainforest Alliance, CB'lerin takdir yetkisine bağlı olarak kullanılacak bir dizi kılavuz döküman şablonu sağlar.
F5: Arazi Sertifika Sahipleri yalnızca kırmızı sekmede (1) istenen bilgileri doldurmalıdır. Bu bilgileri kendileriyle ilgili Sertifikasyon Kuruluşuna göndermelidirler. Bu, Arazi Sertifika Sahiplerine, ayrı ayrı form doldurmaya gerek duymadan uygun gördükleri kadar çok sayıda Sertifikasyon Kuruluşundan fiyat teklifi talep etmelerine imkan tanır. 1. sekmeyi (başvuru formunu) doldurun ve seçtiğiniz Sertifikasyon Kuruluşunuza gönderin. | M5: Adım 1: Başvuru Formunu Doldurun
F7: Sertifikasyon Kuruluşları bu dökümanı bir Sertifika Sahibinden veya bir başvuru sahibinden alır. Aynı dosyada denetim planlama ve yürütme faaliyetlerini yürütür. Bu, Kalite Denetçileri (teknik inceleme) ve Rainforest Alliance için bilgilerin merkezileştirilmesine yardımcı olur. Yeşil sekmeler (2, 2a ve 2b) denetimin planlama aşamasıyla, mavi sekmeler (3) ise denetimin raporlama aşamasıyla ilgilidir. Lütfen denetim bulguları kontrol listesinin doğrudan Rainforest Alliance Sertifikasyon Platformunda sağlandığını unutmayın. | M7: Adım 1: Planlama aşamanızı 2, 2a ve 2b sekmelerinde hazırlayın.
M8: Adım 2: Denetim özeti bilgilerini sekme 3'te bildirin.

Sheet 1.Başvuru Formu
A1: Sertifikasyon Kuralları Madde 1.4.25 | K1: =CONCATENATE('Hidden Lists'!C21," ",'Hidden Lists'!C22) -> Versiyon 1.1, Temmuz 2021
A2: Sertifikasyon Başvuru Formu (CAF)
A3: Arazi Sertifika Sahipleri ve Başvuru Sahipleri için Tekli arazi ve Çoklu arazi sertifikasyonu
A4: Sürdürülebilir Tarım Standardı 2020 v1.1
A5: Aşağıdaki form, Rainforest Alliance Sertifikasyon Platformu'nda Başvuru/Sertifika Sahibi tarafından Kayıt İşlemleri sırasında verilen temel bilgilerin bir özetidir. Denetim kapsamını, planlamasını, süresini ve raporlamayı belirlemek için kritik öneme sahip bilgileri özetler. Sertifika Sahibi, Hüküm ve Şartları kabul ederek, aşağıdaki verilerin doğru olduğunu onaylar ve denetimde tespit edilen bu gibi verilerdeki tutarsızlıkların, örneklerin ve denetim süresinin ve/veya kapsamının potansiyel olarak artmasına yol açacağını kabul eder. CB, aşağıda verilen bilgileri yılda en az bir kez verilen Sertifika ve Rainforest Alliance Sertifikasyon Platformu'nda eşleştirmekten sorumludur.
A7: A. Genel Bilgiler
A8: Rainforest Alliance sertifikasyonuna başvurmak istiyorsanız, lütfen operasyonunuz ve irtibat kişileriniz hakkında genel bilgileri vermekle başlayın.
A9: Kuruluşun yasal adı | G9: Kuruluşun Ulusal Kimlik Numarası:
A10: İşletmenin Tescilli İsmi/Ticaret Unvanı | G10: Sertifikadaki Adı:
A11: Ana Kuruluş (varsa): | G11: Ana Kurul. Ulusal Kimlik Numarası: (varsa)
A13: Ziyaret Adresi: | F13: Şehir: | H13: Bölge/İl:
F14: Posta Kodu: | H14: Ülke:
A16: Fatura Adresi: | F16: Şehir: | H16: Bölge/İl:
F17: Posta Kodu: | H17: Ülke:
A19: Yasal anlaşmaları imzalayan arazi sahibi veya yasal temsilcisi | G19: Sertifikasyon uygulayıcısı
A20: Adı: | C20: Soyadı: | G20: Adı: | I20: Soyadı:
A21: Ulusal Kimlik Numarası: | G21: Ulusal Kimlik Numarası:
A22: Telefon: | C22: Cep Telefonu: | G22: Telefon: | I22: Cep Telefonu:
A23: İş Unvanı: | C23: E-posta: | G23: İş Unvanı: | I23: E-posta:
A25: İzlenebilirlik Platformu Sorumlusu | G25: Faturalama irtibat kişisi
A26: Adı: | C26: Soyadı: | G26: Adı: | I26: Soyadı:
A27: Ulusal Kimlik Numarası: | G27: Ulusal Kimlik Numarası:
A28: Telefon: | C28: Cep Telefonu: | G28: Telefon: | I28: Cep Telefonu:
A29: İş Unvanı: | C29: E-posta: | G29: İş Unvanı: | I29: E-posta:
A32: B. Sertifikasyon Kapsamı Bilgileri
A33: Lütfen sertifikalandırmak istediğiniz ürünler de dahil olmak üzere sertifikasyonunuzun kapsamıyla ilgili bilgileri aşağıda verin. Ana ürünün hasat zamanının denetiminizin gerçekleşeceği zaman aralığını belirleyeceğini unutmayın. Bu formda 4 ürün girmek için alan bulunmaktadır. Lütfen 4 ana ürününüze (en büyük miktarlara sahip 4 ürün) yönelik bilgi verin. Ana ürün, sertifikasyon periyodu (3 yıl) içinde en büyük miktara sahip olan ve denetim zaman aralığını hesaplamak için kullanılacak üründür. Ayrıca, miktar ve alanın bir yıllık hasat mevsimi veya üretim dönemi (sürekli üretim olması durumunda) için belirlenmesi gerektiğini unutmayın. 4'ten fazla ürün üretmeniz durumunda, kalan ürünler yalnızca Rainforest Alliance Sertifikasyon Platformu'na eklenmelidir.
A35: Başvuru Tarihi: | C35: Döngüdeki Yıl Sayısı
A36: Özel Kimlik Numarası: | C36: Denetim Türü
A37: Kapsam | B37: Arazi | C37: Seçenek
A38: =(IFERROR(VLOOKUP(D37,'Hidden Lists'!P3:Q7,2,FALSE)," "))
H39: Ana Ürün | I39: İkinci Ürün | J39: Üçüncü Ürün | K39: Dördüncü Ürün
G40: Kategori
G41: Ürün
A42: Doğrulama Seviyesi | B42: E | G42: Varsa, Çeşit
G43: Diğer (listede yoksa):
A44: Önceki UTZ Kimlik Numarası/RA Sertifika Kodu (sadece geçiş dönemi denetimi yapılması durumunda): Hücre başına bir tane olmak üzere gerektiği kadar doldurun | G44: Miktar (Kg/sap)
G45: Ürün Üretim Alanı (ha)
G46: Ana Ürün Hasat Başlangıç Tarihi
G47: Ana Ürün Hasat Bitiş Tarihi
A48: Lütfen aynı ürünler ve/veya faaliyetler için sahip olduğunuz diğer programlar kapsamındaki sertifikaları burada sıralayın. Hücre başına bir tane olmak üzere belirtin | G48: Yan Ürün Hasat Başlangıç Tarihi
G49: Yan Ürün Hasat Bitiş Tarihi
G50: İzlenebilirlik Seviyesi:
C52: Sayı | H52: Denetiminiz aşağıdaki tarihler arasında gerçekleşmelidir:
A53: Sert. Ürünlerdeki Alt Yüklenicilerin Sayısı | F53: Lütfen aşağıdakileri girin | I53: =H46-90 -> -90 | J53: =H46+90 -> 90
A54: Sert. Ürünlerdeki Aracıların Sayısı
A55: Sert.Ürünlerdeki Hizmet Sağlayıcıların Sayısı
A56: Sert. Ürünlerdeki Tarım İş Aracılarının Sayısı
A57: Satın Alma Merkezlerinin Sayısı
A59: C. Arazinin/İşletmenin Tanımlanması
A60: Ana hasadınızın veya üretim döneminizin en yoğun olduğu zamanları (kesintisiz üretim olması durumunda) göz önünde bulundurarak, sertifikasyon kapsamına dahil etmek istediğiniz her araziye/işletmeye dair istenen bilgileri aşağıda belirtin. Sertifikada gösterilmek üzere bütün işletmelerin de İzlenebilirlik Platformu'na eklenmesi gerektiğini unutmayın.
A61: Arazinin veya İşleme İşletmesinin Adı | B61: Arazi mi yoksa İşleme İşletmesi mi? | C61: Arazinin Ulus. Kimlik Numarası | D61: Şehir/Bölge | E61: Arazi Birimi Sayısı | F61: Arazinin tamamının toplam yüzölçümü (ha) | G61: Ana Ürünün Üretim Alanı (Ha) | H61: İkinci Ürünün Üretim Alanı (Ha) | I61: Üçüncü Ürünün Üretim Alanı (Ha) | J61: Dördüncü Ürünün Üretim Alanı (Ha)
A79: =COUNTA(A62:A78) -> 0 | E79: =SUM(E62:E78) -> 0 | F79: =SUM(F62:F78) -> 0 | G79: =SUM(G62:G78) -> 0 | H79: =SUM(H62:H78) -> 0 | I79: =SUM(I62:I78) -> 0 | J79: =SUM(J62:J78) -> 0
A81: D. Alan yapısı ve kullanımıyla ilgili ayrıntılar
A82: Ana hasadınızın veya üretim döneminizin en yoğun olduğu zamanları (kesintisiz üretim olması durumunda) göz önünde bulundurarak, sertifikasyon kapsamına dahil etmek istediğiniz her işletmeye dair istenen bilgileri aşağıda belirtin. Sertifikada gösterilmek üzere bütün işletmelerin de İzlenebilirlik Platformu'na eklenmesi gerektiğini unutmayın. Mavi hücreler tesisleri gösterir. Lütfen mevcut makine sayısından ziyade "yapıları ve/veya binaları" dahil edin.
A83: İşletme Adı | B83: Arazi içindeki Sit Alanı (ha) | C83: Sulama yapılan alan (ha) | D83: Bu yıl budama yapılan alan (ha) | E83: Fidelik/Sera tesislerinin sayısı | F83: Kurutma Tesislerinin Sayısı | G83: Depolama tesislerinin sayısı | H83: Öğütme/Yıkama İstasyonu tesislerinin sayısı | I83: Ambalajlama/veya bitmiş ürünler için paketleme tesisi sayısı + diğer işleme tesisleri
A84: =A62 -> 0
A85: =A63 -> 0
A86: =A64 -> 0
A87: =A65 -> 0
A88: =A66 -> 0
A89: =A67 -> 0
A90: =A68 -> 0
A91: =A69 -> 0
A92: =A70 -> 0
A93: =A71 -> 0
A94: =A72 -> 0
A95: =A73 -> 0
... A100: =A78 -> 0
B101: =SUBTOTAL(109,FarmIDLandUse[Arazi içindeki Sit Alanı (ha)]) -> 0 | C101: =SUBTOTAL(109,FarmIDLandUse[Sulama yapılan alan (ha)]) -> 0 | D101: =SUBTOTAL(109,FarmIDLandUse[Bu yıl budama yapılan alan (ha)]) -> 0 | E101: =SUBTOTAL(109,FarmIDLandUse[Fidelik/Sera tesislerinin sayısı]) -> 0 | F101: =SUBTOTAL(109,FarmIDLandUse[Kurutma Tesislerinin Sayısı]) -> 0 | G101: =SUBTOTAL(109,FarmIDLandUse[Depolama tesislerinin sayısı]) -> 0 | H101: =SUBTOTAL(109,FarmIDLandUse[Öğütme/Yıkama İstasyonu tesislerinin sayısı]) -> 0 | I101: =SUBTOTAL(109,FarmIDLandUse[Ambalajlama/veya bitmiş ürünler için paketleme tesisi sayısı + diğer işleme tesisleri]) -> 0
A103: E. İşgücü yapısıyla ilgili ayrıntılar
A104: Ana hasadınızın veya üretim döneminizin en yoğun olduğu zamanları (kesintisiz üretim olması durumunda) göz önünde bulundurarak, sertifikasyon kapsamına dahil etmek istediğiniz her işletmeye dair istenen bilgileri aşağıda belirtin. Sertifikada gösterilmek üzere bütün işletmelerin de İzlenebilirlik Platformu'na eklenmesi gerektiğini unutmayın.
A105: Arazi Adı | B105: Daimi Erkek İşçiler | C105: Daimi Kadın İşçiler | D105: Geçici Erkek İşçiler | E105: Geçici Kadın İşçiler | F105: Göçmen Erkek İşçiler | G105: Göçmen Kadın İşçiler | H105: 18 Yaşın Altındaki İşçiler | I105: Sendikalı İşçiler | J105: Sendikaların Adları | K105: En yoğun hasat döneminde işçilere sağlanan konaklama imkanlarının sayısı | L105: En yoğun hasat döneminde arazide yaşayan işçiler
A106: =A84 -> 0
A107: =A85 -> 0
A108: =A86 -> 0
A109: =A87 -> 0
A110: =A88 -> 0
A111: =A89 -> 0
A112: =A90 -> 0
A113: =A91 -> 0
A114: =A92 -> 0
A115: =A93 -> 0
A116: =A94 -> 0
A117: =A95 -> 0
... A122: =A100 -> 0
B123: =SUM(B106:B122) -> 0 | C123: =SUM(C106:C122) -> 0 | D123: =SUM(D106:D122) -> 0 | E123: =SUM(E106:E122) -> 0 | F123: =SUM(F106:F122) -> 0 | G123: =SUM(G106:G122) -> 0 | H123: =SUM(H106:H122) -> 0 | I123: =SUM(I106:I122) -> 0 | ... L123: =SUM(L106:L122) -> 0
A126: F. Komisyonların Yapısına ilişkin Detaylar
A127: Lütfen Şikayet mekanizması, Toplumsal Cinsiyet ve Değerlendirme ve Yönlendirme komisyonlarından sorumlu kişileri veya komisyon üyelerini aşağıda belirtin. Kendileriyle iletişime geçilebilmesi için lütfen bu kişilerin isimlerini ve iletişim bilgilerini (e-posta ve/veya telefon numarası) belirtin.
A129: Şikayet Mekanizması Komisyonu/Yetkilisi
A130: Toplumsal Cinsiyet Komisyonu/Yetkilisi
A131: Değerlendirme ve Yönlendirme Komisyonu/Yetkilisi
A133: G. Bilgi Özeti
A134: Bu bölüm, yukarıda verilen temel verilerin bir özetidir ve doldurulması amaçlanmamıştır. Sertifikasyon başvurunuzun temel bilgilerini aşağıda onaylayın. Bilgilerin doğru olmaması durumunda, lütfen girilen verileri gözden geçirin.
B136: RACP'de Kapsam Onayı Tarihi | G136: Başvuru yoluyla CB'ye iletilecek dökümanlar
G137: Belge | I137: Nerede | J137: Gereklilik | K137: Kontrol
B138: Ana Arazi | D138: =A62 -> 0 | G138: a. Onaylanmış Sertifikasyon Kapsamı | I138: RACP ve CAF'ta | J138: Geçerli değil
G139: b. Öz değerlendirme | I139: RACP ve posta | J139: 1.4.2
A140: Sosyal Konular | B140: Toplam Daimi İşçi | D140: =SUM(B123:C123) -> 0 | G140: c. Ormanların Yok Edilmesi/Sit Alanları ile ilgili Risk Analizi | I140: E-posta | J140: 1.2.12 -1.2.15
B141: Toplam Geçici İşçi | D141: =SUM(D123:E123) -> 0 | E141: =SUM(D140:D141) -> 0 | G141: d. Geçerli gereklilikler kontrol listesi | I141: E-posta | J141: Geçerli değil
B142: Toplam Göçmen İşçi | D142: =SUM(F123:G123) -> 0 | G142: e. En son denetim raporları ve işlem kayıtları | I142: E-posta | J142: Varsa
...

Sheet 2.Denetim Planı
E1: ='1.Başvuru Formu'!K1 -> Versiyon 1.1, Temmuz 2021
A2: Denetim Planı
A3: ='1.Başvuru Formu'!A3:K3 -> Arazi Sertifika Sahipleri ve Başvuru Sahipleri için Tekli arazi ve Çoklu arazi sertifikasyonu
A4: ='1.Başvuru Formu'!A4:K4 -> Sürdürülebilir Tarım Standardı 2020 v1.1
A6: A. Sertifika Sahibinin (CH) ve İrtibat Kişisinin Belirlenmesi
A7: Lütfen denetlenecek Sertifika Sahibi hakkında aşağıdaki hızlı erişim bilgilerine bakın.
A8: Sertifika Sahibinin Adı (sertifikada belirtildiği gibi): | C8: ='1.Başvuru Formu'!H10 -> 0
A9: Sertifika Sahibinin yasal adı: | C9: ='1.Başvuru Formu'!C9 -> 0
A11: İşletmenin Adresi: | B11: ='1.Başvuru Formu'!C13 -> 0
A12: Bölge/İl: | B12: ='1.Başvuru Formu'!I13 -> 0 | C12: Şehir: | D12: ='1.Başvuru Formu'!G13 -> 0
A13: Ülke: | B13: ='1.Başvuru Formu'!I14 -> 0
A15: İrtibat kişisinin adı: | B15: ='1.Başvuru Formu'!H20 -> 0
A16: Telefon numarası: | B16: ='1.Başvuru Formu'!H22 -> 0 | C16: E-posta: | D16: ='1.Başvuru Formu'!J23 -> 0
A18: Bu başvurunun Baş Denetçi ile paylaşıldığı tarih
A20: B. Denetim Kapsamının Belirlenmesi
A21: Denetimin kapsamına ilişkin olarak istenen bilgileri aşağıda belirtin. Sertifikasyon Kuralları maddeleri 1.1.9 ve 1.1.10'a göre, bölüm 1, 4.5, 4.6, 5 ve 6'daki geçerli standart gerekliliklerinin kapsamı, CH'nin sertifikasyon kapsamına dahil olan bütün oluşumların (araziler, işletmeler, alt yükleniciler vb.) bütün operasyonları ve alanlarını kapsayacaktır. Bölüm 2, 3 ve 4'teki (4.5, 4.6 hariç olmak üzere) geçerli standart gerekliliklerin kapsamı, ürüne ve Rainforest Alliance Sertifikalı beyanıyla satılacak ürünle ilgili faaliyetlere odaklanacaktır.
A23: Denetim Planının Tarihi | D23: Standart Versiyon: | E23: v.1.1 2020
A24: Denetim Kapsamı: | B24: ='1.Başvuru Formu'!B37 -> Arazi | D24: Geçerli Gereklilikler
A25: Denetim Türü | D25: ='Hidden Lists'!C3 -> Temel Gereklilikler
D26: ='Hidden Lists'!C4 -> Zorunlu Geliştirmeler
A27: Ürünler: | B27: Alan | D27: ='Hidden Lists'!C5 -> Seçmeli Geliştirmeler
A28: ='1.Başvuru Formu'!H41 -> 0 | B28: ='1.Başvuru Formu'!H45 -> 0 | D28: ='Hidden Lists'!C6 -> Zorunlu Akıllı Ölçümler
A29: ='1.Başvuru Formu'!I41 -> 0 | B29: ='1.Başvuru Formu'!I45 -> 0 | D29: ='Hidden Lists'!C7 -> Seçmeli Akıllı Ölçümler
A30: ='1.Başvuru Formu'!J41 -> 0 | B30: ='1.Başvuru Formu'!J45 -> 0
A31: ='1.Başvuru Formu'!K41 -> 0 | B31: ='1.Başvuru Formu'!K45 -> 0 | D31: Kullanılacak Yöntem
D32: Denetim, farklı programlara sahip birleşik bir denetim mi?
D33: Hangi Programlar?
A35: Denetim Amaçları
A37: C. Denetim Ekibinin Yapısı
A38: Lütfen denetim ekibinin yapısını aşağıda belirtin. Denetim ekibini oluşturmak için denetim ekibinin yapısına ilişkin Denetim Kuralları'nı dikkate alın.
A39: Adı: | D39: Rolü:
A40: Cinsiyet | D40: =IFERROR(VLOOKUP(E39,'Hidden Lists'!$P$11:$Q$17,2,FALSE)," ")
A41: İletişim Bilgileri:
A43: Adı: | D43: Rolü:
A44: Cinsiyet | D44: =IFERROR(VLOOKUP(E43,'Hidden Lists'!$P$11:$Q$17,2,FALSE)," ")
A45: İletişim Bilgileri:
A47: Adı: | D47: Rolü:
A48: Cinsiyet | D48: =IFERROR(VLOOKUP(E47,'Hidden Lists'!$P$11:$Q$17,2,FALSE)," ")
A49: İletişim Bilgileri:
A51: Adı: | D51: Rolü:
A52: Cinsiyet | D52: =IFERROR(VLOOKUP(E51,'Hidden Lists'!$P$11:$Q$17,2,FALSE)," ")
A53: İletişim Bilgileri:
A55: Adı: | D55: Rolü:
A56: Cinsiyet | D56: =IFERROR(VLOOKUP(E55,'Hidden Lists'!$P$11:$Q$17,2,FALSE)," ")
A57: İletişim Bilgileri:
A59: Adı: | D59: Rolü:
A60: Cinsiyet | D60: =IFERROR(VLOOKUP(E59,'Hidden Lists'!$P$11:$Q$17,2,FALSE)," ")
A61: İletişim Bilgileri:
A63: D. Denetim Planlaması
A64: Denetimin ayrıntılarını aşağıda belirtin: Açılış ve kapanış toplantısı, işletmenin doğrulanması, tesis turu, işleme birimlerinin doğrulanması, görüşmeler, Standardın hangi bölümünün dökümante edildiğinin kontrolü, işçi tesislerinin yerinde ziyaret edilmesi, alt yapı değerlendirmesi, paydaş toplantıları, taşeron ziyaretleri, izlenebilirlik kontrolü gibi faaliyetler, bunları gerçekleştirmek için gereken sorumlular ve kaynaklar.
A66: CB Anlaşma İmzası: | B66: ='1.Başvuru Formu'!F172 -> 0 | C66: Sertifikasyon Kurallarının 1.1.18 maddesinde belirlendiği üzere, bu tarihten itibaren CH uygunluğu kontrol edilmelidir.
A68: Önerilen 1. Denetim Başlangıç ​​Tarihi
A69: Önerilen 1. Denetim Bitiş Tarihi | D69: Öngörülen Süre (denetim/gün olarak): | E69: =IFERROR('2b.Süre'!G9,0) -> 1
A71: Onaylanan Denetim Başlangıç ​​Tarihi | D71: =IF(B72=0,"",IF(Factors!R15<Factors!R16,'Hidden Lists'!S3,""))
A72: Onaylanan Denetim Bitiş Tarihi
A73: Denetçi sayısı | B73: =(COUNTIFS(E39:E61,'Hidden Lists'!P11))+(COUNTIFS(E39:E61,'Hidden Lists'!P12)+(COUNTIFS(E39:E61,'Hidden Lists'!P13))) -> 0
A74: CH Yönetiminin Çalışma Dili
A75: İşçilerin Çalışma Dili
A77: Örnek Tanımlaması
A78: Ziyaret edilecek min. arazi sayısı | B78: =Factors!C4 -> 0 | C78: Bu, denetime dahil edilecek arazilerin/işletmelerin sayısıdır. Baş denetçi, Denetim Kuralları'na dayanarak ziyaret edilecek arazilerin/işletmelerin sayısını belirlemelidir.
A79: Örneklenmiş bütün arazilerin birleştirilmesiyle elde edilen ziyaret edilecek minimum Arazi Birim Sayısı | B79: =Factors!C5 -> 0
A80: Minimum İşleme İşletmesi Sayısı | B80: =Factors!C6 -> 0 | C80: Bu, denetime dahil edilecek dış aktörlerin sayısıdır. Baş denetçi, Denetim Kuralları'na dayanarak ziyaret edilecek aktörlerin sayısını belirlemelidir.
A81: Minimum Alt Yüklenici Sayısı | B81: =Factors!C7 -> 0
A82: Minimum Aracı Sayısı | B82: =Factors!C8 -> 0
A83: Minimum Hizmet Sağlayıcı Sayısı | B83: =Factors!C9 -> 0
A84: Minimum Tarım İş Aracısı Sayısı | B84: =Factors!C10 -> 0
A85: Minimum Satın Alma Merkezi Sayısı | B85: =Factors!C11 -> 0
A87: Görüşülecek min. işçi sayısı | B87: =IFERROR(VLOOKUP(C87,Factors!Q2:V11,2,TRUE),0) -> 0 | C87: =SUM('1.Başvuru Formu'!D140:D141) -> 0
A89: Daimi | B89: =IFERROR(CONCATENATE(Factors!U42," ",'Hidden Lists'!$S$6," ",Factors!V42," ",'Hidden Lists'!G20," ",'Hidden Lists'!$S$7," ",Factors!W42," ",'Hidden Lists'!G21)," ")
A90: Geçici | B90: =IFERROR(CONCATENATE(Factors!U43," ",'Hidden Lists'!$S$6," ",Factors!V43," ",'Hidden Lists'!G20," ",'Hidden Lists'!$S$7," ",Factors!W43," ",'Hidden Lists'!G21)," ")
A91: Ziyaret Edilecek Yaşanabilir Alanlar | B91: =Factors!C12 -> 0
A92: Dosyalarının Kontrol Edilmesi Gereken İşçi Sayısı | B92: =IFERROR(VLOOKUP(C87,Factors!Q2:V11,6,TRUE),0) -> 0
A93: Göçmen (Denetçi Takdir Yetkisi) | C93: ='Hidden Lists'!Q18 -> Sendikalı ve Göçmen işçi kategorileri hariç tutulmaz, bu da geçici ve daimi işçilerin de göçmen ve sendikalı olabileceği anlamına gelir. Bu alanlara dair göstergeler, baş denetçinin, geçici/daimi kategorilerinde örneklenen işçilerin bir kısmının burada belirtilen sendikalı/göçmen işçi sayısını da kapsadığından emin olması gerektiği bilgisiyle sınırlıdır.
A94: Sendikalı (Denetçi Takdir Yetkisi)
A95: Yapılacak minimum görüşme ve ziyaret edilecek arazi birimi sayısı CH tarafından sağlanan bilgilere dayanmaktadır. Baş denetçi, daha fazla kanıt toplamak veya riskleri değerlendirmek için bunların sayısını arttırmaya karar verebilir.
A97: Denetim Ajandası
A98: Tarih | B98: Saat (Başlangıç saati - Bitiş saati) | C98: Sorumlu kişi (denetimin yürütülmesinden sorumlu kişi) | D98: Faaliyet (Yapılacak denetim faaliyetlerinin ayrıntılarını bölüm, doğrulama türü ve sorumlu kişilere göre ayırarak açıklayın.) | E98: Açıklamalar
A118: CH tarafından Denetim ekibine sunulacak Döküman Listesi:
A119: Örneğin: yönetim sistemi, işçi kayıtları, coğrafi veriler, üretim kayıtları, fabrika kayıtları, izlenebilirlik, satın alma/satış prosedürleri ve satın alma/satış kayıtları, İYS, onaylar ve yaptırımlar. Denetim ekibi, denetimin aşağıda listelenen dökümanlarla sınırlı olmadığını göz önünde bulundurarak aşağıdaki dökümanları mümkün olduğunca ayrıntılarıyla belirtmelidir.
A122: Denetim sırasında hazır bulunacak Kişilerin/Uzmanların listesi
A123: Örneğin: yönetim temsilcisi; İK/bordro personeli; işleme tesislerinin yönetimi; varsa İş Sağlığı ve Güvenliği Komisyonu temsilcisi; varsa sendikanın/sendikaların temsilcisi/temsilcileri de dahil olmak üzere işçi temsilcileri; değerlendirme ve yönlendirme komisyonu temsilcisi; toplumsal cinsiyet komisyonu temsilcisi; şikayet komisyonu temsilcisi; diğer komisyonların temsilcileri
A126: E. Lojistik
A127: Lütfen aşağıda CH'nin karşılayacağı/ödeme yapacağı konuları belirtin.
A128: Yemekler
A129: Konaklama
A130: Kara Ulaşımı
A131: Uçak Biletleri
A133: F. Onay
A134: Lütfen aşağıdaki maddeleri dikkatlice okuyun ve denetim gerçekleşmeden önce denetim planını kabul ettiğinizi imzalayarak onaylayın. Bu döküman, CB ve CH arasındaki Sertifikasyon Anlaşması/Sözleşmesi yerine geçmez ve aşağıdaki bölüm Planlama/Hazırlık aşaması için Rainforest Alliance programının temel maddelerini vurgulamayı amaçlar. Döküman, Sertifika Sahibinin yasal temsilcisi tarafından imzalanmalıdır. Dijital imzalar kabul edilmektedir.
A135: F1. SERTİFİKA SAHİBİ, SERTİFİKASYON KURULUŞU'NUN, talep edilen hizmeti yerine getirmek için denetçilerle taşeron sözleşmesi yapabileceğini kabul eder. F2. SERTİFİKA SAHİBİ, araziyi ve sertifika kapsamındaki bütün tesisleri ve faaliyetleri değerlendirmek için denetçilere gerekli bütün bilgileri verecektir. F3. SERTİFİKA SAHİBİ, ürünün ilgili standartlara uygunluğuyla ilgili olarak kuruluşuma sunulan bütün beyanların kaydını tutacak ve bu kayıtları SERTİFİKASYON KURULUŞU'NA sunacaktır. SERTİFİKA SAHİBİ, bu gibi beyanların yanı sıra sertifikasyon gerekliliklerine uygunluğu etkileyebilecek ürün veya hizmetlere ilişkin herhangi bir eksiklikle ilgili olarak gereken uygun önlemleri alacaktır. SERTİFİKA SAHİBİ, alınan önlemleri dökümante etmelidir. F4. SERTİFİKA SAHİBİ, yalnızca sertifikasyon kapsamı ile ilgili olarak sertifikasyon beyanlarında bulunacaktır. F5. SERTİFİKA SAHİBİ, sertifikalı ürünü, SERTİFİKASYON KURULUŞU'NUN imajının zedelenmesine neden olacak şekilde kullanmayacak ve SERTİFİKASYON KURULUŞU tarafından hatalı veya izinsiz olarak değerlendirilebilecek herhangi bir sertifikalı ürün beyanı yapmayacaktır. F6. Sertifikasyonun askıya alınması veya iptali üzerine, SERTİFİKA SAHİBİ, sertifikasyona dair herhangi bir referans içeren bütün kamu işlerini yürütmeyi bırakacak ve SERTİFİKASYON KURULUŞU'NUN talep edebileceği bütün sertifikasyon dökümanlarını iade edecektir. F7. SERTİFİKA SAHİBİ, sertifikasyonu yalnızca sertifikalı ürünlerin belirli standartlara uygun olduğunu belirtmek için kullanacaktır. F8. SERTİFİKA SAHİBİ, ne sertifikanın ne raporun ne de bunların herhangi bir kısmının yanıltıcı bir şekilde kullanılmamasını güvence altına almak adına çaba gösterecektir. F9. SERTİFİKA SAHİBİ, dökümanlar, broşürler veya tanıtım gibi yollarla medyada ürün sertifikasyonundan bahsederken SERTİFİKASYON KURULUŞU'NUN gerekliliklerine uygun hareket edecektir. F10. SERTİFİKASYON KURULUŞU, bütün denetçilerinin, gözlemcilerinin, destek personelinin, yöneticilerinin ve diğer ilgili personelinin herhangi bir finansal, ticari, ilişki veya prosedüre ilişkin çıkar çatışmasından uzak durduğunu ve CB ve Rainforest Alliance tarafından oluşturulmuş rüşvetle mücadele prensiplerine bağlı olduğunu onaylar.
B139: ______________________________________ | D139: ______________________________________
B140: Sertifikasyon Kuruluşu | D140: Sertifika Sahibi
B141: Temsilcinin Adı | D141: ='1.Başvuru Formu'!C9 -> 0

Sheet 2a.Risk Değerlendirmesi
E1: ='1.Başvuru Formu'!K1 -> Versiyon 1.1, Temmuz 2021
A2: Denetim Risk Değerlendirmesi
A3: ='1.Başvuru Formu'!A3:K3 -> Arazi Sertifika Sahipleri ve Başvuru Sahipleri için Tekli arazi ve Çoklu arazi sertifikasyonu
A4: ='1.Başvuru Formu'!A4:K4 -> Sürdürülebilir Tarım Standardı 2020 v1.1
A6: A. Değerlendirmenin Tanımlanması
A7: Lütfen denetim ekibinizde risk değerlendirmesinin yapıldığı tarihi ve değerlendirmeyi yürüten (sorumlu) kişiyi belirtin.
A8: Sertifika Sahibi: | B8: ='1.Başvuru Formu'!H10 -> 0
A9: Tarih:
A10: Değerlendirmeden Sorumlu Kişi
A12: B. Denetim Risk Değerlendirmesi
A13: Lütfen aşağıdaki beyaz hücreleri doldurun. Başvuru sahibi tarafından "1. Başvuru Formu" sekmesinde verilen cevaplar ve sağlanan verilere dayalı olarak, başvuru sahibi için bir risk kategorisi oluşturulacaktır. Bu risk değerlendirmesi, Sertifikasyon ve Denetim kuralları versiyon 1.1'in 2.3.19 numaralı maddesine dayanmaktadır. Bu risk değerlendirmesinin kullanılması her denetim için zorunludur.
A14: Risk faktörü | C14: Veri | D14: Yorum | E14: Puan (Gizli)
A15: 1) Başvuru sahibinin geçmişi Yeni başvuru sahibi veya başvuru sahibi, UTZ ve/veya Rainforest Alliance 2017 programı kapsamında son 2 yıl içinde sertifikalandırılmış mı? | E15: =IF(C15='Hidden Lists'!F38,1,0) -> 0
A16: 2) Başvuru sahibi daha önce sertifikalandırılmışsa son denetim raporuna göre (UTZ veya RA 2017) en son denetimde kaç adet uygunsuzluk tespit edilmişti? | E16: =IF(C16>2,_xlfn.IFS(C16<=14,1,C16>=15,2),0) -> 0
A17: 3) Başvuru sahibi son 2 yılda sertifika aldıysa, son 2 yılda sertifikasyon reddi, iptali veya askıya alınması durumları söz konusu muydu? | E17: =IF(C17='Hidden Lists'!F40,1,0) -> 0
A18: 4) CH aleyhine şikayetler, açılmış davalar veya ilgili veri tabanlarına dahil edilme durumu söz konusu mu? Eğer öyleyse, yorum bölümünde detaylı bilgi verin | E18: =IF(C18='Hidden Lists'!F3,2,0) -> 0
A19: 5) Çocuk İşçiliği konusunda Rainforest Alliance Ülke Risk Haritası değerlendirme sonucu | D19: Haritaya buradan erişebilirsiniz | E19: =_xlfn.IFS(C19='Hidden Lists'!K11,2,C19='Hidden Lists'!K12,1,C19='Hidden Lists'!K13,0,C19=0,0) -> 0
A20: 6) Zorla Çalıştırma konusunda Rainforest Alliance Ülke Risk Haritası değerlendirme sonucu | D20: Haritaya buradan erişebilirsiniz | E20: =_xlfn.IFS(C20='Hidden Lists'!K11,2,C20='Hidden Lists'!K12,1,C20='Hidden Lists'!K13,0,C20=0,0) -> 0
A21: 7) Ormanların Yok Edilmesi Risk Değerlendirmesi (Rainforest Alliance tarafından sağlanan risk haritalarını temel alır) | E21: =_xlfn.IFS(C21='Hidden Lists'!M9,2,C21='Hidden Lists'!M8,1,C21='Hidden Lists'!M7,0,C21=0,0) -> 0
A22: 8) Ormanlara Zarar Verilmesi Risk Değerlendirmesi (Rainforest Alliance tarafından sağlanan risk haritalarını temel alır) | E22: =_xlfn.IFS(C22='Hidden Lists'!M9,2,C22='Hidden Lists'!M8,1,C22='Hidden Lists'!M7,0,C22=0,0) -> 0
A23: 9) Başvuru sahibinin ana ürünü için tahmin edilen ortalama verim (Kg/ha) | C23: =IFERROR('1.Başvuru Formu'!H44/'1.Başvuru Formu'!H45," ") | E23: =IFERROR(IF(C23>1.5*IF('1.Başvuru Formu'!H41='Yield Benchmarks'!A18,VLOOKUP('1.Başvuru Formu'!I14,'Yield Benchmarks'!B$18:C$35,2,0),IF('1.Başvuru Formu'!H41='Yield Benchmarks'!A36,VLOOKUP('1.Başvuru Formu'!I14,'Yield Benchmarks'!B$36:C$63,2,0),IF('1.Başvuru Formu'!H41='Yield Benchmarks'!A70,VLOOKUP('1.Başvuru Formu'!I14,'Yield Benchmarks'!B$69:C$72,2,0),IF('1.Başvuru Formu'!H41='Yield Benchmarks'!A12,VLOOKUP('1.Başvuru Formu'!I14,'Yield Benchmarks'!B$4:C$17,2,0),IF('1.Başvuru Formu'!H41='Yield Benchmarks'!A78,VLOOKUP('1.Başvuru Formu'!I14,'Yield Benchmarks'!B$73:C$90,2,0)))))),1,0),"") -> 1
A24: 10) Sertifikalı ana ürünün toplam yüzölçümü (ha) | C24: =IF(ISBLANK('1.Başvuru Formu'!H45)=TRUE,"",'1.Başvuru Formu'!H45) | E24: =IF(C24<=250,0,IF(C24<=2500,1,2)) -> 2
A25: 11) Toplam daimi işçi sayısı | C25: =IF(COUNTBLANK(FarmIDWorkers[[Daimi Erkek İşçiler]:[Daimi Kadın İşçiler]])=34,"",'1.Başvuru Formu'!D140) | E25: =IF(C25<=20,0,IF(C25<=50,1,2)) -> 2
A26: 12) Toplam geçici işçi sayısı | C26: =IF(COUNTBLANK(FarmIDWorkers[[Geçici Erkek İşçiler]:[Geçici Kadın İşçiler]])=34,"",'1.Başvuru Formu'!D141) | E26: =IF(C26<=20,0,IF(C26<=100,1,2)) -> 2
A27: 13) Daimi işçilerde erkeklerin kadınlara oranı Kadın işçi başına kaç erkek işçi düşmektedir? | C27: =IFERROR(FarmIDWorkers[[#Totals],[Daimi Erkek İşçiler]]/FarmIDWorkers[[#Totals],[Daimi Kadın İşçiler]]," ") | E27: =IF(C27<0.5,0,IF(C27<=1,1,2)) -> 2
A28: 14) Daimi işçilerde erkeklerin kadınlara oranı Kadın işçi başına kaç erkek işçi düşmektedir? | C28: =IFERROR(FarmIDWorkers[[#Totals],[Geçici Erkek İşçiler]]/FarmIDWorkers[[#Totals],[Geçici Kadın İşçiler]]," ") | E28: =IF(C28<0.5,0,IF(C28<=1,1,2)) -> 2
A29: 15) 18 yaş altındaki toplam işçi sayısı | C29: =IF(COUNTBLANK('1.Başvuru Formu'!H106:H122)=17,"",'1.Başvuru Formu'!H123) | E29: =IF(C29<1,0,IF(C29<=2,1,2)) -> 2
A30: 16) İşçiler için temin edilen toplam ev sayısı | C30: =IF(COUNTBLANK(FarmIDWorkers[En yoğun hasat döneminde işçilere sağlanan konaklama imkanlarının sayısı])=17,"",'1.Başvuru Formu'!K123) | E30: =IF(C30=0,0,IF(C30<=10,1,2)) -> 2
A31: 17) Kullanılan toplam tarım iş aracısı sayısı | C31: =IF(ISBLANK('1.Başvuru Formu'!C56)=TRUE,"",'1.Başvuru Formu'!C56) | E31: =IF(C31=0,0,1) -> 1
A32: 18) Toplam göçmen işçi sayısı | C32: =SUM('1.Başvuru Formu'!F123:G123) -> 0 | E32: =IF(C32=0,0,_xlfn.IFS(C32<10,1,C32>11,2)) -> 0
A33: 19) Diğer sertifikasyon programlarının sayısı | C33: =COUNTA('1.Başvuru Formu'!C48:E50) -> 0 | E33: =IF(C33>0,1,0) -> 0
A34: Risk Kategorisi | C34: =VLOOKUP(E34,'Risk factors'!$B$62:$D$66,3,TRUE) -> 5. En yüksek risk | E34: =SUM(E15:E33) -> 16
A37: C. Dava Soruşturması
A38: Denetim Kuralları'nın Ek AR4 bölümünde yer alan madde 2.3.19.u; Sürdürülebilir Tarım Standardı'nın sosyal bölümü ile ilgili konularda Sertifika Sahibi ve/veya yasal temsilcisi aleyhine açılmış davalara ilişkin CB'ler tarafından ön inceleme yapılmasını şart koşmaktadır. Ormanların yok edilmesinin yüksek risk olarak görüldüğü ülkelerde, CB'nin bu soruşturmayı mümkün olduğunda çevre konularını kapsayacak şekilde genişletmesi tavsiye edilir. CB, bu soruşturmayı kamu mahkemesi sistemlerinde ve/veya Sertifika Sahibi'nin kendi beyannamelerini elde ederek yürütebilir. Her ikisi de aşağıda listelenmelidir. CB, soruşturmanın düzgün bir şekilde yürütüldüğünü onaylar ve bu gibi görüşmelerin kanıtlarını KYS'sinde tutar.
A39: Konum (Forum) | B39: Dava / Mahkeme Kararı Sayısı | C39: Durum | D39: Davanın Konusu | E39: Ciddiyet Derecesi | F39: Açılış Tarih

Sheet 2b.Süre
G1: ='1.Başvuru Formu'!K1 -> Versiyon 1.1, Temmuz 2021
A2: Denetim Süresinin Hesaplanması
A3: ='1.Başvuru Formu'!A3:K3 -> Arazi Sertifika Sahipleri ve Başvuru Sahipleri için Tekli arazi ve Çoklu arazi sertifikasyonu
A4: ='1.Başvuru Formu'!A4:K4 -> Sürdürülebilir Tarım Standardı 2020 v1.1
A5: Aşağıda sunulan hesaplama, Rainforest Alliance Denetim ve Sertifikasyon Kuralları'na uygun olarak yapılmıştır, bu nedenle zorunludur. Hesaplama, sekiz saati kapsayan bir iş günü dikkate alınarak denetçi/gün baz alınarak yapılır. Ayrıca, denetimin ve denetçinin çalışmasının kalitesini en üst düzeyde tutmak için, denetçilere, yolculuk süresi dahil olmak üzere, denetim Kurallarının 2.1.4 ve 2.1.5 numaralı maddelerinde belirtildiği gibi, denetim günü başına yalnızca sekiz saat çalışma hakkı tanınmıştır. CB yalnızca Arazi Yakınlık Faktörünü seçmeli ve seyahat süresini ve (varsa) ek süreyi belirtmelidir. Diğer bütün değerler otomatik olarak hesaplanır.
C7: Değer (denetim/gün) | G7: =(C8*C9*C16)+(SUM(C10:C15)*C19)+C18 -> 0
A8: Faktör 1 | B8: Risk Faktörü | C8: =IFERROR(VLOOKUP('2a.Risk Değerlendirmesi'!C34,Factors!AP15:AQ19,2,FALSE),0) -> 1.2 | D8: Kural 2.5.4'e göre Genel Risk Değerlendirmesi temel alınarak hesaplanmıştır. | F8: Min. Denetim Günü Sayısı (denetim/gün) | G8: =CEILING(G7,0.5) -> 0
A9: Faktör 2 | B9: Arazi Yüzölçümü | C9: =VLOOKUP('1.Başvuru Formu'!F79,Factors!AB3:AC14,2,TRUE) -> 0.5 | D9: Rainforest Alliance metodolojisine göre hesaplanmıştır | F9: Fiili Denetim Günleri /Denetçi Sayısı | G9: =IFERROR(CEILING(G8/'2.Denetim Planı'!B73,0.5),1) -> 1
A10: Faktör 3 | B10: Yönetim Sistemi | C10: 1 | D10: Madde 2.5.7'ye göre | F10: Gerçek Denetim Günleri + Lojistik | G10: =G9+C17 -> 1
A11: Faktör 4 | B11: İşleme Birimleri | C11: ='2.Denetim Planı'!B80*0.25 -> 0 | D11: Her tesis için 0,25 denetim/gün (2 saat) katsayısına göre hesaplanmıştır. | F11: Fazladan süre atadıysanız lütfen aşağıda gerekçelendirin:
A12: Faktör 5 | B12: Görüşme Süresi | C12: ='2.Denetim Planı'!B87*0.03 -> 0 | D12: denetim/gün oranına dayalı bireysel görüşmelerde 0,03 denetim/gün (15 dak) olarak
A13: Faktör 6 | B13: İşçi Evleri | C13: ='2.Denetim Planı'!B91*0.03 -> 0 | D13: Her yaşanabilir alan için 0,03 denetim/gün (15 dak.) katsayısına göre hesaplanmıştır.
A14: Faktör 7 | B14: Dış Aktörler | C14: =SUM('2.Denetim Planı'!B81:B84)*0.25 -> 0 | D14: Her dış aktör için 0,25 denetim/gün (2 saat) katsayısına göre hesaplanmıştır.
A15: Faktör 8 | B15: Satın Alma Merkezleri | C15: ='2.Denetim Planı'!B85*0.18 -> 0 | D15: Her satın alma merkezi için 0,18 denetim/gün (1,5 saat) katsayısına göre hesaplanmıştır.
A16: Faktör 9 | B16: Arazi Yakınlığı Faktörü | D16: =IFERROR(VLOOKUP(C16,Factors!AQ3:AR7,2,FALSE)," ")
A17: Faktör 10 | B17: Seyahat Süresi | D17: CB, denetçilerin çıkış noktalarından denetlenecek işletmelere tahmini seyahat süresini belirtmelidir.
A18: Faktör 11 | B18: CB tarafından atanan Ek Süre | D18: CB, örneğin işletme dışındaki soruşturmalar için Denetim Kurallarının Ek AR4 bölümüne ve denetim risk analizine ve uygulanabilir bulduğu diğer faktörlere dayalı olarak ekstra denetim süresi atayabilir.
A19: Faktör 12 | B19: Denetim Birleşik/Entegre mi? | D19: Lütfen Ek AR10'a göre seçin: Birleşik denetim yok - 1,00 2 programa sahip birleşik denetim - 1,50 3'ten fazla programa sahip birleşik denetim - 1,75 Hücre kırmızı olarak gösteriliyorsa lütfen bilgileri gözden geçirin.

Sheet 3. Denetim Özeti
E1: ='2.Denetim Planı'!E1 -> Versiyon 1.1, Temmuz 2021
A2: Denetim Özeti
A3: ='1.Başvuru Formu'!A3:K3 -> Arazi Sertifika Sahipleri ve Başvuru Sahipleri için Tekli arazi ve Çoklu arazi sertifikasyonu
A4: ='1.Başvuru Formu'!A4:K4 -> Sürdürülebilir Tarım Standardı 2020 v1.1
A6: A. Denetim Bilgilerinin Onaylanması
A7: Lütfen aşağıdaki bilgileri sonuçlanan denetim ve diğer prosedürlerle ilgili olarak belirtiniz.
A9: Standart Versiyon | B9: v.1.1 2020
A10: Yürütülen Denetim Başlangıç ​​Tarihi | D10: Denetim Sonlandırılmış mıydı?
A11: Yürütülen Denetim Bitiş Tarihi | D11: Sona Erme Tarihi
A12: Yürütülen Denetim Süresi | D12: Sertifikasyon kararına veya denetimin sonlandırılmasına dair gerekçe
A14: Bu, diğer programlarla birleştirilmiş bir denetim miydi?
A15: Bu denetimde hangi yöntem kullanıldı?
A17: NC'ler (uygunsuzluklar) nedeniyle bir takip denetimi yapıldı mı?
A18: Yapıldıysa, ne tür bir takip denetimi yapıldı?
A19: Kaç NC bulundu?
A20: Yürütülen Takip Denetimi Süresi (denetim/gün olarak)
A21: Takip denetimi başlangıç ​​tarihi
A22: Takip denetimi bitiş tarihi
A24: Atanan Teknik İnceleme Görevlisinin Adı
A25: Teknik İnceleme tamamlanma tarihi
A26: Atanan Sertifikerin Adı
A27: Sertifikasyon Kararı
A28: Sertifikasyon Kararı tarihi
B30: Uygulanan Örnek | C30: Planlanan Örnek | D30: Yürütülen örnek, planlanan örnekten daha azsa, lütfen açıklama girin
A31: Görüşülen İşçiler | C31: ='2.Denetim Planı'!B87 -> 0
A32: Araziler | B32: =COUNTIF(($C$42:C1101),'Hidden Lists'!I13) -> 0 | C32: ='2.Denetim Planı'!B78 -> 0
A33: İşleme İşletmesi | B33: =COUNTIF(($C$42:C1102),'Hidden Lists'!I14) -> 0 | C33: ='2.Denetim Planı'!B80 -> 0
A34: Taşeron | B34: =COUNTIF(($C$42:C1103),'Hidden Lists'!I15) -> 0 | C34: ='2.Denetim Planı'!B82 -> 0
A35: Hizmet Sağlayıcı | B35: =COUNTIF(($C$42:C1104),'Hidden Lists'!I16) -> 0 | C35: ='2.Denetim Planı'!B83 -> 0
A36: Tarım İş Aracısı | B36: =COUNTIF(($C$42:C1105),'Hidden Lists'!I17) -> 0 | C36: ='2.Denetim Planı'!B84 -> 0
A37: Diğer | B37: =COUNTIF(($C$42:C1106),'Hidden Lists'!I18) -> 0 | C37: 0
A39: B. Örneğin Kamuya Açıklanması
A40: Lütfen bu denetim için denetim örneğinin birer parçası olan araziler, işletmeler ve hizmet sağlayıcıların hangileri olduğunu aşağıda belirtin. Örnek artışlarının gerekçelendirilmesi gerektiğini unutmayın.
A41: İsim | B41: Arazinin İşletme Kimlik Numarası | C41: Türü | D41: Örnekleme Türü | E41: Artış varsa gerekçesini belirtin

Sheet 4. İzleme
G1: ='2.Denetim Planı'!E1 -> Versiyon 1.1, Temmuz 2021
A2: Sürecin İzlenmesi
A3: ='1.Başvuru Formu'!A3:K3 -> Arazi Sertifika Sahipleri ve Başvuru Sahipleri için Tekli arazi ve Çoklu arazi sertifikasyonu
A4: ='1.Başvuru Formu'!A4:K4 -> Sürdürülebilir Tarım Standardı 2020 v1.1
A6: A. Denetlenen Örnek | E6: B. Takvimler
A7: Lütfen aşağıda uygulanan denetim örneğine ve planlanan örneğe ilişkin karşılaştırmaya göz atın. Uygulanan örneğin planlanandan daha küçük olması durumunda hücreler kırmızı renkte gösterilecektir ve CB bu duruma dair gerekçe sunmalıdır. | E7: Aşağıda, ilk denetim tarihinden önce ve son denetim tarihinden sonra başlatılan sertifikasyon sürecindeki zamana bağlı bütün faaliyetler için son tarihi görebilirsiniz. Kalite Denetimi (Teknik İnceleme) ekibi, takvimlere uyulduğundan emin olmak adına bunu kullanabilir.
B8: Uygulanan | C8: Planlanan | F8: Uygulanan | G8: Son Tarih | I8: Günler
A9: ='3. Denetim Özeti'!A31 -> Görüşülen İşçiler | B9: ='3. Denetim Özeti'!B31 -> 0 | C9: ='3. Denetim Özeti'!C31 -> 0 | E9: Başvuru Onayı | F9: ='1.Başvuru Formu'!F171 -> 0 | G9: 0 | I9: 0
A10: ='Hidden Lists'!I13 -> Arazi | B10: =COUNTIF(SampleDisc[#All],'Hidden Lists'!I13) -> 0 | C10: ='2.Denetim Planı'!B78 -> 0 | E10: CB Sözleşme Anlaşması | F10: ='1.Başvuru Formu'!F172 -> 0 | G10: =G13-I10 -> 48 | I10: =6*7 -> 42
A11: ='Hidden Lists'!I14 -> İşleme İşletmesi | B11: =COUNTIF(SampleDisc[#All],'Hidden Lists'!I14) -> 0 | C11: ='2.Denetim Planı'!B80 -> 0 | E11: Denetim Ekibiyle paylaşılan başvuru | F11: ='2.Denetim Planı'!B18 -> 0 | G11: =G13-I11 -> 76 | I11: =2*7 -> 14
A12: ='Hidden Lists'!I15 -> Taşeron | B12: =COUNTIF(SampleDisc[#All],'Hidden Lists'!I15) -> 0 | C12: ='2.Denetim Planı'!B82 -> 0 | E12: CH'ye gönderilen Denetim Planı | F12: ='2.Denetim Planı'!B23 -> 0 | G12: =G13-I12 -> 76 | I12: =2*7 -> 14
A13: ='Hidden Lists'!I16 -> Hizmet sağlayıcı | B13: =COUNTIF(SampleDisc[#All],'Hidden Lists'!I16) -> 0 | C13: ='2.Denetim Planı'!B83 -> 0 | E13: İlk Denetim Tarihi | F13: ='3. Denetim Özeti'!B10 -> 0 | G13: ='1.Başvuru Formu'!J53-'2b.Süre'!G8 -> 90 | I13: 0
A14: ='Hidden Lists'!I17 -> Tarım iş aracısı | B14: =COUNTIF(SampleDisc[#All],'Hidden Lists'!I17) -> 0 | C14: ='2.Denetim Planı'!B84 -> 0 | E14: Son Denetim Tarihi | F14: ='3. Denetim Özeti'!B11 -> 0 | G14: ='1.Başvuru Formu'!J53 -> 90 | I14: 0
E15: NC Çözümleme Zaman Aralığı | F15: =G14 -> 90 | G15: =G14+I15 -> 90 | I15: =IF($B$16=0,0,10*7) -> 0
A16: Denetimde Tespit Edilen NC'ler | B16: ='3. Denetim Özeti'!B19 -> 0 | E16: RACP'deki (QR) Nihai Denetim Raporu | G16: =G17 -> 118 | I16: 0
E17: Sertifikasyon Kararı | F17: ='3. Denetim Özeti'!B28 -> 0 | G17: =I17+G15 -> 118 | I17: =IF($B$16=0,4*7,2*7) -> 28
E18: Risk Değerlendirmesi | G18: =I18+G17 -> 125 | I18: =7*1 -> 7
E21: CB için not:
E22: Aşağıda yeşil ile belirtilen faaliyetlerle ilgili hücreleri doldurun. RACP'de (F16) Nihai Denetim Raporuna ilişkin tarihi ve Lisans Talep Tarihini (F18) belirtin.

Sheet Hidden Lists
A1: Note for translator: This tab should be translated, otherwise the dropdown menus will not work
C2: Gereklilik Türleri | F2: E/H Listesi | I2: Dava | K2: Denetçi Listesi | M2: Görüşme Türü | P2: Sert. Seçenekler | Q2: Açıklama | S2: Mesajlar | U2: GPF
A3: Ülke Listesi | C3: Temel Gereklilikler | F3: Evet | I3: C | K3: ='2.Denetim Planı'!B39 -> 0 | M3: Bireysel | P3: Tekli Arazi | Q3: Merkezi yönetimin ve bütün faaliyetlerin tek bir fiziksel konumdan gerçekleştirildiği, bağımsız bir organizasyon yapısına sahip bir arazisi olan veya böyle bir araziyi yöneten tekli arazi. | R3: x | S3: Lütfen denetimin başlangıç ve bitiş tarihlerini gözden geçirin. Eklenen tarihlere ve denetçi sayısına göre süre yeterli olmayabilir. | T3: x | U3: Grup arazileri çok yakındır ve seçilen herhangi bir 2 alt grup/köyde 6 arazi arasında seyahat etme süresi dahil olmak üzere 8 saat içinde her denetçi için 6'dan fazla araziyi ziyaret etmek kolaydır
A4: Afganistan | C4: Zorunlu Geliştirmeler | F4: Hayır | I4: NC | K4: ='2.Denetim Planı'!B43 -> 0 | M4: Grup | P4: Çoklu Arazi | Q4: Sertifikasyondan bağımsız olarak, faaliyetleri ve arazi işletme uygulamaları merkezi olarak yönetilen bir oluşuma ait olan veya bu oluşum tarafından kiralanan iki veya daha fazla arazi. | R4: x | U4: Grup arazileri ulaşılabilir mesafededir ve seçilen 2 alt grup/köyde 5 arazi arasında seyahat etme süresi de dahil olmak üzere 8 saat içinde 5 araziye kadar ziyaret makuldür.
A5: Arnavutluk | C5: Seçmeli Geliştirmeler | I5: NA | K5: ='2.Denetim Planı'!B47 -> 0 | P5: Arazi Grubu | Q5: Organize arazilerde oluşan bir grup (grup üreticileri), bir birlik veya kooperatif olarak örgütlenebilir veya bir arazi ya da örneğin bir ihracatçı gibi başka bir tedarik zinciri aktörü veya başka bir oluşum tarafından yönetilebilir. | R5: x | S5: İş Concat fonksiyonu | U5: Grup arazileri birbirinden uzaktır ve seçilen 2 alt grup/köyde 4 arazi arasında seyahat etme süresi de dahil olmak üzere 8 saat içinde 4 araziye kadar ziyaret makuldür.
A6: Cezayir | C6: Zorunlu Akıllı Ölçümler | F6: Kapsamlar | K6: ='2.Denetim Planı'!B51 -> 0 | M6: Ormanların Yok Edilmesi/Ormanlara Zarar Verilmesi risk parametreleri | P6: Tekli İşletme | Q6: Rainforest Alliance sertifikasyonu kapsamında arazi işletmenin bulunmadığı, merkezi yönetimin ve bütün faaliyetlerin tek bir fiziksel konumda gerçekleştiği bireysel bir kuruluş. | R6: x | S6: olarak | U6: Grup arazileri birbirlerinden oldukça uzaktadır ve seçilen 2 alt grup/köyde 3 arazi arasında seyahat etme süresi de dahil olmak üzere 8 saat içinde 3 araziye kadar ziyaret makuldür.
A7: Andora | C7: Seçmeli Akıllı Ölçümler | F7: Arazi | I7: Kontrol listesi | K7: ='2.Denetim Planı'!B55 -> 0 | M7: Hepsi yeşil - Düşük | P7: Çoklu İşletme | Q7: Rainforest Alliance sertifikasının kapsamında arazi işletmenin bulunmadığı ve altında iki veya daha çok işletmenin çalışmakta olduğu, merkezi bir konum belirtmiş olan bir kuruluş. | R7: x | S7: ve
A8: Angola | F8: Tedarik Zinciri | I8: Uygun | K8: ='2.Denetim Planı'!B59 -> 0 | M8: Kırmızı Renkliler Hariç olmak üzere bütün Turuncu Renkliler - Orta | N8: x | S8: işçi(ler) | U8: Risk kategorisi
A9: Antigua ve Barbuda | C9: Denetim Türleri | I9: Uygunsuzluk | M9: Herhangi biri kırmızı - Yüksek | S9: işçiler | U9: 1. Çok düşük risk
A10: Arjantin | C10: Geçiş | F10: Gönderilenler Listesi | I10: Geçerli Değil | K10: Risk Seviyeleri | P10: Denetçi Türleri | Q10: Açıklama | R10: x | U10: 2. Düşük risk
A11: Ermenistan | C11: Sertifikasyon | F11: Gönderildi | K11: Yüksek | P11: Baş Denetçi | Q11: Denetim ekibini yönetmekten ve organize etmekten sorumludur; denetimin eksiksiz ve uygun şekilde yürütülmesini sağlar; müşteriyle iletişim kurulduğunda denetim planını düzenler; denetim raporunu hazırlar. | R11: x | U11: 3. Orta risk
A12: Avustralya | C12: Gözetim | F12: Gönderilmedi | I12: Örnek Türleri | K12: Orta | P12: Sosyal Konular Baş Denetçisi | Q12: Denetimler sırasında sosyal gerekliliklere yönelik araştırmasını yönetmekten ve düzenlemekten ve RA sosyal Risk Haritalarına göre orta/yüksek riskli bağlamlar için ek denetim gerekliliklerinin uygulanmasından sorumludur. | R12: x | U12: 4. Yüksek risk
A13: Avusturya | C13: Takip | I13: Arazi | K13: Düşük | P13: Yardımcı Denetçi | Q13: Denetimin eksiksiz ve uygun şekilde yürütülmesini sağlamak için baş denetçiye belirli görevlerde destek olur. Denetim raporuna özel girdiler hazırlar. | R13: x | U13: 5. En yüksek risk
A14: Azerbaycan | C14: Habersiz | F14: Dava | I14: İşleme İşletmesi | K14: Geçerli Değil | P14: Stajyer Denetçi | Q14: Her zaman bir denetçinin veya baş denetçinin gözetiminde doğrulamayla ilgili işlemler yapar. | R14: x
A15: Bahamalar | C15: Araştırma | F15: Açık | I15: Taşeron | P15: Teknik Uzman | Q15: Denetim bağlamı için yüksek/orta risk olarak tanımlanan belirli bir konuda kanıt toplamak için belirli denetim yöntemlerinin kullanılmasını destekler. | R15: x
A16: Bahreyn | C16: Genişletme | F16: Kapalı | I16: Hizmet sağlayıcı | P16: Tercüman | Q16: Görüşülen kişilerin beyanlarının birebir çevrilmesi suretiyle denetim ekibini destekler ve uygunluk (uygunsuzluk) değerlendirmesini etkilemez. | R16: x
A17: Bangladeş | C17: Gölge | F17: Gizlilik | I17: Tarım iş aracısı | P17: Gözetmen | Q17: Denetim sürecini, öğrenme veya kurumsal nedenler üzerinde etkisi olmaksızın, denetçilerin izlenmesi ve değerlendirilmesi amacıyla gözlemler. | R17: x
A18: Barbados | C18: İnceleme | I18: Diğer | P18: İşçi Türleri Kılavuzu | Q18: Sendikalı ve Göçmen işçi kategorileri hariç tutulmaz, bu da geçici ve daimi işçilerin de göçmen ve sendikalı olabileceği anlamına gelir. Bu alanlara dair göstergeler, baş denetçinin, geçici/daimi kategorilerinde örneklenen işçilerin bir kısmının burada belirtilen sendikalı/göçmen işçi sayısını da kapsadığından emin olması gerektiği bilgisiyle sınırlıdır. | R18: x
A19: Beyaz Rusya | F19: Cinsiyet | G19: Cinsiyet
A20: Belçika | C20: Concat Fonksiyonu Versiyonu | F20: (E) | G20: Erkek
A21: Belize | C21: Versiyon | F21: (K) | G21: Kadın | I21: Örnek Büyüklüğü
A22: Benin | C22: 1.1, Temmuz 2021 | I22: İlk Başta Planlanan
A23: Butan | F23: İşletme Türleri | I23: Artan
A24: Bolivya | F24: Arazi
A25: Bosna-Hersek | C25: Birleşik Denetimin Doğrulanması | F25: İşleme İşletmesi | I25: İzlenebilirlik Seviyesi:
A26: Botswana | C26: =IF('2.Denetim Planı'!E32='Hidden Lists'!F3,1,0) -> 0 | I26: Korunmuş Kimlik
A27: Brezilya | C27: ='2b.Süre'!C19 -> 0 | F27: Durum | I27: Ayrım
A28: Brunei | C28: Yanlış | F28: Onaylandı | I28: Kütle Denkliği
A29: Bulgaristan | C29: Doğru | F29: Reddedildi
A30: Burkina Faso | C30: =IF(AND(C26=1,C27<1.1),C28,C29) -> Doğru | I30: Diğer Aktörler
A31: Burundi | F31: Sert. Karar | I31: Taşeron
A32: Kamboçya | C32: Takip Denetiminin Doğrulanması | F32: Sertifikasyon | I32: Aracı
A33: Kamerun | C33: Arazi | F33: Sertifikasyon reddi | I33: Hizmet Sağlayıcı
A34: Kanada | C34: Kısmen Uzaktan | F34: Askıya alma | I34: Tarım İş Aracısı
A35: Yeşil Burun | C35: Uzaktan | F35: İptal
A36: Orta Afrika Cumhuriyeti | C36: =IF('3. Denetim Özeti'!B17='Hidden Lists'!F3,1,0) -> 0
A37: Çad | C37: =COUNTA('3. Denetim Özeti'!B21:B22) -> 0 | F37: CH Risk analizi
A38: Şili | C38: =IF(AND(C36=1,C37<2),C28,C29) -> Doğru | F38: Yeni Başvuru Sahibi | G38: x
A39: Çin | F39: Mevcut Başvuru Sahibi | G39: x
A40: Kolombiya | C40: Sonlandırmanın Doğrulanması | F40: Evet - Başvuru sahibinin sertifikası bulunmuyor veya son 2 yılda askıya alınmış | G40: x
A41: Komorlar | C41: =IF('3. Denetim Özeti'!E10='Hidden Lists'!F3,1,0) -> 0 | F41: Hayır | G41: x
A42: Kongo Cumhuriyeti | C42: =COUNTA('3. Denetim Özeti'!E11) -> 0 | F42: Eksik veri Yorum sütunu D'ye bakın | G42: x
A43: Demokratik Kongo Cumhuriyeti | C43: =IF(AND(C41=1,C42<1),C28,C29) -> Doğru
A44: Kosta Rika
A45: Fildişi Sahili
A46: Hırvatistan
A47: Küba
A48: Kıbrıs
A49: Çekya
A50: Danimarka
A51: Cibuti
A52: Dominika
A53: Dominik Cumhuriyeti
A54: Doğu Timor (Timor-Leste)
A55: Ekvador
... A199: Zimbabve

Sheet Crop List
A1: Note for translator: This tab should be translated, otherwise the dropdown menus will not work
A2: Sertifikasyon kapsamı | B2: Kategori | C2: Ürün adı (nihai) | E2: Kategori Listesi | G2: Önemli talimatlar!
A3: RA | B3: Kakao | C3: Kakao | E3: Kakao | G3: Çevirilerden/güncellemelerden sonra aşağıdakileri işlemleri yaptığınızdan emin olun:
A4: RA | B4: Kahve | C4: Kahve Arabica | E4: Kahve | G4: 1) Ürün listesini kategoriye göre (B2) A'dan Z'ye sıralayın.
A5: RA | B5: Kahve | C5: Kahve Robusta | E5: Çiçek | G5: 2) Ad Yöneticisini açın Ad olarak kategori listesi (E2) ile aynı girişleri göreceksiniz.
A6: RA | B6: Çiçek | C6: Eğrelti otu | E6: Meyve | G6: 3) Her adı açarak çevrisi yapılan/güncellenen listeyle hizalayın. Bu, bütün ürün adlarını (C sütunu) yeniden seçmeniz ve ilgili kategoriye bağlamanız gerektiği anlamına gelir.
A7: RA | B7: Çiçek | C7: Deri eğrelti otu | E7: Aromatik_Bitkiler | G7: Başka bir değişikliğe gerek bulunmuyor!
A8: RA | B8: Çiçek | C8: Diğer süs bitkileri | E8: Kabuklu_yemiş
A9: RA | B9: Çiçek | C9: Palm yaprağı | E9: Çay
A10: RA | B10: Çiçek | C10: Psyllium | E10: Sebze
A11: RA | B11: Çiçek | C11: Gül
A12: RA | B12: Çiçek | C12: Ayçiçeği
A13: RA | B13: Çiçek | C13: Çeşitli yeşillikler
A14: RA | B14: Meyve | C14: Acai
A15: UEBT/RA | B15: Meyve | C15: Elma çiçeği
A16: RA | B16: Meyve | C16: Elma
A17: UEBT/RA | B17: Meyve | C17: Elma yaprağı
A18: UEBT/RA | B18: Meyve | C18: Kayısı çiçeği
A19: RA | B19: Meyve | C19: Kayısı
A20: UEBT/RA | B20: Meyve | C20: Kayısı yaprağı
A21: RA | B21: Meyve | C21: Avokado
A22: RA | B22: Meyve | C22: Muz
... A371: RA | B371: Sebze | C371: Yam

Sheet Yield Benchmarks
A1: Note for translator: This tab should be translated, otherwise the dropdown menus will not work
A3: Ürün | B3: Sert. Sahibi Ülke | C3: Rayiç (Kg)
A4: Roybos | B4: Belize | C4: 19017
A5: Roybos | B5: Brezilya | C5: 32237
A6: Roybos | B6: Kolombiya | C6: 46441
A7: Roybos | B7: Kosta Rika | C7: 47146
A8: Roybos | B8: Ekvador | C8: 43275
A9: Roybos | B9: Guatemala | C9: 73245
A10: Roybos | B10: Honduras | C10: 52598
A11: Roybos | B11: Fildişi Sahili | C11: 44448
A12: Roybos | B12: Malavi | C12: 12353
A13: Roybos | B13: Meksika | C13: 52200
A14: Roybos | B14: Nikaragua | C14: 50036
A15: Roybos | B15: Panama | C15: 38000
... A90: Çay | B90: Zimbabve | C90: 798.80774

Sheet Factors
A1: Note for translator: No need to translate this tab | AA1: Area | AF1: Interviews | AK1: Sample
B2: Sample factors | P2: Number of workers involved in the CH | Q2: Lower border of category (min workers) | R2: Minimum number of interviews | S2: Minimum number of individual interviews | T2: Maximum number of group interviews - Description | U2: Minimum number of Group interviews | V2: Minimum number of worker files to be checked | AA2: Category | AB2: Lower limit | AC2: factor | AF2: Individual Interview | AG2: 0.25 | AH2: h | AK2: DLS | AL2: 0.4 | AQ2: GPF
B3: Item | C3: Sample for Audit Calculation | D3: Formula for Audit Sample | E3: Totals from Application Form | F3: Min. Sample | G3: Single Farm | H3: Multi Farm | I3: Note | J3: Clause | P3: 1 to 5 | Q3: 1 | R3: ='1.Başvuru Formu'!D140+'1.Başvuru Formu'!D141 -> 0 | S3: =R3 -> 0 | T3: 0 | U3: 0 | V3: =R3 -> 0 | AA3: 0 to 50 | AB3: 0 | AC3: 0.5 | AF3: Group Interview | AG3: 0.5 | AH3: h | AQ3: 1 | AR3: ='Hidden Lists'!U3 -> Grup arazileri çok yakındır ve seçilen herhangi bir 2 alt grup/köyde 6 arazi arasında seyahat etme süresi dahil olmak üzere 8 saat içinde her denetçi için 6'dan fazla araziyi ziyaret etmek kolaydır
B4: Farms | C4: =IF(D4<F4,SMALL(E4:F4,1),ROUNDUP(D4,0)) -> 0 | D4: =IF('1.Başvuru Formu'!$D$37='Hidden Lists'!$P$3,E4*G4,E4*H4) -> 0 | E4: =COUNTIF('1.Başvuru Formu'!B62:B78,'Hidden Lists'!F24) -> 0 | F4: 3 | G4: 1 | H4: 0.33 | I4: For Single, is always 1; for Multi-Farm is all should be audited Within 3 years (0,33). | J4: 2.4.11.b 2.4.14.d | P4: 6 to 10 | Q4: 6 | R4: 6 | S4: 6 | T4: 0 | U4: 0 | V4: 6 | AA4: 51 to 100 | AB4: 50 | AC4: 1 | AQ4: 1.1 | AR4: ='Hidden Lists'!U4 -> Grup arazileri ulaşılabilir mesafededir ve seçilen 2 alt grup/köyde 5 arazi arasında seyahat etme süresi de dahil olmak üzere 8 saat içinde 5 araziye kadar ziyaret makuldür.
B5: Farm Unities | C5: =IF(D5<F5,SMALL(E5:F5,1),ROUNDUP(D5,0)) -> 0 | D5: =IF('1.Başvuru Formu'!$D$37='Hidden Lists'!$P$3,SQRT(E5),SQRT(E5)) -> 0 | E5: ='1.Başvuru Formu'!E79 -> 0 | F5: 2 | G5: √ | H5: √ | I5: Square root of all sampled farms, as per 2.4.11.b or 2.4.14.d. | J5: 2.4.11.c | P5: 11 to 50 | Q5: 11 | R5: 9 | S5: 6 | T5: 1 group of 3 | U5: 1 | V5: 9 | AA5: 101 to 250 | AB5: 100 | AC5: 1.2 | AF5: Combined Audits | AQ5: 1.2 | AR5: ='Hidden Lists'!U5 -> Grup arazileri birbirinden uzaktır ve seçilen 2 alt grup/köyde 4 arazi arasında seyahat etme süresi de dahil olmak üzere 8 saat içinde 4 araziye kadar ziyaret makuldür.
B6: Processing Sites | C6: =IF(D6<F6,SMALL(E6:F6,1),ROUNDUP(D6,0)) -> 0 | D6: =IF('1.Başvuru Formu'!$D$37='Hidden Lists'!$P$3,E6*G6,E6*H6) -> 0 | E6: =COUNTIF('1.Başvuru Formu'!B62:B78,'Hidden Lists'!F25) -> 0 | F6: 3 | G6: 1 | H6: 0.33 | I6: All should be audited for single; all audited within 3 year for multi-farm | J6: 2.4.11.a 2.4.12.b | P6: 51 to 100 | Q6: 51 | R6: 15 | S6: 7 | T6: 1 group of 3 1 group of 5 | U6: 2 | V6: 12 | AA6: 251 to 350 | AB6: 250 | AC6: 1.7 | AG6: 1 | AQ6: 1.3 | AR6: ='Hidden Lists'!U6 -> Grup arazileri birbirlerinden oldukça uzaktadır ve seçilen 2 alt grup/köyde 3 arazi arasında seyahat etme süresi de dahil olmak üzere 8 saat içinde 3 araziye kadar ziyaret makuldür.
B7: Subcontractors | C7: =IF(D7<F7,SMALL(E7:F7,1),ROUNDUP(D7,0)) -> 0 | D7: =IF('1.Başvuru Formu'!$D$37='Hidden Lists'!$P$3,E7*G7,E7*H7) -> 0 | E7: ='1.Başvuru Formu'!C53 -> 0 | F7: 3 | G7: 0.33 | H7: 0.33 | I7: Subcontractors, intermediaries and service providers shall all be audited within 3-years time (0,33). | J7: 2.4.9.b | P7: 101 to 250 | Q7: 101 | R7: 20 | S7: 10 | T7: 2 groups of 5 | U7: 2 | V7: 15 | AA7: 351 to 450 | AB7: 350 | AC7: 2.2 | AG7: 1.5
B8: Intermediaries | C8: =IF(D8<F8,SMALL(E8:F8,1),ROUNDUP(D8,0)) -> 0 | D8: =IF('1.Başvuru Formu'!$D$37='Hidden Lists'!$P$3,E8*G8,E8*H8) -> 0 | E8: ='1.Başvuru Formu'!C54 -> 0 | F8: 3 | G8: 0.33 | H8: 0.33 | I8: Subcontractors, intermediaries and service providers shall all be audited within 3-years time (0,33). | J8: 2.4.9.b | P8: 251 to 500 | Q8: 251 | R8: 32 | S8: 12 | T8: 2 groups of 3 1 group of 4 2 groups of 5 | U8: 5 | V8: 18 | AA8: 451 to 600 | AB8: 450 | AC8: 2.5 | AG8: 1.75 | AP8: Risk
B9: Service Providers | C9: =IF(D9<F9,SMALL(E9:F9,1),ROUNDUP(D9,0)) -> 0 | D9: =IF('1.Başvuru Formu'!$D$37='Hidden Lists'!$P$3,E9*G9,E9*H9) -> 0 | E9: ='1.Başvuru Formu'!C55 -> 0 | F9: 3 | G9: 0.33 | H9: 0.33 | I9: Subcontractors, intermediaries and service providers shall all be audited within 3-years time (0,33). | J9: 2.4.9.b | P9: 501 to 1500 | Q9: 501 | R9: 40 | S9: 15 | T9: 2 group of 3 1 group of 4 3 groups of 5 | U9: 6 | V9: 20 | AA9: 601 to 800 | AB9: 600 | AC9: 2.8 | AP9: A | AQ9: 0.9 | AR9: ='Hidden Lists'!U9 -> 1. Çok düşük risk
B10: Labor Providers | C10: =IF(D10<F10,SMALL(E10:F10,1),ROUNDUP(D10,0)) -> 0 | D10: =IF('1.Başvuru Formu'!$D$37='Hidden Lists'!$P$3,E10*G10,E10*H10) -> 0 | E10: ='1.Başvuru Formu'!C56 -> 0 | F10: 3 | G10: 1 | H10: 1 | I10: All should be audited for each audit. | J10: AR 4.42.a | P10: 1501 to 4000 | Q10: 1501 | R10: 50 | S10: 18 | T10: 1 group of 3 1 group of 4 5 groups of 5 | U10: 7 | V10: 25 | AA10: 801 to 1200 | AB10: 800 | AC10: 3 | AP10: B | AQ10: 1 | AR10: ='Hidden Lists'!U10 -> 2. Düşük risk
B11: Purchase centers | C11: =IF(D11<F11,SMALL(E11:F11,1),ROUNDUP(D11,0)) -> 0 | D11: =IF('1.Başvuru Formu'!$D$37='Hidden Lists'!$P$3,SQRT(E11)*0.5,SQRT(E11)*0.5) -> 0 | E11: ='1.Başvuru Formu'!C57 -> 0 | F11: 3 | G11: √/2 | H11: √/2 | I11: It should be 50% the sqr. | J11: 2.4.12.a | P11: > 4001 | Q11: 4001 | R11: 65 | S11: 25 | T11: 8 groups of 5 | U11: 8 | V11: 30 | AA11: 1201 to 1800 | AB11: 1200 | AC11: 3.5 | AP11: C | AQ11: 1.1 | AR11: ='Hidden Lists'!U11 -> 3. Orta risk
B12: Houses | C12: =IF(D12<F12,SMALL(E12:F12,1),ROUNDUP(D12,0)) -> 0 | D12: =IF('1.Başvuru Formu'!$D$37='Hidden Lists'!$P$3,SQRT(E12),SQRT(E12)) -> 0 | E12: ='1.Başvuru Formu'!K123 -> 0 | F12: 3 | G12: √ | H12: √ | I12: It should be sqr | J12: AR4.9 47.a | AA12: 1801 to 2500 | AB12: 1800 | AC12: 4 | AP12: D | AQ12: 1.15 | AR12: ='Hidden Lists'!U12 -> 4. Yüksek risk
F13: Values in Red, Modfied due to the Provisional Policy | AA13: 2501 to 3500 | AB13: 2500 | AC13: 5 | AP13: E | AQ13: 1.2 | AR13: ='Hidden Lists'!U13 -> 5. En yüksek risk
P14: Audit Date Trigger Factor | T14: Worker Calculation Concat | W14: Min. Number Interviews | Y14: ='2.Denetim Planı'!C86 -> 0 | AA14: > 3500 | AB14: 3500 | AC14: 6
P15: Initial Date | R15: =('2.Denetim Planı'!B72-'2.Denetim Planı'!B71)+1 -> 1 | U15: Male | V15: Female | W15: Total | X15: General | Y15: % Male | Z15: %Female | AP15: ='Hidden Lists'!U9 -> 1. Çok düşük risk | AQ15: 0.9
P16: Audit Date | R16: =ROUNDUP('2.Denetim Planı'!E69,0) -> 1 | T16: Permanent | U16: ='1.Başvuru Formu'!B123 -> 0 | V16: ='1.Başvuru Formu'!C123 -> 0 | W16: =SUM(U16:V16) -> 0 | X16: =(SUM(U16:V16)/(SUM($U$18:$V$18))) -> #DIV/0! | Y16: =U16/(U16+V16) -> #DIV/0! | Z16: =V16/(U16+V16) -> #DIV/0! | AP16: ='Hidden Lists'!U10 -> 2. Düşük risk | AQ16: 1
T17: Temporary | U17: ='1.Başvuru Formu'!D123 -> 0 | V17: ='1.Başvuru Formu'!E123 -> 0 | W17: =SUM(U17:V17) -> 0 | X17: =(SUM(U17:V17)/(SUM($U$18:$V$18))) -> #DIV/0! | Y17: =U17/(U17+V17) -> #DIV/0! | Z17: =V17/(U17+V17) -> #DIV/0! | AP17: ='Hidden Lists'!U11 -> 3. Orta risk | AQ17: 1.1
T18: Totals | U18: =SUM(U16:U17) -> 0 | V18: =SUM(V16:V17) -> 0 | W18: =SUM(U18:V18) -> 0 | AP18: ='Hidden Lists'!U12 -> 4. Yüksek risk | AQ18: 1.15
AP19: ='Hidden Lists'!U13 -> 5. En yüksek risk | AQ19: 1.2
P20: Transition Audit Trigger
P21: Audit Type | R21: =IF('1.Başvuru Formu'!D36='Hidden Lists'!C10,1,0) -> 0 | T21: Calculation on proportion of interviews
P22: Filling in | R22: =IF('1.Başvuru Formu'!D46>0,0,1) -> 1 | U22: Total | V22: Male | W22: Female
P23: total | R23: =R21+R22 -> 1 | T23: Permanent proportion | U23: =($Y$14*X16) -> #DIV/0! | V23: =U23*Y16 -> #DIV/0! | W23: =U23*Z16 -> #DIV/0!
T24: Temporary proportion | U24: =($Y$14*X17) -> #DIV/0! | V24: =U24*Y17 -> #DIV/0! | W24: =U24*Z17 -> #DIV/0!
T25: Totals
T28: Calculation on proportion of interviews - Rounding
U29: Total | V29: Male | W29: Female
T30: Permanent proportion | U30: =_xlfn.FLOOR.MATH(U23,1) -> #DIV/0! | V30: =_xlfn.FLOOR.MATH(V23,1) -> #DIV/0! | W30: =_xlfn.FLOOR.MATH(W23,1) -> #DIV/0!
T31: Temporary proportion | U31: =_xlfn.FLOOR.MATH(U24,1) -> #DIV/0! | V31: =_xlfn.FLOOR.MATH(V24,1) -> #DIV/0! | W31: =_xlfn.FLOOR.MATH(W24,1) -> #DIV/0!
T32: Totals
T33: Unionized | U33: =ROUNDUP(U20*X20,0) -> 0
T34: Calculation on proportion of interviews - Corrections
U35: Total | V35: Male | W35: Female
T36: Permanent proportion | U36: =U23-U30 -> #DIV/0! | V36: =V23-V30 -> #DIV/0! | W36: =W23-W30 -> #DIV/0!
T37: Temporary proportion | U37: =U24-U31 -> #DIV/0! | V37: =V24-V31 -> #DIV/0! | W37: =W24-W31 -> #DIV/0!
T38: Totals | U38: =U25-U32 -> 0 | V38: =V25-V32 -> 0 | W38: =W25-W32 -> 0
T40: Calculation on proportion of interviews - Formulas
U41: Total | V41: Male | W41: Female
T42: Permanent proportion | U42: =IF(U36<0.49,ROUNDDOWN(U23,0),ROUNDUP(U23,0)) -> #DIV/0! | V42: =IF(V36<0.49,ROUNDDOWN(V23,0),ROUNDUP(V23,0)) -> #DIV/0! | W42: =IF(W36<0.49,ROUNDDOWN(W23,0),ROUNDUP(W23,0)) -> #DIV/0!
T43: Temporary proportion | U43: =IF(U37<0.49,ROUNDDOWN(U24,0),ROUNDUP(U24,0)) -> #DIV/0! | V43: =IF(V37<0.49,ROUNDDOWN(V24,0),ROUNDUP(V24,0)) -> #DIV/0! | W43: =IF(W37<0.49,ROUNDDOWN(W24,0),ROUNDUP(W24,0)) -> #DIV/0!
T44: Totals

Sheet Risk factors
A1: Risk indicators for Farm:
A2: =Factors!A1 -> Note for translator: No need to translate this tab
A3: Risk factor | B3: Applicable to: | C3: Location of data | D3: Threshold | E3: Risk point | F3: Comments
A4: # of NC in latest audit | B4: Single & Multi Farm + Group of farms | C4: Previous report from CH | D4: > 2 - 15 | E4: 0 | F4: If 0 or 1 NC raised = risk, if more than 15 NC = risk. Threshold of 15 based on avg # of NC raised in audits that have led to a non-certification decision in West Africa in 2020
A5: # of NC in latest audit | B5: Single & Multi Farm + Group of farms | C5: Previous report from CH | D5: 1<= OR >15 | E5: 1
A6: History of CH | B6: Single & Multi Farm + Group of farms | C6: Registration RACP | D6: Existing CH | E6: 0
A7: History of CH | B7: Single & Multi Farm + Group of farms | C7: Registration RACP | D7: New CH | E7: 1 | F7: If CH has not indicated a previous UTZ / RA ID, completely new CH and thus riskier
A8: Non-certification, cancellation, suspension in the last 2 years | B8: Single & Multi Farm + Group of farms | C8: Previous report from CH | D8: No non-certification, suspension or cancellation in the last 2 years | E8: 0 | F8: Non-certification, suspension or cancellation for non-administrative reasons
A9: Non-certification, cancellation, suspension in the last 2 years | B9: Single & Multi Farm + Group of farms | C9: Previous report from CH | D9: Non-certification, suspension or cancellation in the last 2 years | E9: 1
A10: Average estimated yield of main crop of CH | B10: Single & Multi Farm + Group of farms | C10: Calculated on basis of CAF | D10: Up to 1.5*average estimated yield for this crop and this country (benchmark) | E10: 0 | F10: Data on average yield only available for some crops (coffee, tea, cocoa, banana, pineapple, HZ) in some countries - see tab "yield thresholds"
A11: Average estimated yield of main crop of CH | B11: Single & Multi Farm + Group of farms | C11: Calculated on basis of CAF | D11: More than 1.5* average estimated yield for this crop and this country | E11: 1
A12: Total area of main certified crop | B12: Single & Multi Farm | C12: CAF | D12: 0 - 250 | E12: 0 | F12: 53% of CH have between 0 and 250 ha of certified area
A13: Total area of main certified crop | B13: Single & Multi Farm | C13: CAF | D13: >250 - 2 500 | E13: 1 | F13: 96% of CH have between 0 and 2500 ha of certified area
A14: Total area of main certified crop | B14: Single & Multi Farm | C14: CAF | D14: > 2 500 | E14: 2
A15: Average area of main certified crop per group member | B15: Group of farms | C15: Calculated on basis of CAF | D15: 0 - 5 ha | E15: 0 | F15: 75% of CH have an average of between 0 and 5 ha of certified area per group member
A16: Average area of main certified crop per group member | B16: Group of farms | C16: Calculated on basis of CAF | D16: > 5 - 50 ha | E16: 1 | F16: 94% of CH have an average of between 0 and 50 ha of certified area per group member
A17: Average area of main certified crop per group member | B17: Group of farms | C17: Calculated on basis of CAF | D17: >50ha | E17: 2
A18: Total number of group member (small and large) | B18: Group of farms | C18: CAF | D18: 0 - 1000 | E18: 0 | F18: 67% of CH have up to 1000 group members
A19: Total number of group member (small and large) | B19: Group of farms | C19: CAF | D19: > 1000 - 10 000 | E19: 1 | F19: 97% of CH have between 0 and 10 000 group members
A20: Total number of group member (small and large) | B20: Group of farms | C20: CAF | D20: > 10 000 | E20: 2
A21: Average # of temporary workers per group member | B21: Group of farms | C21: Calculated on basis of CAF | D21: 0-50 | E21: 0
A22: Average # of temporary workers per group member | B22: Group of farms | C22: Calculated on basis of CAF | D22: >50-150 | E22: 1
A23: Average # of temporary workers per group member | B23: Group of farms | C23: Calculated on basis of CAF | D23: >150 | E23: 2
A24: Total # of workers below 18 years | B24: Single & Multi Farm + Group of farms | C24: CAF | D24: 0 | E24: 0 | F24: Including temporary, permanent and migrant workers
A25: Total # of workers below 18 years | B25: Single & Multi Farm + Group of farms | C25: CAF | D25: 1 - 2 | E25: 1
A26: Total # of workers below 18 years | B26: Single & Multi Farm + Group of farms | C26: CAF | D26: > 2 | E26: 2
A27: Percentage of large farm group members | B27: Group of farms | C27: Calculated on basis of CAF | D27: 0% of certified group members | E27: 0
A28: Percentage of large farm group members | B28: Group of farms | C28: Calculated on basis of CAF | D28: >0% - 10% of certified group members | E28: 1
A29: Percentage of large farm group members | B29: Group of farms | C29: Calculated on basis of CAF | D29: > 10% of certified group members | E29: 2
A30: Total # of labor providers used | B30: Single & Multi Farm + Group of farms | C30: Calculated on basis of CAF | D30: 0 | E30: 0 | F30: Assumption: the more labor providers, the more challenging to ensure they meet the requirements on worker related point in 5.3. and 5.5. and the risk that the CH is not meeting it either on the other points
A31: Total # of labor providers used | B31: Single & Multi Farm + Group of farms | C31: Calculated on basis of CAF | D31: > 0 | E31: 1
A32: # of houses provided to workers | B32: Single & Multi Farm | C32: CAF | D32: 0 | E32: 0
A33: # of houses provided to workers | B33: Single & Multi Farm | C33: CAF | D33: 1 - 10 | E33: 1
A34: # of houses provided to workers | B34: Single & Multi Farm | C34: CAF | D34: > 10 | E34: 2
A35: Total # of permanent workers | B35: Single & Multi Farm | C35: CAF | D35: 0 - 20 | E35: 0 | F35: 48% of individual / multisite CH have up to 20 permanent workers
A36: Total # of permanent workers | B36: Single & Multi Farm | C36: CAF | D36: > 20 - 50 | E36: 1 | F36: 74% of individual / multisite CH have between 0 and 50 permanent workers
A37: Total # of permanent workers | B37: Single & Multi Farm | C37: CAF | D37: > 50 | E37: 2
A38: Total # of temporary workers | B38: Single & Multi Farm | C38: CAF | D38: 0 - 20 | E38: 0 | F38: 47% of individual / multisite CH have up to 20 temporary workers
A39: Total # of temporary workers | B39: Single & Multi Farm | C39: CAF | D39: > 20 - 100 | E39: 1 | F39: 80% of individual / multisite CH have between 0 and 100 temporary workers
A40: Total # of temporary workers | B40: Single & Multi Farm | C40: CAF | D40: > 100 | E40: 2
A41: Total # of Migrant workers | B41: Single & Multi Farm + Group of farms | C41: CAF | D41: 0 | E41: 0 | F41: No distinction made in terms of age, only if migrant
A42: Total # of Migrant workers | B42: Single & Multi Farm + Group of farms | C42: CAF | D42: 1 - 10 | E42: 1
A43: Total # of Migrant workers | B43: Single & Multi Farm + Group of farms | C43: CAF | D43: > 10 | E43: 2
A44: Number of other certification schemes | B44: Single & Multi Farm + Group of farms | C44: Calculated on basis of CAF | D44: 0 | E44: 0
A45: Number of other certification schemes | B45: Single & Multi Farm + Group of farms | C45: Calculated on basis of CAF | D45: > 0 | E45: 1 | F45: If more than one certification scheme, traceability risk - Ch could potentially double sell
A46: Ratio of male to female permanent workers | B46: Single & Multi Farm | C46: Calculated on basis of CAF | D46: > 0.5 | E46: 0
A47: Ratio of male to female permanent workers | B47: Single & Multi Farm | C47: Calculated on basis of CAF | D47: 0.5 <, > 1 | E47: 1
A48: Ratio of male to female permanent workers | B48: Single & Multi Farm | C48: Calculated on basis of CAF | D48: > 1 | E48: 2
A49: Ratio of male to female temporary workers | B49: Single & Multi Farm | C49: Calculated on basis of CAF | D49: > 0.5 | E49: 0
A50: Ratio of male to female temporary workers | B50: Single & Multi Farm | C50: Calculated on basis of CAF | D50: 0.5 <, > 1 | E50: 1
A51: Ratio of male to female temporary workers | B51: Single & Multi Farm | C51: Calculated on basis of CAF | D51: > 1 | E51: 2
A52: Deforestation risk | B52: Single & Multi Farm + Group of farms | C52: In RA Risk Assessment | D52: all green | E52: 0
A53: Deforestation risk | B53: Single & Multi Farm + Group of farms | C53: In RA Risk Assessment | D53: any orange but no red | E53: 1
A54: Deforestation risk | B54: Single & Multi Farm + Group of farms | C54: In RA Risk Assessment | D54: any red | E54: 2
A55: Encroachment risk | B55: Single & Multi Farm + Group of farms | C55: In RA Risk Assessment | D55: all green | E55: 0
A56: Encroachment risk | B56: Single & Multi Farm + Group of farms | C56: In RA Risk Assessment | D56: any orange but no red | E56: 1
A57: Encroachment risk | B57: Single & Multi Farm + Group of farms | C57: In RA Risk Assessment | D57: any red | E57: 2
A59: Max risk score for Single & Multi Farm | B59: 19
A60: Max risk score for Group of farms | B60: 19
A61: Number of points | B61: Min points | C61: Max points | D61: Risk category
A62: ≤ 2 | B62: 0 | C62: 2 | D62: ='Hidden Lists'!U9 -> 1. Çok düşük risk
A63: 2 < low risk ≤ 4 | B63: 3 | C63: 4 | D63: ='Hidden Lists'!U10 -> 2. Düşük risk
A64: 4 < medium risk ≤ 7 | B64: 5 | C64: 7 | D64: ='Hidden Lists'!U11 -> 3. Orta risk
A65: 7 < high risk ≤ 10 | B65: 8 | C65: 10 | D65: ='Hidden Lists'!U12 -> 4. Yüksek risk
A66: 10 < highest risk | B66: 11 | C66: 19 | D66: ='Hidden Lists'!U13 -> 5. En yüksek risk
