Workbook
Name Cocoa: 'Crop List'!$C$3
Name Coffee: 'Crop List'!$C$4:$C$5
Name Farm: 'Hidden Lists'!$P$3:$P$4
Name Flower: 'Crop List'!$C$6:$C$13
Name Fruit: 'Crop List'!$C$14:$C$138
Name Herbs: 'Crop List'!$C$139:$C$311
Name Nuts: 'Crop List'!$C$312:$C$318
Name PalmOil: 'Crop List'!#REF!
Name SupplyChain: 'Hidden Lists'!$P$6:$P$7
Name Tea: 'Crop List'!$C$319
Name Vegetable: 'Crop List'!$C$320:$C$371

Sheet Coverpage
A1: Official Template
A2: Certification Application Form (CAF) - Single farm and Multi-farm certification
A3: Version | B3: =L14 -> 1.1
F4: Translation Disclaimer
F5: For any question related to the precise meaning of the information contained in the translation, please refer to the official English version for clarification. Any discrepancies or differences in meaning due to translation are not binding and have no effect for auditing or certification purposes.
F9: More information?
F10: For more information about the Rainforest Alliance, visit www.rainforest-alliance.org or contact info@ra.org
F13: Document Name: | J13: Document Code: | L13: Version:
F14: =A2 -> Certification Application Form (CAF) - Single farm and Multi-farm certification | J14: SA-F-GA-3-V1.1 | L14: 1.1
F15: Date of first publication: | H15: Date of revision: | J15: Valid From: | L15: Expires by:
F16: 7th of June 2021 | H16: 21st of July 2021 | J16: 1st of July 2021 | L16: Until further notice
F17: Developed by: | J17: Approved by:
F18: Rainforest Alliance Department Standards and Assurance | J18: Senior Director, Standards and Assurance
F19: Linked to:
F20: SA-S-SD-1-V1.1 Rainforest Alliance 2020 Sustainable Agriculture Standard, Farm requirements SA-R-GA-1-V1.1 Rainforest Alliance 2020 Certification and Auditing Rules
F22: Replaces:
F23: N/A
F24: Applicable to:
F25: Farm Certificate Holders and Certification Bodies
F26: Country/Region:
F27: All
F28: Crop: | J28: Type of Certification:
A29: © 2021 Rainforest Alliance. All rights reserved. | F29: All crops in the scope of the Rainforest Alliance certification system; please see Certification Rules. | J29: Individual and Multi-farm certification options.
A31: =J14 -> SA-F-GA-3-V1.1
F32: Any use of this content including reproduction, modification, distribution or republication, without the prior written consent of Rainforest Alliance is strictly prohibited.

Sheet Guidance
A1: Guidance
A2: How to use this template | F2: The Certification Application Form (CAF) is an official template provided by Rainforest Alliance for its certification processes to increase the level of consistency, credibility and transparency. This template is mandatory for all Certificate Holders (CHs) and Certification Bodies (CBs) and it is based on all related and biding requirements of the Certification and Auditing Rules. All information the applicable tabs is mandatory, if applicable to a given country/scope. All tabs in this document are mandatory, and Rainforest Alliance also provides a series of guidance templates to be used at the discretion of CBs, if they need references to complement or structure their internal processes related to the Rainforest Alliance.
F5: Farm Certificate Holders should only fill in the information required in the red tab (1). They should send this information to their relevant Certification Body. This will allow Farm Certificate Holders to request quotations from as many Certification Bodies as they wish, without having to fill out separate forms. Fill in tab 1. Application form and send this to your Certification Body of choice. | M5: Step 1: Fill in the Application Form
F7: Certification Bodies receive this document from a Certificate Holder or an applicant. They conduct the audit planning and execution activities in the same file. This helps to centralize information for review by Quality Reviewers and the Rainforest Alliance. Tabs marked in green (2, 2a and 2b) are related to the planning stage of the audit the tab marked in blue (3) is related to the reporting stage of the audit. Please know that the audit findings checklist is provided directly in the Rainforest Alliace Certification Platform. | M7: Step 1: Prepare your planning stage on tabs 2, 2a and 2b.
M8: Step 2: Report audit summary information in tab 3.

Sheet 1.Application Form
A1: Certification Rules Clause 1.4.25 | K1: =CONCATENATE('Hidden Lists'!C21," ",'Hidden Lists'!C22) -> Version 1.1 July 2021
A2: Certification Application Form (CAF)
A3: For Farm Certificate Holders & Applicants Single farm and Multi-farm certification
A4: Sustainable Agriculture Standard 2020 v1.1
A5: The following form is an extract of key information provided by the Applicant/Certificate Holder in the Rainforest Alliance Certification Platform during the Registration Process. It summarizes critical information to determine audit scope, planning, duration and reporting. By agreeing to the Terms & Conditions, the Certificate Holder confirms that the data below is accurate and acknowledges that discrepancies in such data that are identified in the audit will lead to potential increase of samples, audit duration, and/or scope. The CB is responsible for matching the information provided below with the information in the Rainforest Alliance Certification Platform and in the Certificate issued, at least once per year.
A7: A. General Information
A8: If you want to apply for Rainforest Alliance certification, please start by providing the general information about your operation and relevant contact people.
A9: Legal name of the organization: | G9: National Organization ID:
A10: Trade/Commercial Name: | G10: Name in Certificate:
A11: Parent Organization (if applicable): | G11: Parent Org. National ID: (if applicable)
A13: Visiting Address: | F13: City: | H13: State/Province:
F14: Zip/Post Code: | H14: Country:
A16: Billing Address: | F16: City: | H16: State/Province:
F17: Zip/Post Code: | H17: Country:
A19: Owner or legal representative signing legal agreements | G19: Certification implementer
A20: First Name: | C20: Last Name: | G20: First Name: | I20: Last Name:
A21: National ID: | G21: National ID:
A22: Phone: | C22: Mobile: | G22: Phone: | I22: Mobile:
A23: Job Title: | C23: Email: | G23: Job Title: | I23: Email:
A25: Traceability Platform Responsible | G25: Billing contact
A26: First Name: | C26: Last Name: | G26: First Name: | I26: Last Name:
A27: National ID: | G27: National ID:
A28: Phone: | C28: Mobile: | G28: Phone: | I28: Mobile:
A29: Job Title: | C29: Email: | G29: Job Title: | I29: Email:
A32: B. Certification Scope Information
A33: Please provide below the information related to the scope of your certification, including the crops you wish to certify. Bear in mind that the harvest time of the main crop will determine the window for your audit to happen. In this form, you have space for 4 crops. Please provide information for your 4 main crops (the 4 crops with largest volumes). The main crop is the one with the largest volume within the certification cycle (3 years), and the crop that will be used to calculate the audit window. Also, remember that the volumes and area should be provided for one year harvest season or production period (in case of continuous production). If you produce more than 4 crops, the remaining ones should be added in the Rainforest Alliance Certification Platform only.
A35: Application Date: | C35: Year in Cycle
A36: Unique ID: | C36: Audit Type:
A37: Scope | B37: Farm | C37: Option
A38: =(IFERROR(VLOOKUP(D37,'Hidden Lists'!P3:Q7,2,FALSE)," "))
H39: Main Crop | I39: 2nd Crop | J39: 3rd Crop | K39: 4th Crop
G40: Category
G41: Crop
A42: Verification Level | B42: E | G42: Variety, as applicable
G43: Other (if not in list):
A44: Previous UTZ ID/RA Certificate Code (in case of transition audit only): Fill as many as needed, one per cell | G44: Volume (Kg/stems)
G45: Crop Production Area (ha)
G46: Main Harvest Start Date
G47: Main Harvest End Date
A48: Please list here other certification schemes you may have Indicate one per cell | G48: Minor Harvest Start Date
...

Sheet 2.Audit Plan
E1: ='1.Application Form'!K1 -> Version 1.1 July 2021
A2: Audit Plan
A3: ='1.Application Form'!A3:K3 -> For Farm Certificate Holders & Applicants Single farm and Multi-farm certification
A4: ='1.Application Form'!A4:K4 -> Sustainable Agriculture Standard 2020 v1.1
A6: A. Identification of the Certificate Holder (CH) and Contact Person
A7: Please see below quick-access information about the Certificate Holder to be audited.
A8: Name of the Certificate Holder (as in certificate): | C8: ='1.Application Form'!H10 -> 0
A9: Legal name of the Certificate Holder: | C9: ='1.Application Form'!C9 -> 0
A11: Address of the Operation: | B11: ='1.Application Form'!C13 -> 0
A12: State/Province: | B12: ='1.Application Form'!I13 -> 0 | C12: City: | D12: ='1.Application Form'!G13 -> 0
A13: Country: | B13: ='1.Application Form'!I14 -> 0
A15: Contact Person Name: | B15: ='1.Application Form'!H20 -> 0
A16: Phone number: | B16: ='1.Application Form'!H22 -> 0 | C16: Email: | D16: ='1.Application Form'!J23 -> 0
A18: Date this application was shared with the Lead Auditor
A20: B. Audit Scope Identification
A21: Indicate below the information requested related to the scope of the audit. As per Certification Rules clauses 1.1.9 and 1.1.10, The scope of the applicable standard requirements from chapters 1, 4.5, 4.6, 5 and 6 shall cover all operations and areas of all entities (farms, sites, subcontractors etc.) included in the certification scope of the CH. The scope of the applicable standard requirements from chapters 2, 3 and 4 (except 4.5, 4.6) shall focus on the crop and activities related to the crop to be sold with a Rainforest Alliance certified claim.
A23: Date of the Audit Plan | D23: Standard Version: | E23: v.1.1 2020.
A24: Audit Scope: | B24: ='1.Application Form'!B37 -> Farm | D24: Applicable Requirements
A25: Audit Type: | D25: ='Hidden Lists'!C3 -> Core Requirements
D26: ='Hidden Lists'!C4 -> Mandatory Improvements
A27: Crops: | B27: Area | D27: ='Hidden Lists'!C5 -> Self-selected Improvements
A28: ='1.Application Form'!H41 -> 0 | B28: ='1.Application Form'!H45 -> 0 | D28: ='Hidden Lists'!C6 -> Mandatory Smart Meters
A29: ='1.Application Form'!I41 -> 0 | B29: ='1.Application Form'!I45 -> 0 | D29: ='Hidden Lists'!C7 -> Self-selected Smart Meters
A30: ='1.Application Form'!J41 -> 0 | B30: ='1.Application Form'!J45 -> 0
A31: ='1.Application Form'!K41 -> 0 | B31: ='1.Application Form'!K45 -> 0 | D31: Method to be Used
D32: Is This a Combined Audit with Other Schemes?
D33: Which Schemes?
A35: Audit Objectives
A37: C. Audit Team Composition
A38: Please indicate below the composition of the audit team. Bear in mind the Auditing Rules regarding audit team composition to form the audit team.
A39: Name: | D39: Role:
A40: Gender | D40: =IFERROR(VLOOKUP(E39,'Hidden Lists'!$P$11:$Q$17,2,FALSE)," ")
A41: Contact Info:
A43: Name: | D43: Role:
A44: Gender | D44: =IFERROR(VLOOKUP(E43,'Hidden Lists'!$P$11:$Q$17,2,FALSE)," ")
A45: Contact Info:
A47: Name: | D47: Role:
A48: Gender | D48: =IFERROR(VLOOKUP(E47,'Hidden Lists'!$P$11:$Q$17,2,FALSE)," ")
A49: Contact Info:
A51: Name: | D51: Role:
...

Sheet 2a.Risk Assessment
E1: ='1.Application Form'!K1 -> Version 1.1 July 2021
A2: Audit Risk Assessment
A3: ='1.Application Form'!A3:K3 -> For Farm Certificate Holders & Applicants Single farm and Multi-farm certification
A4: ='1.Application Form'!A4:K4 -> Sustainable Agriculture Standard 2020 v1.1
A6: A. Identification of the Assessment
A7: Please indicate the date and the person who has conducted (responsible) the risk assessment within your audit team.
A8: Certificate Holder: | B8: ='1.Application Form'!H10 -> 0
A9: Date:
A10: Person Responsible for the Assessment
A12: B. Audit Risk Assessment
A13: Please fill in the cells in white below. A risk category for the applicant will be generated based on the answers and the data provided by the applicant tab "1.Application Form",. This risk assessment is based on rule 2.3.19 of the Certification and Auditing rules, version 1.1. Using this risk assessment is thus mandatory for every audit.
A14: Risk factor | C14: Data | D14: Comment | E14: Score (Hidden)
A15: 1) History of applicant. New applicant or applicant certified in the last 2 years against the UTZ and/or Rainforest Alliance 2017 program? | E15: =IF(C15='Hidden Lists'!F38,1,0) -> 0
A16: 2) If previously certified applicant, how many non-conformities were raised in latest audit, based on the last audit report (UTZ or RA 2017)? | E16: =IF(C16>2,_xlfn.IFS(C16<=14,1,C16>=15,2),0) -> 0
A17: 3) If applicant certified in the last 2 years, was there any non-certification, cancellation or suspension in the last 2 years? | E17: =IF(C17='Hidden Lists'!F40,1,0) -> 0
A18: 4) Are there complaints, open lawsuits or inclusion of relevant databases against the CH? If so, elaborate in comment section. | E18: =IF(C18='Hidden Lists'!F3,2,0) -> 0
A19: 5) Result of Rainforest Alliance Country Risk Map assessment for Child Labor | D19: Map available here | E19: =_xlfn.IFS(C19='Hidden Lists'!K11,2,C19='Hidden Lists'!K12,1,C19='Hidden Lists'!K13,0,C19=0,0) -> 0
A20: 6) Result of Rainforest Alliance Country Risk Map assessment for Forced Labor | D20: Map available here | E20: =_xlfn.IFS(C20='Hidden Lists'!K11,2,C20='Hidden Lists'!K12,1,C20='Hidden Lists'!K13,0,C20=0,0) -> 0
A21: 7) Deforestation Risk Assessment (Based on risk maps provided by Rainforest Alliance) | E21: =_xlfn.IFS(C21='Hidden Lists'!M9,2,C21='Hidden Lists'!M8,1,C21='Hidden Lists'!M7,0,C21=0,0) -> 0
A22: 8) Encroachment Risk Assessment (Based on risk maps provided by Rainforest Alliance) | E22: =_xlfn.IFS(C22='Hidden Lists'!M9,2,C22='Hidden Lists'!M8,1,C22='Hidden Lists'!M7,0,C22=0,0) -> 0
A23: 9) Average estimated yield of main crop of applicant (Kg/ha) | C23: =IFERROR('1.Application Form'!H44/'1.Application Form'!H45," ") | E23: =IFERROR(IF(C23>1.5*IF('1.Application Form'!H41='Yield Benchmark'!A18,VLOOKUP('1.Application Form'!I14,'Yield Benchmark'!B$18:C$35,2,0),IF('1.Application Form'!H41='Yield Benchmark'!A36,VLOOKUP('1.Application Form'!I14,'Yield Benchmark'!B$36:C$63,2,0),IF('1.Application Form'!H41='Yield Benchmark'!A70,VLOOKUP('1.Application Form'!I14,'Yield Benchmark'!B$69:C$72,2,0),IF('1.Application Form'!H41='Yield Benchmark'!A12,VLOOKUP('1.Application Form'!I14,'Yield Benchmark'!B$4:C$17,2,0),IF('1.Application Form'!H41='Yield Benchmark'!A78,VLOOKUP('1.Application Form'!I14,'Yield Benchmark'!B$73:C$90,2,0)))))),1,0),"") -> 1
A24: 10) Total area (ha) of main certified crop | C24: =IF(ISBLANK('1.Application Form'!H45)=TRUE,"",'1.Application Form'!H45) | E24: =IF(C24<=250,0,IF(C24<=2500,1,2)) -> 2
A25: 11) Total number of permanent workers | C25: =IF(COUNTBLANK(FarmIDWorkers[[Permanent Male Workers]:[Permanent Female Workers]])=34,"",'1.Application Form'!D140) | E25: =IF(C25<=20,0,IF(C25<=50,1,2)) -> 2
A26: 12) Total number of temporary workers | C26: =IF(COUNTBLANK(FarmIDWorkers[[Temporary Male Workers]:[Temporary Female Workers]])=34,"",'1.Application Form'!D141) | E26: =IF(C26<=20,0,IF(C26<=100,1,2)) -> 2
A27: 13 )Proportion from male to female permanent workers. How many male workers are there for each female worker. | C27: =IFERROR(FarmIDWorkers[[#Totals],[Permanent Male Workers]]/FarmIDWorkers[[#Totals],[Permanent Female Workers]]," ") | E27: =IF(C27<0.5,0,IF(C27<=1,1,2)) -> 2
A28: 14) Proportion from male to female temporary workers. How many male workers are there for each female worker. | C28: =IFERROR(FarmIDWorkers[[#Totals],[Temporary Male Workers]]/FarmIDWorkers[[#Totals],[Temporary Female Workers]]," ") | E28: =IF(C28<0.5,0,IF(C28<=1,1,2)) -> 2
A29: 15)Total number of workers below 18 years | C29: =IF(COUNTBLANK(FarmIDWorkers[Workers <18 years])=17,"",'1.Application Form'!H123) | E29: =IF(C29<1,0,IF(C29<=2,1,2)) -> 2
A30: 16) Total number of houses provided to workers | C30: =IF(COUNTBLANK(FarmIDWorkers['# Houses provided to workers in harvest peak])=17,"",'1.Application Form'!K123) | E30: =IF(C30=0,0,IF(C30<=10,1,2)) -> 2
A31: 17)Total number of labor providers used | C31: =IF(ISBLANK('1.Application Form'!C56)=TRUE,"",'1.Application Form'!C56) | E31: =IF(C31=0,0,1) -> 1
A32: 18) Total number of migrant workers | C32: =FarmIDWorkers[[#Totals],[Migrant Male Workers]]+FarmIDWorkers[[#Totals],[Migrant Female Workers]] -> 0 | E32: =IF(C32=0,0,_xlfn.IFS(C32<10,1,C32>11,2)) -> 0
A33: 19) Number of other certification scheme(s) | C33: =COUNTA('1.Application Form'!C48:E50) -> 0 | E33: =IF(C33>0,1,0) -> 0
A34: Risk Category | C34: =VLOOKUP(E34,'Risk factors'!$B$62:$D$66,3,TRUE) -> 5. Highest risk | E34: =SUM(E15:E33) -> 16
A37: C. Lawsuit Investigation
A38: In clause 2.3.19.u of Annex AR4 of the Auditing Rules, CBs are asked to conduct a preliminary investigation on lawsuits that are open against the Certificate Holder and/or its legal representative on topics related to the social chapter of the Rainforest Alliance Sustainable Agriculture Standard. It is recommended that for countries where deforestation is considered as high risk, the CB should extend this investigation to environmental topics whenever possible. The CB can do this investigation in public court systems and/or by obtaining self-declarations from the Certificate Holder. Both should be listed below. The CB acknowledges that the investigation was properly conducted and keeps evidence of such consultations in its QMS.
A39: Location (Forum) | B39: Nº of Lawsuit/ Resolution | C39: Status | D39: Topic of the Lawsuit | E39: Severity | F39: Open Date

Sheet 2b.Duration
G1: ='1.Application Form'!K1 -> Version 1.1 July 2021
A2: Audit Duration Calculation
A3: ='1.Application Form'!A3:K3 -> For Farm Certificate Holders & Applicants Single farm and Multi-farm certification
A4: ='1.Application Form'!A4:K4 -> Sustainable Agriculture Standard 2020 v1.1
A5: The calculation presented below is in line with the Auditing and Certification Rules of the Rainforest Alliance, and therefore mandatory. It is delivered in auditor/days considering a working day to encompass eight hours. Also, it is important to note that to ensure the highest quality of auditing, auditors should only work eight hours per audit day including traveling time, as per clauses 2.1.4 and 2.1.5 of the Auditing Rules. The CB should only select the Farm Proximity Factor, and indicate the traveling time and extra time (if any). All other values are calculated automatically.
C7: Value (aud/d) | G7: =(C8*C9*C16)+(SUM(C10:C15)*C19)+C18 -> 0
A8: Factor 1 | B8: Risk Factor | C8: =IFERROR(VLOOKUP('2a.Risk Assessment'!C34,Factors!AP15:AQ19,2,FALSE),0) -> 1.2 | D8: Calculated based on the General Risk Assessment, as per Rule 2.5.4. | F8: Min. Audit Days (aud/d) | G8: =CEILING(G7,0.5) -> 0
A9: Factor 2 | B9: Farm Area | C9: =VLOOKUP(FarmIDApp[[#Totals],[Total Area (ha) of the whole farm]],Factors!AB3:AC14,2,TRUE) -> 0.5 | D9: Calculated as per Rainforest Alliance methodology | F9: Actual Audit Days/nº of Auditors | G9: =IFERROR(CEILING(G8/'2.Audit Plan'!B73,0.5),1) -> 1
A10: Factor 3 | B10: Management System | C10: 1 | D10: As per clause 2.5.7 | F10: Actual audit days + Logistics | G10: =G9+C17 -> 1
A11: Factor 4 | B11: Processing Units | C11: ='2.Audit Plan'!B80*0.25 -> 0 | D11: Each facility is factored as 0.25 aud/d (2h). | F11: In case you assigned extra time, please justify below:
A12: Factor 5 | B12: Interview Duration | C12: ='2.Audit Plan'!B87*0.03 -> 0 | D12: In aud/d based on individual interviews as 0.03 aud/d (15 min).
A13: Factor 6 | B13: Worker Houses | C13: ='2.Audit Plan'!B91*0.03 -> 0 | D13: Each habitable area is factored as 0.03 aud/d (15 min).
A14: Factor 7 | B14: External Actors | C14: =SUM('2.Audit Plan'!B81:B84)*0.25 -> 0 | D14: Each External Actor is factored as 0.25 aud/d (2h).
A15: Factor 8 | B15: Purchase Centers | C15: ='2.Audit Plan'!B85*0.18 -> 0 | D15: Each Purchase Center is factored as 0.18 aud/d (1.5h).
A16: Factor 9 | B16: Farm Proximity Factor | D16: =IFERROR(VLOOKUP(C16,Factors!AQ3:AR7,2,FALSE)," ")
A17: Factor 10 | B17: Traveling Time | C17: 0 | D17: The CB should indicate estimated traveling time from the base of the auditors to the auditing sites.
A18: Factor 11 | B18: CB assigned extra time | D18: The CB can assign extra audit time based on the audit risk analysis and other factors they may find applicable, based in the Annex AR4 of the Auditing Rules, for example, for off-site investigations.
A19: Factor 12 | B19: Combined/Integrated Audit? | D19: Please choose as per Annex AR10: No combined audit - 1.00 Combined audit with 2 schemes - 1.50 Combined audits with 3+ schemes - 1.75 If the cell is shown in red, please review the information.

Sheet 3.Audit Summary
E1: ='2.Audit Plan'!E1 -> Version 1.1 July 2021
A2: Audit Summary
A3: ='1.Application Form'!A3:K3 -> For Farm Certificate Holders & Applicants Single farm and Multi-farm certification
A4: ='1.Application Form'!A4:K4 -> Sustainable Agriculture Standard 2020 v1.1
A6: A. Audit Information Confirmation
A7: Please indicate below the following information as related to the finalized audit and further procedures.
A9: Standard Version | B9: v.1.1 2020.
A10: Executed Audit Start Date | D10: Was the Audit Terminated?
A11: Executed Audit End Date | D11: Termination Date
A12: Executed Audit Duration (in aud/d) | D12: Justification for certification decision or audit termination
A14: Was it an audit combined with other schemes?
A15: What method was used in this audit?
A17: Was there a follow up audit due to NCs?
A18: What type of follow up audit, if any?
A19: How many NCs found?
A20: Executed Follow up Audit Duration (in aud/d)
A21: Follow up audit start date
A22: Follow up audit end date
A24: Name of assigned Quality Reviewer
A25: Quality Review competition date
A26: Name of assigned Certifier
A27: Certification Decision
A28: Certification Decision date
B30: Executed Sample | C30: Planned Sample | D30: If executed sample is less than planned, provide explanation
A31: Interviewed Workers | C31: ='2.Audit Plan'!B87 -> 0
A32: Farms | B32: =COUNTIF(($C$42:C1101),'Hidden Lists'!I13) -> 0 | C32: ='2.Audit Plan'!B78 -> 0
A33: Processing Site | B33: =COUNTIF(($C$42:C1102),'Hidden Lists'!I14) -> 0 | C33: ='2.Audit Plan'!B80 -> 0
A34: Subcontractor | B34: =COUNTIF(($C$42:C1103),'Hidden Lists'!I15) -> 0 | C34: ='2.Audit Plan'!B82 -> 0
A35: Service Provider | B35: =COUNTIF(($C$42:C1104),'Hidden Lists'!I16) -> 0 | C35: ='2.Audit Plan'!B83 -> 0
A36: Labor Provider | B36: =COUNTIF(($C$42:C1105),'Hidden Lists'!I17) -> 0 | C36: ='2.Audit Plan'!B84 -> 0
A37: Other | B37: =COUNTIF(($C$42:C1106),'Hidden Lists'!I18) -> 0 | C37: 0
A39: B. Sample Disclosure
A40: Please indicate below which were the farms, sites, and service providers that were part of the audit sample for this audit. Do not forget that sample increases need to be justified.
A41: Name | B41: Internal ID Number | C41: Type | D41: Sampling Type | E41: If increase, justification

Sheet 4.Monitoring
G1: ='2.Audit Plan'!E1 -> Version 1.1 July 2021
A2: Process Monitoring
A3: ='1.Application Form'!A3:K3 -> For Farm Certificate Holders & Applicants Single farm and Multi-farm certification
A4: ='1.Application Form'!A4:K4 -> Sustainable Agriculture Standard 2020 v1.1
A6: A. Audited Sample | E6: B. Timelines
A7: Please see below an overview of the executed audit sample versus what was planned. In case the sample executed is less than what was planned, the cells below will be colored in red and the CB should provide justification. | E7: Below you can see the deadline of all time-bound activities in the certification process triggered before the first audit date and after the last audit date. The Quality Review team can use this to ensure timelines were complied with.
B8: Executed | C8: Planned | F8: Executed | G8: Deadline | I8: Days
A9: ='3.Audit Summary'!A31 -> Interviewed Workers | B9: ='3.Audit Summary'!B31 -> 0 | C9: ='3.Audit Summary'!C31 -> 0 | E9: Application Approval | F9: ='1.Application Form'!F171 -> 0 | G9: 0 | I9: 0
A10: ='Hidden Lists'!I13 -> Farm | B10: =COUNTIF(SampleDisc[#All],'Hidden Lists'!I13) -> 0 | C10: ='2.Audit Plan'!B78 -> 0 | E10: CB Contract Agreement | F10: ='1.Application Form'!F172 -> 0 | G10: =G13-I10 -> 48 | I10: =6*7 -> 42
A11: ='Hidden Lists'!I14 -> Processing Site | B11: =COUNTIF(SampleDisc[#All],'Hidden Lists'!I14) -> 0 | C11: ='2.Audit Plan'!B80 -> 0 | E11: App. Shared with Audit Team | F11: ='2.Audit Plan'!B18 -> 0 | G11: =G13-I11 -> 76 | I11: =2*7 -> 14
A12: ='Hidden Lists'!I15 -> Subcontractor | B12: =COUNTIF(SampleDisc[#All],'Hidden Lists'!I15) -> 0 | C12: ='2.Audit Plan'!B82 -> 0 | E12: Audit Plan sent to CH | F12: ='2.Audit Plan'!B23 -> 0 | G12: =G13-I12 -> 76 | I12: =2*7 -> 14
A13: ='Hidden Lists'!I16 -> Service provider | B13: =COUNTIF(SampleDisc[#All],'Hidden Lists'!I16) -> 0 | C13: ='2.Audit Plan'!B83 -> 0 | E13: First Audit Date | F13: ='3.Audit Summary'!B10 -> 0 | G13: ='1.Application Form'!J53-'2b.Duration'!G8 -> 90 | I13: 0
A14: ='Hidden Lists'!I17 -> Labor provider | B14: =COUNTIF(SampleDisc[#All],'Hidden Lists'!I17) -> 0 | C14: ='2.Audit Plan'!B84 -> 0 | E14: Last Audit Date | F14: ='3.Audit Summary'!B11 -> 0 | G14: ='1.Application Form'!J53 -> 90 | I14: 0
E15: NC Resolution Window | F15: =G14 -> 90 | G15: =G14+I15 -> 90 | I15: =IF($B$16=0,0,10*7) -> 0
A16: NCs Found in Audit | B16: ='3.Audit Summary'!B19 -> 0 | E16: Final Audit Report in RACP (QR) | G16: =G17 -> 118 | I16: 0
E17: Certification Decision | F17: ='3.Audit Summary'!B28 -> 0 | G17: =I17+G15 -> 118 | I17: =IF($B$16=0,4*7,2*7) -> 28
E18: License Request | G18: =I18+G17 -> 125 | I18: =7*1 -> 7
E21: Note for the CB:
E22: Fill in the cells related to the activities indicated in green below. Indicate the date regarding the Final Audit Report in the RACP (F16) and the License Request Date (F18).

Sheet Hidden Lists
A1: Note for translator: This tab should be translated, otherwise the dropdown menus will not work
C2: Types of Requirements | F2: Y/N List | I2: Lawsuit | K2: Auditor list | M2: Interview Type | P2: Cert. Options | Q2: Description | S2: Messages | U2: GPF
A3: Country List | C3: Core Requirements | F3: Yes | I3: C | K3: ='2.Audit Plan'!B39 -> 0 | M3: Individual | P3: Single Farm | Q3: A single farm that owns or manages one farm with an independent organizational structure, whereby central management and all activities take place at a single physical location. | R3: x | S3: Please review the start and end dates of the audit. Based on the inserted dates and number of the auditors, the interval may not be enough. | T3: x | U3: Group farms are in very close proximity and it is easy to visit more than 6 farms per auditor within 8 hours, including time for traveling between 6 farms in any 2 selected sub-groups/villages
A4: Afghanistan | C4: Mandatory Improvements | F4: No | I4: NC | K4: ='2.Audit Plan'!B43 -> 0 | M4: Group | P4: Multi Farm | Q4: Two or more farms owned or rented by one entity whose operations and farming practices are managed centrally, regardless of certification. | R4: x | U4: Group farms are in reachable distances and it is reasonable to visit up to 5 farms within 8 hours, including time for traveling between 5 farms in any 2 selected sub-groups/villages
A5: Albania | C5: Self-selected Improvements | I5: NA | K5: ='2.Audit Plan'!B47 -> 0 | P5: Group of Farms | Q5: A group of organized farms (group members) that implements a common management system, organized as an association or cooperative or managed by a farm or other supply chain actor such as an exporter or another entity. | R5: x | S5: Work Concat | U5: Group farms are distant from each other and it is reasonable to visit up to 4 farms within 8 hours, including time for traveling between 4 farms in any 2 selected sub-groups/villages
A6: Algeria | C6: Mandatory Smart Meters | F6: Scopes | K6: ='2.Audit Plan'!B51 -> 0 | M6: Deforestation/ Encroachment risk parameters | P6: Single Site | Q6: An individual organization that does not have farming in the scope of its Rainforest Alliance certification, whereby central management and all activities take place at a single physical location | R6: x | S6: being | U6: Group farms are quite distant from each other and it is reasonable to visit up to 3 farms within 8 hours, including time for traveling between 3 farms in any 2 selected sub-groups/villages
A7: Andorra | C7: Self-selected Smart Meters | F7: Farm | I7: Checklist | K7: ='2.Audit Plan'!B55 -> 0 | M7: All green - Low | P7: Multi Site | Q7: An organization that does not have farming in the scope of its Rainforest Alliance certification and has an identified central location under which two or more sites are operating. | R7: x | S7: and
A8: Angola | F8: SupplyChain | I8: Comply | K8: ='2.Audit Plan'!B59 -> 0 | M8: Any Orange, but no Red - Medium | N8: x | S8: worker(s) | U8: Risk category
A9: Antigua and Barbuda | C9: Types of Audits | I9: Non-conformity | M9: Any Red - High | S9: workers | U9: 1. Very low risk
A10: Argentina | C10: Transition | F10: Sent List | I10: Not Applicable | K10: Risk Levels | P10: Types of Auditors | Q10: Description | R10: x | U10: 2. Low risk
A11: Armenia | C11: Certification | F11: Sent | K11: High | P11: Lead Auditor | Q11: Responsible for leading and organizing the audit team; ensures the complete and proper execution of the audit; adjusts the audit plan upon communication to the client; prepares the audit report. | R11: x | U11: 3. Medium risk
A12: Australia | C12: Surveillance | F12: Not sent | I12: Sample Types | K12: Medium | P12: Lead Auditor for Social Topics | Q12: Responsible for leading and organizing the social requirements investigation during audits and to apply the extra audit requirements for medium/high risk contexts as per RA social Risk Maps. | R12: x | U12: 4. High risk
A13: Austria | C13: Follow up | I13: Farm | K13: Low | P13: Support Auditor | Q13: Supports the lead auditor with specific tasks to ensure the complete and proper execution of the audit. Prepares specific input for the audit report. | R13: x | U13: 5. Highest risk
A14: Azerbaijan | C14: Surprise | F14: Lawsuit | I14: Processing Site | K14: Not Applicable | P14: Trainee Auditor | Q14: Performs tasks on verification under the supervision of an auditor or the lead auditor at all times. | R14: x
A15: The Bahamas | C15: Investigation | F15: Open | I15: Subcontractor | P15: Technical Expert | Q15: Supports in employing specific audit methods for gathering evidence in a given topic identified as high/medium risk for the audit context. | R15: x
A16: Bahrain | C16: Extension | F16: Closed | I16: Service provider | P16: Interpreter | Q16: Supports the audit team by literally translating statements of interviews and shall not influence on (non)conformity assessment. | R16: x
A17: Bangladesh | C17: Shadow | F17: Secrecy | I17: Labor provider | P17: Observer | Q17: Observes the audit process with no influence for learning or institutional reasons but also for monitoring and assessment of auditors. | R17: x
A18: Barbados | C18: Review | I18: Other | P18: Guidance on Worker Types | Q18: Unionized and Migrant workers are not exclusive categories, meaning that temporary and permanent workers can be migrant and unionized as well. The indication of these field is limited to the fact that the lead auditor needs to make sure that part of the sampled workers in the temporary/permanent categories also cover the number of unionized/migrant workers indicated here. | R18: x
A19: Belarus | F19: Gender | G19: Gender
A20: Belgium | C20: Version Concat | F20: (M) | G20: Male
A21: Belize | C21: Version | F21: (F) | G21: Female | I21: Sample Size
A22: Benin | C22: 1.1 July 2021 | I22: Originally Planned
A23: Bhutan | F23: Site Types | I23: Increased
A24: Bolivia | F24: Farm
A25: Bosnia and Herzegovina | C25: Validation Combined Audit | F25: Processing Site | I25: Traceability Level
A26: Botswana | C26: =IF('2.Audit Plan'!E32='Hidden Lists'!F3,1,0) -> 0 | I26: Identity Preserved
A27: Brazil | C27: ='2b.Duration'!C19 -> 0 | F27: Status | I27: Segregation
A28: Brunei | C28: Wrong | F28: Approved | I28: Mass Balance
A29: Bulgaria | C29: Correct | F29: Rejected
A30: Burkina Faso | C30: =IF(AND(C26=1,C27<1.1),C28,C29) -> Correct | I30: Other Actors
A31: Burundi | F31: Cert. Decision | I31: Subcontractor
A32: Cambodia | C32: Follow up audit validation | F32: Certification | I32: Intermediary
A33: Cameroon | C33: On site | F33: Non-certification | I33: Service Provider
A34: Canada | C34: Partially Remote | F34: Suspension | I34: Labor Provider
A35: Cape Verde | C35: Remote | F35: Cancelation
A36: Central African Republic | C36: =IF('3.Audit Summary'!B17='Hidden Lists'!F3,1,0) -> 0
A37: Chad | C37: =COUNTA('3.Audit Summary'!B21:B22) -> 0 | F37: CH Risk analysis
A38: Chile | C38: =IF(AND(C36=1,C37<2),C28,C29) -> Correct | F38: New Applicant | G38: x
A39: China | F39: Existent Applicant | G39: x
A40: Colombia | C40: Termination Validation | F40: Yes - Applicant non-certified or suspended in the last 2 years | G40: x
...

Sheet Crop List
A1: Note for translator: This tab should be translated, otherwise the dropdown menus will not work
A2: Certification scope | B2: Category | C2: Crop name final | E2: Category List | G2: Important instructions!
A3: RA | B3: Cocoa | C3: Cocoa | E3: Cocoa | G3: After translations/updates ensure the following:
A4: RA | B4: Coffee | C4: Coffee Arabica | E4: Coffee | G4: 1) Sort the crop list per category (B2) from A to Z
A5: RA | B5: Coffee | C5: Coffee Robusta | E5: Flower | G5: 2) Open the Name Manager. You will see the same entries as the category list (E2) as names.
A6: RA | B6: Flower | C6: Ferns | E6: Fruit | G6: 3) Open each name and align it with the translated/updated list. This means that you need to reselect all crop names (column C) and link it to the corresponding category.
A7: RA | B7: Flower | C7: Leather leaf fern | E7: Herbs | G7: No other changes are needed!
A8: RA | B8: Flower | C8: Other ornamental plants | E8: Nuts
A9: RA | B9: Flower | C9: Palm leaves | E9: Tea
A10: RA | B10: Flower | C10: Psyllium | E10: Vegetable
A11: RA | B11: Flower | C11: Rose
A12: RA | B12: Flower | C12: Sunflower
A13: RA | B13: Flower | C13: Various Foliage
A14: RA | B14: Fruit | C14: Açaí
A15: UEBT/RA | B15: Fruit | C15: Apple blossoms
A16: RA | B16: Fruit | C16: Apple fruit
A17: UEBT/RA | B17: Fruit | C17: Apple leaves
A18: UEBT/RA | B18: Fruit | C18: Apricot blossoms
A19: RA | B19: Fruit | C19: Apricot fruit
A20: UEBT/RA | B20: Fruit | C20: Apricot leaves
A21: RA | B21: Fruit | C21: Avocado
A22: RA | B22: Fruit | C22: Banana
... A371: RA | B371: Vegetable | C371: Yam

Sheet Yield Benchmark
A1: Note for translator: This tab should be translated, otherwise the dropdown menus will not work
A3: Commodity | B3: Cert Holder Country | C3: Benchmark (Kg)
A4: Banana | B4: Belize | C4: 19017
A5: Banana | B5: Brazil | C5: 32237
A6: Banana | B6: Colombia | C6: 46441
A7: Banana | B7: Costa Rica | C7: 47146
A8: Banana | B8: Ecuador | C8: 43275
A9: Banana | B9: Guatemala | C9: 73245
A10: Banana | B10: Honduras | C10: 52598
A11: Banana | B11: Cote d'Ivoire | C11: 44448
A12: Banana | B12: Malawi | C12: 12353
A13: Banana | B13: Mexico | C13: 52200
A14: Banana | B14: Nicaragua | C14: 50036
A15: Banana | B15: Panama | C15: 38000
... A90: Tea | B90: Zimbabwe | C90: 798.80774

Sheet Factors
A1: Note for translator: No need to translate this tab | AA1: Area | AF1: Interviews | AK1: Sample
B2: Sample factors | P2: Number of workers involved in the CH | Q2: Lower border of category (min workers) | R2: Minimum number of interviews | S2: Minimum number of individual interviews | T2: Maximum number of group interviews - Description | U2: Minimum number of Group interviews | V2: Minimum number of worker files to be checked | AA2: Category | AB2: Lower limit | AC2: factor | AF2: Individual Interview | AG2: 0.25 | AH2: h | AK2: DLS | AL2: 0.4 | AQ2: GPF
B3: Item | C3: Sample for Audit Calculation | D3: Formula for Audit Sample | E3: Totals from Application Form | F3: Min. Sample | G3: ='Hidden Lists'!P3 -> Single Farm | H3: ='Hidden Lists'!P4 -> Multi Farm | I3: Note | J3: Clause | P3: 1 to 5 | Q3: 1 | R3: ='1.Application Form'!D140+'1.Application Form'!D141 -> 0 | S3: =R3 -> 0 | T3: 0 | U3: 0 | V3: =R3 -> 0 | AA3: 0 to 50 | AB3: 0 | AC3: 0.5 | AF3: Group Interview | AG3: 0.5 | AH3: h | AQ3: 1 | AR3: ='Hidden Lists'!U3 -> Group farms are in very close proximity and it is easy to visit more than 6 farms per auditor within 8 hours, including time for traveling between 6 farms in any 2 selected sub-groups/villages
B4: Farms | C4: =IF(D4<F4,SMALL(E4:F4,1),ROUNDUP(D4,0)) -> 0 | D4: =IF('1.Application Form'!$D$37='Hidden Lists'!$P$3,E4*G4,E4*H4) -> 0 | E4: =COUNTIF(FarmIDApp[Is it a Farm or Processing Site?],'Hidden Lists'!F24) -> 0 | F4: 3 | G4: 1 | H4: 0.33 | I4: For Single, is always 1; for Multi-Farm is all should be audited Within 3 years (0,33). | J4: 2.4.11.b 2.4.14.d | P4: 6 to 10 | Q4: 6 | R4: 6 | S4: 6 | T4: 0 | U4: 0 | V4: 6 | AA4: 51 to 100 | AB4: 50 | AC4: 1 | AQ4: 1.1 | AR4: ='Hidden Lists'!U4 -> Group farms are in reachable distances and it is reasonable to visit up to 5 farms within 8 hours, including time for traveling between 5 farms in any 2 selected sub-groups/villages
B5: Farm Unities | C5: =IF(D5<F5,SMALL(E5:F5,1),ROUNDUP(D5,0)) -> 0 | D5: =IF('1.Application Form'!$D$37='Hidden Lists'!$P$3,SQRT(E5),SQRT(E5)) -> 0 | E5: =FarmIDApp[[#Totals],[Nº Farm Units]] -> 0 | F5: 2 | G5: √ | H5: √ | I5: Square root of all sampled farms, as per 2.4.11.b or 2.4.14.d. | J5: 2.4.11.c | P5: 11 to 50 | Q5: 11 | R5: 9 | S5: 6 | T5: 1 group of 3 | U5: 1 | V5: 9 | AA5: 101 to 250 | AB5: 100 | AC5: 1.2 | AF5: Combined Audits | AQ5: 1.2 | AR5: ='Hidden Lists'!U5 -> Group farms are distant from each other and it is reasonable to visit up to 4 farms within 8 hours, including time for traveling between 4 farms in any 2 selected sub-groups/villages
B6: Processing Sites | C6: =IF(D6<F6,SMALL(E6:F6,1),ROUNDUP(D6,0)) -> 0 | D6: =IF('1.Application Form'!$D$37='Hidden Lists'!$P$3,E6*G6,E6*H6) -> 0 | E6: =COUNTIF(FarmIDApp[Is it a Farm or Processing Site?],'Hidden Lists'!F25) -> 0 | F6: 3 | G6: 1 | H6: 0.33 | I6: All should be audited for single; all audited within 3 year for multi-farm | J6: 2.4.11.a 2.4.12.b | P6: 51 to 100 | Q6: 51 | R6: 15 | S6: 7 | T6: 1 group of 3 1 group of 5 | U6: 2 | V6: 12 | AA6: 251 to 350 | AB6: 250 | AC6: 1.7 | AG6: 1 | AQ6: 1.3 | AR6: ='Hidden Lists'!U6 -> Group farms are quite distant from each other and it is reasonable to visit up to 3 farms within 8 hours, including time for traveling between 3 farms in any 2 selected sub-groups/villages
B7: Subcontractors | C7: =IF(D7<F7,SMALL(E7:F7,1),ROUNDUP(D7,0)) -> 0 | D7: =IF('1.Application Form'!$D$37='Hidden Lists'!$P$3,E7*G7,E7*H7) -> 0 | E7: ='1.Application Form'!C53 -> 0 | F7: 3 | G7: 0.33 | H7: 0.33 | I7: Subcontractors, intermediaries and service providers shall all be audited within 3-years time (0,33). | J7: 2.4.9.b | P7: 101 to 250 | Q7: 101 | R7: 20 | S7: 10 | T7: 2 groups of 5 | U7: 2 | V7: 15 | AA7: 351 to 450 | AB7: 350 | AC7: 2.2 | AG7: 1.5
B8: Intermediaries | C8: =IF(D8<F8,SMALL(E8:F8,1),ROUNDUP(D8,0)) -> 0 | D8: =IF('1.Application Form'!$D$37='Hidden Lists'!$P$3,E8*G8,E8*H8) -> 0 | E8: ='1.Application Form'!C54 -> 0 | F8: 3 | G8: 0.33 | H8: 0.33 | I8: Subcontractors, intermediaries and service providers shall all be audited within 3-years time (0,33). | J8: 2.4.9.b | P8: 251 to 500 | Q8: 251 | R8: 32 | S8: 12 | T8: 2 groups of 3 1 group of 4 2 groups of 5 | U8: 5 | V8: 18 | AA8: 451 to 600 | AB8: 450 | AC8: 2.5 | AG8: 1.75 | AP8: Risk
B9: Service Providers | C9: =IF(D9<F9,SMALL(E9:F9,1),ROUNDUP(D9,0)) -> 0 | D9: =IF('1.Application Form'!$D$37='Hidden Lists'!$P$3,E9*G9,E9*H9) -> 0 | E9: ='1.Application Form'!C55 -> 0 | F9: 3 | G9: 0.33 | H9: 0.33 | I9: Subcontractors, intermediaries and service providers shall all be audited within 3-years time (0,33). | J9: 2.4.9.b | P9: 501 to 1500 | Q9: 501 | R9: 40 | S9: 15 | T9: 2 group of 3 1 group of 4 3 groups of 5 | U9: 6 | V9: 20 | AA9: 601 to 800 | AB9: 600 | AC9: 2.8 | AP9: A | AQ9: 0.9 | AR9: Very Low-Risk Category (A)
B10: Labor Providers | C10: =IF(D10<F10,SMALL(E10:F10,1),ROUNDUP(D10,0)) -> 0 | D10: =IF('1.Application Form'!$D$37='Hidden Lists'!$P$3,E10*G10,E10*H10) -> 0 | E10: ='1.Application Form'!C56 -> 0 | F10: 3 | G10: 1 | H10: 1 | I10: All should be audited for each audit. | J10: AR 4.42.a | P10: 1501 to 4000 | Q10: 1501 | R10: 50 | S10: 18 | T10: 1 group of 3 1 group of 4 5 groups of 5 | U10: 7 | V10: 25 | AA10: 801 to 1200 | AB10: 800 | AC10: 3 | AP10: B | AQ10: 1 | AR10: Low Risk Category (B)
B11: Purchase centers | C11: =IF(D11<F11,SMALL(E11:F11,1),ROUNDUP(D11,0)) -> 0 | D11: =IF('1.Application Form'!$D$37='Hidden Lists'!$P$3,SQRT(E11)*0.5,SQRT(E11)*0.5) -> 0 | E11: ='1.Application Form'!C57 -> 0 | F11: 3 | G11: √/2 | H11: √/2 | I11: It should be 50% the sqr. | J11: 2.4.12.a | P11: > 4001 | Q11: 4001 | R11: 65 | S11: 25 | T11: 8 groups of 5 | U11: 8 | V11: 30 | AA11: 1201 to 1800 | AB11: 1200 | AC11: 3.5 | AP11: C | AQ11: 1.1 | AR11: Medium Risk Category (C)
B12: Houses | C12: =IF(D12<F12,SMALL(E12:F12,1),ROUNDUP(D12,0)) -> 0 | D12: =IF('1.Application Form'!$D$37='Hidden Lists'!$P$3,SQRT(E12),SQRT(E12)) -> 0 | E12: =FarmIDWorkers[[#Totals],['# Houses provided to workers in harvest peak]] -> 0 | F12: 3 | G12: √ | H12: √ | I12: It should be sqr | J12: AR4.9 47.a | AA12: 1801 to 2500 | AB12: 1800 | AC12: 4 | AP12: D | AQ12: 1.15 | AR12: High Risk Category (D)
F13: Values in Red, Modfied due to the Provisional Policy | AA13: 2501 to 3500 | AB13: 2500 | AC13: 5 | AP13: E | AQ13: 1.2 | AR13: Very High-Risk Category (E)
P14: Audit Date Trigger Factor | T14: Worker Calculation Concat | W14: Min. Number Interviews | Y14: ='2.Audit Plan'!B87 -> 0 | AA14: > 3500 | AB14: 3500 | AC14: 6
P15: Initial Date | R15: =('2.Audit Plan'!B72-'2.Audit Plan'!B71)+1 -> 1 | T15: < 18 years | U15: Male | V15: Female | W15: Total | X15: General | Y15: % Male | Z15: %Female | AP15: ='Risk factors'!D62 -> 1. Very low risk | AQ15: 0.9
P16: Audit Date | R16: =ROUNDUP('2.Audit Plan'!E69,0) -> 1 | T16: Permanent | U16: =SUM(FarmIDWorkers[[#Totals],[Permanent Male Workers]]) -> 0 | V16: =FarmIDWorkers[[#Totals],[Permanent Female Workers]] -> 0 | W16: =SUM(U16:V16) -> 0 | X16: =(SUM(U16:V16)/(SUM($U$18:$V$18))) -> #DIV/0! | Y16: =U16/(U16+V16) -> #DIV/0! | Z16: =V16/(U16+V16) -> #DIV/0! | AP16: ='Risk factors'!D63 -> 2. Low risk | AQ16: 1
T17: Temporary | U17: =FarmIDWorkers[[#Totals],[Temporary Male Workers]] -> 0 | V17: =FarmIDWorkers[[#Totals],[Temporary Female Workers]] -> 0 | W17: =SUM(U17:V17) -> 0 | X17: =(SUM(U17:V17)/(SUM($U$18:$V$18))) -> #DIV/0! | Y17: =U17/(U17+V17) -> #DIV/0! | Z17: =V17/(U17+V17) -> #DIV/0! | AP17: ='Risk factors'!D64 -> 3. Medium risk | AQ17: 1.1
T18: Totals | U18: =SUM(U16:U17) -> 0 | V18: =SUM(V16:V17) -> 0 | W18: =SUM(U18:V18) -> 0 | AP18: ='Risk factors'!D65 -> 4. High risk | AQ18: 1.15
AP19: ='Risk factors'!D66 -> 5. Highest risk | AQ19: 1.2
P20: Transition Audit Trigger
P21: Audit Type | R21: =IF('1.Application Form'!D36='Hidden Lists'!C10,1,0) -> 0 | T21: Calculation on proportion of interviews
P22: Filling in | R22: =IF('1.Application Form'!D46>0,0,1) -> 1 | U22: Total | V22: Male | W22: Female
P23: total | R23: =R21+R22 -> 1 | T23: Permanent proportion | U23: =($Y$14*X16) -> #DIV/0! | V23: =U23*Y16 -> #DIV/0! | W23: =U23*Z16 -> #DIV/0!
T24: Temporary proportion | U24: =($Y$14*X17) -> #DIV/0! | V24: =U24*Y17 -> #DIV/0! | W24: =U24*Z17 -> #DIV/0!
T25: Totals
T28: Calculation on proportion of interviews - Rounding
U29: Total | V29: Male | W29: Female
T30: Permanent proportion | U30: =_xlfn.FLOOR.MATH(U23,1) -> #DIV/0! | V30: =_xlfn.FLOOR.MATH(V23,1) -> #DIV/0! | W30: =_xlfn.FLOOR.MATH(W23,1) -> #DIV/0!
T31: Temporary proportion | U31: =_xlfn.FLOOR.MATH(U24,1) -> #DIV/0! | V31: =_xlfn.FLOOR.MATH(V24,1) -> #DIV/0! | W31: =_xlfn.FLOOR.MATH(W24,1) -> #DIV/0!
T32: Totals
T33: Unionized | U33: =ROUNDUP(U20*X20,0) -> 0
T34: Calculation on proportion of interviews - Corrections
U35: Total | V35: Male | W35: Female
T36: Permanent proportion | U36: =U23-U30 -> #DIV/0! | V36: =V23-V30 -> #DIV/0! | W36: =W23-W30 -> #DIV/0!
T37: Temporary proportion | U37: =U24-U31 -> #DIV/0! | V37: =V24-V31 -> #DIV/0! | W37: =W24-W31 -> #DIV/0!
T38: Totals | U38: =U25-U32 -> 0 | V38: =V25-V32 -> 0 | W38: =W25-W32 -> 0
T40: Calculation on proportion of interviews - Formulas
U41: Total | V41: Male | W41: Female
T42: Permanent proportion | U42: =IF(U36<0.49,ROUNDDOWN(U23,0),ROUNDUP(U23,0)) -> #DIV/0! | V42: =IF(V36<0.49,ROUNDDOWN(V23,0),ROUNDUP(V23,0)) -> #DIV/0! | W42: =IF(W36<0.49,ROUNDDOWN(W23,0),ROUNDUP(W23,0)) -> #DIV/0!
T43: Temporary proportion | U43: =IF(U37<0.49,ROUNDDOWN(U24,0),ROUNDUP(U24,0)) -> #DIV/0! | V43: =IF(V37<0.49,ROUNDDOWN(V24,0),ROUNDUP(V24,0)) -> #DIV/0! | W43: =IF(W37<0.49,ROUNDDOWN(W24,0),ROUNDUP(W24,0)) -> #DIV/0!
...

Sheet Risk factors
A1: Risk indicators for Farm:
A2: =Factors!A1 -> Note for translator: No need to translate this tab
A3: Risk factor | B3: Applicable to: | C3: Location of data | D3: Threshold | E3: Risk point | F3: Comments
A4: # of NC in latest audit | B4: Single & Multi Farm + Group of farms | C4: Previous report from CH | D4: > 2 - 15 | E4: 0 | F4: If 0 or 1 NC raised = risk, if more than 15 NC = risk. Threshold of 15 based on avg # of NC raised in audits that have led to a non-certification decision in West Africa in 2020
A5: # of NC in latest audit | B5: Single & Multi Farm + Group of farms | C5: Previous report from CH | D5: 1<= OR >15 | E5: 1
A6: History of CH | B6: Single & Multi Farm + Group of farms | C6: Registration RACP | D6: Existing CH | E6: 0
A7: History of CH | B7: Single & Multi Farm + Group of farms | C7: Registration RACP | D7: New CH | E7: 1 | F7: If CH has not indicated a previous UTZ / RA ID, completely new CH and thus riskier
A8: Non-certification, cancellation, suspension in the last 2 years | B8: Single & Multi Farm + Group of farms | C8: Previous report from CH | D8: No non-certification, suspension or cancellation in the last 2 years | E8: 0 | F8: Non-certification, suspension or cancellation for non-administrative reasons
A9: Non-certification, cancellation, suspension in the last 2 years | B9: Single & Multi Farm + Group of farms | C9: Previous report from CH | D9: Non-certification, suspension or cancellation in the last 2 years | E9: 1
A10: Average estimated yield of main crop of CH | B10: Single & Multi Farm + Group of farms | C10: Calculated on basis of CAF | D10: Up to 1.5*average estimated yield for this crop and this country (benchmark) | E10: 0 | F10: Data on average yield only available for some crops (coffee, tea, cocoa, banana, pineapple, HZ) in some countries - see tab "yield thresholds"
A11: Average estimated yield of main crop of CH | B11: Single & Multi Farm + Group of farms | C11: Calculated on basis of CAF | D11: More than 1.5* average estimated yield for this crop and this country | E11: 1
A12: Total area of main certified crop | B12: Single & Multi Farm | C12: CAF | D12: 0 - 250 | E12: 0 | F12: 53% of CH have between 0 and 250 ha of certified area
A13: Total area of main certified crop | B13: Single & Multi Farm | C13: CAF | D13: >250 - 2 500 | E13: 1 | F13: 96% of CH have between 0 and 2500 ha of certified area
A14: Total area of main certified crop | B14: Single & Multi Farm | C14: CAF | D14: > 2 500 | E14: 2
A15: Average area of main certified crop per group member | B15: Group of farms | C15: Calculated on basis of CAF | D15: 0 - 5 ha | E15: 0 | F15: 75% of CH have an average of between 0 and 5 ha of certified area per group member
A16: Average area of main certified crop per group member | B16: Group of farms | C16: Calculated on basis of CAF | D16: > 5 - 50 ha | E16: 1 | F16: 94% of CH have an average of between 0 and 50 ha of certified area per group member
A17: Average area of main certified crop per group member | B17: Group of farms | C17: Calculated on basis of CAF | D17: >50ha | E17: 2
A18: Total number of group member (small and large) | B18: Group of farms | C18: CAF | D18: 0 - 1000 | E18: 0 | F18: 67% of CH have up to 1000 group members
A19: Total number of group member (small and large) | B19: Group of farms | C19: CAF | D19: > 1000 - 10 000 | E19: 1 | F19: 97% of CH have between 0 and 10 000 group members
A20: Total number of group member (small and large) | B20: Group of farms | C20: CAF | D20: > 10 000 | E20: 2
A21: Average # of temporary workers per group member | B21: Group of farms | C21: Calculated on basis of CAF | D21: 0-50 | E21: 0
A22: Average # of temporary workers per group member | B22: Group of farms | C22: Calculated on basis of CAF | D22: >50-150 | E22: 1
A23: Average # of temporary workers per group member | B23: Group of farms | C23: Calculated on basis of CAF | D23: >150 | E23: 2
A24: Total # of workers below 18 years | B24: Single & Multi Farm + Group of farms | C24: CAF | D24: 0 | E24: 0 | F24: Including temporary, permanent and migrant workers
A25: Total # of workers below 18 years | B25: Single & Multi Farm + Group of farms | C25: CAF | D25: 1 - 2 | E25: 1
A26: Total # of workers below 18 years | B26: Single & Multi Farm + Group of farms | C26: CAF | D26: > 2 | E26: 2
A27: Percentage of large farm group members | B27: Group of farms | C27: Calculated on basis of CAF | D27: 0% of certified group members | E27: 0
A28: Percentage of large farm group members | B28: Group of farms | C28: Calculated on basis of CAF | D28: >0% - 10% of certified group members | E28: 1
A29: Percentage of large farm group members | B29: Group of farms | C29: Calculated on basis of CAF | D29: > 10% of certified group members | E29: 2
A30: Total # of labor providers used | B30: Single & Multi Farm + Group of farms | C30: Calculated on basis of CAF | D30: 0 | E30: 0 | F30: Assumption: the more labor providers, the more challenging to ensure they meet the requirements on worker related point in 5.3. and 5.5. and the risk that the CH is not meeting it either on the other points
A31: Total # of labor providers used | B31: Single & Multi Farm + Group of farms | C31: Calculated on basis of CAF | D31: > 0 | E31: 1
A32: # of houses provided to workers | B32: Single & Multi Farm | C32: CAF | D32: 0 | E32: 0
A33: # of houses provided to workers | B33: Single & Multi Farm | C33: CAF | D33: 1 - 10 | E33: 1
A34: # of houses provided to workers | B34: Single & Multi Farm | C34: CAF | D34: > 10 | E34: 2
A35: Total # of permanent workers | B35: Single & Multi Farm | C35: CAF | D35: 0 - 20 | E35: 0 | F35: 48% of individual / multisite CH have up to 20 permanent workers
A36: Total # of permanent workers | B36: Single & Multi Farm | C36: CAF | D36: > 20 - 50 | E36: 1 | F36: 74% of individual / multisite CH have between 0 and 50 permanent workers
A37: Total # of permanent workers | B37: Single & Multi Farm | C37: CAF | D37: > 50 | E37: 2
A38: Total # of temporary workers | B38: Single & Multi Farm | C38: CAF | D38: 0 - 20 | E38: 0 | F38: 47% of individual / multisite CH have up to 20 temporary workers
A39: Total # of temporary workers | B39: Single & Multi Farm | C39: CAF | D39: > 20 - 100 | E39: 1 | F39: 80% of individual / multisite CH have between 0 and 100 temporary workers
A40: Total # of temporary workers | B40: Single & Multi Farm | C40: CAF | D40: > 100 | E40: 2
...
